BEGIN:VCALENDAR
VERSION:2.0
PRODID:https://www.kufer.de/kuferweb / DE
METHOD:PUBLISH
CALSCALE:GREGORIAN
X-WR-TIMEZONE:Europe/Berlin
BEGIN:VTIMEZONE
TZID:Europe/Berlin
X-LIC-LOCATION:Europe/Berlin
BEGIN:DAYLIGHT
TZOFFSETFROM:+0100
TZOFFSETTO:+0200
TZNAME:CEST
DTSTART:19700329T020000
RRULE:FREQ=YEARLY;INTERVAL=1;BYDAY=-1SU;BYMONTH=3
END:DAYLIGHT
BEGIN:STANDARD
TZOFFSETFROM:+0200
TZOFFSETTO:+0100
TZNAME:CET
DTSTART:19701025T030000
RRULE:FREQ=YEARLY;INTERVAL=1;BYDAY=-1SU;BYMONTH=10
END:STANDARD
END:VTIMEZONE
BEGIN:VEVENT
DTSTAMP:20260421T122101
DTSTART;TZID=Europe/Berlin:20260916T083000
DTEND;TZID=Europe/Berlin:20260916T093000
UID:W35156129-20260916T083000@VHSBÖBLINGEN-SINDELFINGEN
SUMMARY:Bodyfitness / Bodyforming (W35156129) 
LOCATION:SC, Gemeindehalle, Kleiner Saal, Im Hasenbühl 7, 71101 Schönaich
END:VEVENT
BEGIN:VEVENT
DTSTAMP:20260421T122101
DTSTART;TZID=Europe/Berlin:20260923T083000
DTEND;TZID=Europe/Berlin:20260923T093000
UID:W35156129-20260923T083000@VHSBÖBLINGEN-SINDELFINGEN
SUMMARY:Bodyfitness / Bodyforming (W35156129) 
LOCATION:SC, Gemeindehalle, Kleiner Saal, Im Hasenbühl 7, 71101 Schönaich
END:VEVENT
BEGIN:VEVENT
DTSTAMP:20260421T122101
DTSTART;TZID=Europe/Berlin:20260930T083000
DTEND;TZID=Europe/Berlin:20260930T093000
UID:W35156129-20260930T083000@VHSBÖBLINGEN-SINDELFINGEN
SUMMARY:Bodyfitness / Bodyforming (W35156129) 
LOCATION:SC, Gemeindehalle, Kleiner Saal, Im Hasenbühl 7, 71101 Schönaich
END:VEVENT
BEGIN:VEVENT
DTSTAMP:20260421T122101
DTSTART;TZID=Europe/Berlin:20261007T083000
DTEND;TZID=Europe/Berlin:20261007T093000
UID:W35156129-20261007T083000@VHSBÖBLINGEN-SINDELFINGEN
SUMMARY:Bodyfitness / Bodyforming (W35156129) 
LOCATION:SC, Gemeindehalle, Kleiner Saal, Im Hasenbühl 7, 71101 Schönaich
END:VEVENT
BEGIN:VEVENT
DTSTAMP:20260421T122101
DTSTART;TZID=Europe/Berlin:20261014T083000
DTEND;TZID=Europe/Berlin:20261014T093000
UID:W35156129-20261014T083000@VHSBÖBLINGEN-SINDELFINGEN
SUMMARY:Bodyfitness / Bodyforming (W35156129) 
LOCATION:SC, Gemeindehalle, Kleiner Saal, Im Hasenbühl 7, 71101 Schönaich
END:VEVENT
BEGIN:VEVENT
DTSTAMP:20260421T122101
DTSTART;TZID=Europe/Berlin:20261021T083000
DTEND;TZID=Europe/Berlin:20261021T093000
UID:W35156129-20261021T083000@VHSBÖBLINGEN-SINDELFINGEN
SUMMARY:Bodyfitness / Bodyforming (W35156129) 
LOCATION:SC, Gemeindehalle, Kleiner Saal, Im Hasenbühl 7, 71101 Schönaich
END:VEVENT
BEGIN:VEVENT
DTSTAMP:20260421T122101
DTSTART;TZID=Europe/Berlin:20261104T083000
DTEND;TZID=Europe/Berlin:20261104T093000
UID:W35156129-20261104T083000@VHSBÖBLINGEN-SINDELFINGEN
SUMMARY:Bodyfitness / Bodyforming (W35156129) 
LOCATION:SC, Gemeindehalle, Kleiner Saal, Im Hasenbühl 7, 71101 Schönaich
END:VEVENT
BEGIN:VEVENT
DTSTAMP:20260421T122101
DTSTART;TZID=Europe/Berlin:20261111T083000
DTEND;TZID=Europe/Berlin:20261111T093000
UID:W35156129-20261111T083000@VHSBÖBLINGEN-SINDELFINGEN
SUMMARY:Bodyfitness / Bodyforming (W35156129) 
LOCATION:SC, Gemeindehalle, Kleiner Saal, Im Hasenbühl 7, 71101 Schönaich
END:VEVENT
BEGIN:VEVENT
DTSTAMP:20260421T122101
DTSTART;TZID=Europe/Berlin:20261118T083000
DTEND;TZID=Europe/Berlin:20261118T093000
UID:W35156129-20261118T083000@VHSBÖBLINGEN-SINDELFINGEN
SUMMARY:Bodyfitness / Bodyforming (W35156129) 
LOCATION:SC, Gemeindehalle, Kleiner Saal, Im Hasenbühl 7, 71101 Schönaich
END:VEVENT
BEGIN:VEVENT
DTSTAMP:20260421T122101
DTSTART;TZID=Europe/Berlin:20261125T083000
DTEND;TZID=Europe/Berlin:20261125T093000
UID:W35156129-20261125T083000@VHSBÖBLINGEN-SINDELFINGEN
SUMMARY:Bodyfitness / Bodyforming (W35156129) 
LOCATION:SC, Gemeindehalle, Kleiner Saal, Im Hasenbühl 7, 71101 Schönaich
END:VEVENT
BEGIN:VEVENT
DTSTAMP:20260421T122101
DTSTART;TZID=Europe/Berlin:20261202T083000
DTEND;TZID=Europe/Berlin:20261202T093000
UID:W35156129-20261202T083000@VHSBÖBLINGEN-SINDELFINGEN
SUMMARY:Bodyfitness / Bodyforming (W35156129) 
LOCATION:SC, Gemeindehalle, Kleiner Saal, Im Hasenbühl 7, 71101 Schönaich
END:VEVENT
BEGIN:VEVENT
DTSTAMP:20260421T122101
DTSTART;TZID=Europe/Berlin:20261209T083000
DTEND;TZID=Europe/Berlin:20261209T093000
UID:W35156129-20261209T083000@VHSBÖBLINGEN-SINDELFINGEN
SUMMARY:Bodyfitness / Bodyforming (W35156129) 
LOCATION:SC, Gemeindehalle, Kleiner Saal, Im Hasenbühl 7, 71101 Schönaich
END:VEVENT
BEGIN:VEVENT
DTSTAMP:20260421T122101
DTSTART;TZID=Europe/Berlin:20261216T083000
DTEND;TZID=Europe/Berlin:20261216T093000
UID:W35156129-20261216T083000@VHSBÖBLINGEN-SINDELFINGEN
SUMMARY:Bodyfitness / Bodyforming (W35156129) 
LOCATION:SC, Gemeindehalle, Kleiner Saal, Im Hasenbühl 7, 71101 Schönaich
END:VEVENT
BEGIN:VEVENT
DTSTAMP:20260421T122101
DTSTART;TZID=Europe/Berlin:20270113T083000
DTEND;TZID=Europe/Berlin:20270113T093000
UID:W35156129-20270113T083000@VHSBÖBLINGEN-SINDELFINGEN
SUMMARY:Bodyfitness / Bodyforming (W35156129) 
LOCATION:SC, Gemeindehalle, Kleiner Saal, Im Hasenbühl 7, 71101 Schönaich
END:VEVENT
BEGIN:VEVENT
DTSTAMP:20260421T122101
DTSTART;TZID=Europe/Berlin:20270120T083000
DTEND;TZID=Europe/Berlin:20270120T093000
UID:W35156129-20270120T083000@VHSBÖBLINGEN-SINDELFINGEN
SUMMARY:Bodyfitness / Bodyforming (W35156129) 
LOCATION:SC, Gemeindehalle, Kleiner Saal, Im Hasenbühl 7, 71101 Schönaich
END:VEVENT
BEGIN:VEVENT
DTSTAMP:20260421T122101
DTSTART;TZID=Europe/Berlin:20270127T083000
DTEND;TZID=Europe/Berlin:20270127T093000
UID:W35156129-20270127T083000@VHSBÖBLINGEN-SINDELFINGEN
SUMMARY:Bodyfitness / Bodyforming (W35156129) 
LOCATION:SC, Gemeindehalle, Kleiner Saal, Im Hasenbühl 7, 71101 Schönaich
END:VEVENT
BEGIN:VEVENT
DTSTAMP:20260421T122101
DTSTART;TZID=Europe/Berlin:20270203T083000
DTEND;TZID=Europe/Berlin:20270203T093000
UID:W35156129-20270203T083000@VHSBÖBLINGEN-SINDELFINGEN
SUMMARY:Bodyfitness / Bodyforming (W35156129) 
LOCATION:SC, Gemeindehalle, Kleiner Saal, Im Hasenbühl 7, 71101 Schönaich
END:VEVENT
END:VCALENDAR