BEGIN:VCALENDAR
VERSION:2.0
PRODID:https://www.kufer.de/kuferweb / DE
METHOD:PUBLISH
CALSCALE:GREGORIAN
X-WR-TIMEZONE:Europe/Berlin
BEGIN:VTIMEZONE
TZID:Europe/Berlin
X-LIC-LOCATION:Europe/Berlin
BEGIN:DAYLIGHT
TZOFFSETFROM:+0100
TZOFFSETTO:+0200
TZNAME:CEST
DTSTART:19700329T020000
RRULE:FREQ=YEARLY;INTERVAL=1;BYDAY=-1SU;BYMONTH=3
END:DAYLIGHT
BEGIN:STANDARD
TZOFFSETFROM:+0200
TZOFFSETTO:+0100
TZNAME:CET
DTSTART:19701025T030000
RRULE:FREQ=YEARLY;INTERVAL=1;BYDAY=-1SU;BYMONTH=10
END:STANDARD
END:VTIMEZONE
BEGIN:VEVENT
DTSTAMP:20260421T144404
DTSTART;TZID=Europe/Berlin:20260914T181500
DTEND;TZID=Europe/Berlin:20260914T191500
UID:W35155611-20260914T181500@VHSBÖBLINGEN-SINDELFINGEN
SUMMARY:Bodyfitness / Bodyforming (W35155611) 
LOCATION:AI, Sonnenberghalle, Restaurant, Feldbergstr. 26, 71134 Aidlingen
END:VEVENT
BEGIN:VEVENT
DTSTAMP:20260421T144404
DTSTART;TZID=Europe/Berlin:20260921T181500
DTEND;TZID=Europe/Berlin:20260921T191500
UID:W35155611-20260921T181500@VHSBÖBLINGEN-SINDELFINGEN
SUMMARY:Bodyfitness / Bodyforming (W35155611) 
LOCATION:AI, Sonnenberghalle, Restaurant, Feldbergstr. 26, 71134 Aidlingen
END:VEVENT
BEGIN:VEVENT
DTSTAMP:20260421T144404
DTSTART;TZID=Europe/Berlin:20260928T181500
DTEND;TZID=Europe/Berlin:20260928T191500
UID:W35155611-20260928T181500@VHSBÖBLINGEN-SINDELFINGEN
SUMMARY:Bodyfitness / Bodyforming (W35155611) 
LOCATION:AI, Sonnenberghalle, Restaurant, Feldbergstr. 26, 71134 Aidlingen
END:VEVENT
BEGIN:VEVENT
DTSTAMP:20260421T144404
DTSTART;TZID=Europe/Berlin:20261005T181500
DTEND;TZID=Europe/Berlin:20261005T191500
UID:W35155611-20261005T181500@VHSBÖBLINGEN-SINDELFINGEN
SUMMARY:Bodyfitness / Bodyforming (W35155611) 
LOCATION:AI, Sonnenberghalle, Restaurant, Feldbergstr. 26, 71134 Aidlingen
END:VEVENT
BEGIN:VEVENT
DTSTAMP:20260421T144404
DTSTART;TZID=Europe/Berlin:20261012T181500
DTEND;TZID=Europe/Berlin:20261012T191500
UID:W35155611-20261012T181500@VHSBÖBLINGEN-SINDELFINGEN
SUMMARY:Bodyfitness / Bodyforming (W35155611) 
LOCATION:AI, Sonnenberghalle, Restaurant, Feldbergstr. 26, 71134 Aidlingen
END:VEVENT
BEGIN:VEVENT
DTSTAMP:20260421T144404
DTSTART;TZID=Europe/Berlin:20261019T181500
DTEND;TZID=Europe/Berlin:20261019T191500
UID:W35155611-20261019T181500@VHSBÖBLINGEN-SINDELFINGEN
SUMMARY:Bodyfitness / Bodyforming (W35155611) 
LOCATION:AI, Sonnenberghalle, Restaurant, Feldbergstr. 26, 71134 Aidlingen
END:VEVENT
BEGIN:VEVENT
DTSTAMP:20260421T144404
DTSTART;TZID=Europe/Berlin:20261102T181500
DTEND;TZID=Europe/Berlin:20261102T191500
UID:W35155611-20261102T181500@VHSBÖBLINGEN-SINDELFINGEN
SUMMARY:Bodyfitness / Bodyforming (W35155611) 
LOCATION:AI, Sonnenberghalle, Restaurant, Feldbergstr. 26, 71134 Aidlingen
END:VEVENT
BEGIN:VEVENT
DTSTAMP:20260421T144404
DTSTART;TZID=Europe/Berlin:20261109T181500
DTEND;TZID=Europe/Berlin:20261109T191500
UID:W35155611-20261109T181500@VHSBÖBLINGEN-SINDELFINGEN
SUMMARY:Bodyfitness / Bodyforming (W35155611) 
LOCATION:AI, Sonnenberghalle, Restaurant, Feldbergstr. 26, 71134 Aidlingen
END:VEVENT
BEGIN:VEVENT
DTSTAMP:20260421T144404
DTSTART;TZID=Europe/Berlin:20261116T181500
DTEND;TZID=Europe/Berlin:20261116T191500
UID:W35155611-20261116T181500@VHSBÖBLINGEN-SINDELFINGEN
SUMMARY:Bodyfitness / Bodyforming (W35155611) 
LOCATION:AI, Sonnenberghalle, Restaurant, Feldbergstr. 26, 71134 Aidlingen
END:VEVENT
BEGIN:VEVENT
DTSTAMP:20260421T144404
DTSTART;TZID=Europe/Berlin:20261123T181500
DTEND;TZID=Europe/Berlin:20261123T191500
UID:W35155611-20261123T181500@VHSBÖBLINGEN-SINDELFINGEN
SUMMARY:Bodyfitness / Bodyforming (W35155611) 
LOCATION:AI, Sonnenberghalle, Restaurant, Feldbergstr. 26, 71134 Aidlingen
END:VEVENT
BEGIN:VEVENT
DTSTAMP:20260421T144404
DTSTART;TZID=Europe/Berlin:20261130T181500
DTEND;TZID=Europe/Berlin:20261130T191500
UID:W35155611-20261130T181500@VHSBÖBLINGEN-SINDELFINGEN
SUMMARY:Bodyfitness / Bodyforming (W35155611) 
LOCATION:AI, Sonnenberghalle, Restaurant, Feldbergstr. 26, 71134 Aidlingen
END:VEVENT
BEGIN:VEVENT
DTSTAMP:20260421T144404
DTSTART;TZID=Europe/Berlin:20261207T181500
DTEND;TZID=Europe/Berlin:20261207T191500
UID:W35155611-20261207T181500@VHSBÖBLINGEN-SINDELFINGEN
SUMMARY:Bodyfitness / Bodyforming (W35155611) 
LOCATION:AI, Sonnenberghalle, Restaurant, Feldbergstr. 26, 71134 Aidlingen
END:VEVENT
BEGIN:VEVENT
DTSTAMP:20260421T144404
DTSTART;TZID=Europe/Berlin:20261214T181500
DTEND;TZID=Europe/Berlin:20261214T191500
UID:W35155611-20261214T181500@VHSBÖBLINGEN-SINDELFINGEN
SUMMARY:Bodyfitness / Bodyforming (W35155611) 
LOCATION:AI, Sonnenberghalle, Restaurant, Feldbergstr. 26, 71134 Aidlingen
END:VEVENT
BEGIN:VEVENT
DTSTAMP:20260421T144404
DTSTART;TZID=Europe/Berlin:20261221T181500
DTEND;TZID=Europe/Berlin:20261221T191500
UID:W35155611-20261221T181500@VHSBÖBLINGEN-SINDELFINGEN
SUMMARY:Bodyfitness / Bodyforming (W35155611) 
LOCATION:AI, Sonnenberghalle, Restaurant, Feldbergstr. 26, 71134 Aidlingen
END:VEVENT
BEGIN:VEVENT
DTSTAMP:20260421T144404
DTSTART;TZID=Europe/Berlin:20270111T181500
DTEND;TZID=Europe/Berlin:20270111T191500
UID:W35155611-20270111T181500@VHSBÖBLINGEN-SINDELFINGEN
SUMMARY:Bodyfitness / Bodyforming (W35155611) 
LOCATION:AI, Sonnenberghalle, Restaurant, Feldbergstr. 26, 71134 Aidlingen
END:VEVENT
BEGIN:VEVENT
DTSTAMP:20260421T144404
DTSTART;TZID=Europe/Berlin:20270118T181500
DTEND;TZID=Europe/Berlin:20270118T191500
UID:W35155611-20270118T181500@VHSBÖBLINGEN-SINDELFINGEN
SUMMARY:Bodyfitness / Bodyforming (W35155611) 
LOCATION:AI, Sonnenberghalle, Restaurant, Feldbergstr. 26, 71134 Aidlingen
END:VEVENT
BEGIN:VEVENT
DTSTAMP:20260421T144404
DTSTART;TZID=Europe/Berlin:20270125T181500
DTEND;TZID=Europe/Berlin:20270125T191500
UID:W35155611-20270125T181500@VHSBÖBLINGEN-SINDELFINGEN
SUMMARY:Bodyfitness / Bodyforming (W35155611) 
LOCATION:AI, Sonnenberghalle, Restaurant, Feldbergstr. 26, 71134 Aidlingen
END:VEVENT
BEGIN:VEVENT
DTSTAMP:20260421T144404
DTSTART;TZID=Europe/Berlin:20270201T181500
DTEND;TZID=Europe/Berlin:20270201T191500
UID:W35155611-20270201T181500@VHSBÖBLINGEN-SINDELFINGEN
SUMMARY:Bodyfitness / Bodyforming (W35155611) 
LOCATION:AI, Sonnenberghalle, Restaurant, Feldbergstr. 26, 71134 Aidlingen
END:VEVENT
END:VCALENDAR