BEGIN:VCALENDAR
VERSION:2.0
PRODID:https://www.kufer.de/kuferweb / DE
METHOD:PUBLISH
CALSCALE:GREGORIAN
X-WR-TIMEZONE:Europe/Berlin
BEGIN:VTIMEZONE
TZID:Europe/Berlin
X-LIC-LOCATION:Europe/Berlin
BEGIN:DAYLIGHT
TZOFFSETFROM:+0100
TZOFFSETTO:+0200
TZNAME:CEST
DTSTART:19700329T020000
RRULE:FREQ=YEARLY;INTERVAL=1;BYDAY=-1SU;BYMONTH=3
END:DAYLIGHT
BEGIN:STANDARD
TZOFFSETFROM:+0200
TZOFFSETTO:+0100
TZNAME:CET
DTSTART:19701025T030000
RRULE:FREQ=YEARLY;INTERVAL=1;BYDAY=-1SU;BYMONTH=10
END:STANDARD
END:VTIMEZONE
BEGIN:VEVENT
DTSTAMP:20260420T230120
DTSTART;TZID=Europe/Berlin:20260914T191500
DTEND;TZID=Europe/Berlin:20260914T203000
UID:W35155218-20260914T191500@VHSBÖBLINGEN-SINDELFINGEN
SUMMARY:Bodyfitness / Bodyforming (W35155218) 
LOCATION:GR, Grundschule Dätzingen, Turnhalle, Döffinger Str. 55, 71120 Grafenau
END:VEVENT
BEGIN:VEVENT
DTSTAMP:20260420T230120
DTSTART;TZID=Europe/Berlin:20260921T191500
DTEND;TZID=Europe/Berlin:20260921T203000
UID:W35155218-20260921T191500@VHSBÖBLINGEN-SINDELFINGEN
SUMMARY:Bodyfitness / Bodyforming (W35155218) 
LOCATION:GR, Grundschule Dätzingen, Turnhalle, Döffinger Str. 55, 71120 Grafenau
END:VEVENT
BEGIN:VEVENT
DTSTAMP:20260420T230120
DTSTART;TZID=Europe/Berlin:20260928T191500
DTEND;TZID=Europe/Berlin:20260928T203000
UID:W35155218-20260928T191500@VHSBÖBLINGEN-SINDELFINGEN
SUMMARY:Bodyfitness / Bodyforming (W35155218) 
LOCATION:GR, Grundschule Dätzingen, Turnhalle, Döffinger Str. 55, 71120 Grafenau
END:VEVENT
BEGIN:VEVENT
DTSTAMP:20260420T230120
DTSTART;TZID=Europe/Berlin:20261005T191500
DTEND;TZID=Europe/Berlin:20261005T203000
UID:W35155218-20261005T191500@VHSBÖBLINGEN-SINDELFINGEN
SUMMARY:Bodyfitness / Bodyforming (W35155218) 
LOCATION:GR, Grundschule Dätzingen, Turnhalle, Döffinger Str. 55, 71120 Grafenau
END:VEVENT
BEGIN:VEVENT
DTSTAMP:20260420T230120
DTSTART;TZID=Europe/Berlin:20261012T191500
DTEND;TZID=Europe/Berlin:20261012T203000
UID:W35155218-20261012T191500@VHSBÖBLINGEN-SINDELFINGEN
SUMMARY:Bodyfitness / Bodyforming (W35155218) 
LOCATION:GR, Grundschule Dätzingen, Turnhalle, Döffinger Str. 55, 71120 Grafenau
END:VEVENT
BEGIN:VEVENT
DTSTAMP:20260420T230120
DTSTART;TZID=Europe/Berlin:20261019T191500
DTEND;TZID=Europe/Berlin:20261019T203000
UID:W35155218-20261019T191500@VHSBÖBLINGEN-SINDELFINGEN
SUMMARY:Bodyfitness / Bodyforming (W35155218) 
LOCATION:GR, Grundschule Dätzingen, Turnhalle, Döffinger Str. 55, 71120 Grafenau
END:VEVENT
BEGIN:VEVENT
DTSTAMP:20260420T230120
DTSTART;TZID=Europe/Berlin:20261102T191500
DTEND;TZID=Europe/Berlin:20261102T203000
UID:W35155218-20261102T191500@VHSBÖBLINGEN-SINDELFINGEN
SUMMARY:Bodyfitness / Bodyforming (W35155218) 
LOCATION:GR, Grundschule Dätzingen, Turnhalle, Döffinger Str. 55, 71120 Grafenau
END:VEVENT
BEGIN:VEVENT
DTSTAMP:20260420T230120
DTSTART;TZID=Europe/Berlin:20261109T191500
DTEND;TZID=Europe/Berlin:20261109T203000
UID:W35155218-20261109T191500@VHSBÖBLINGEN-SINDELFINGEN
SUMMARY:Bodyfitness / Bodyforming (W35155218) 
LOCATION:GR, Grundschule Dätzingen, Turnhalle, Döffinger Str. 55, 71120 Grafenau
END:VEVENT
BEGIN:VEVENT
DTSTAMP:20260420T230120
DTSTART;TZID=Europe/Berlin:20261116T191500
DTEND;TZID=Europe/Berlin:20261116T203000
UID:W35155218-20261116T191500@VHSBÖBLINGEN-SINDELFINGEN
SUMMARY:Bodyfitness / Bodyforming (W35155218) 
LOCATION:GR, Grundschule Dätzingen, Turnhalle, Döffinger Str. 55, 71120 Grafenau
END:VEVENT
BEGIN:VEVENT
DTSTAMP:20260420T230120
DTSTART;TZID=Europe/Berlin:20261123T191500
DTEND;TZID=Europe/Berlin:20261123T203000
UID:W35155218-20261123T191500@VHSBÖBLINGEN-SINDELFINGEN
SUMMARY:Bodyfitness / Bodyforming (W35155218) 
LOCATION:GR, Grundschule Dätzingen, Turnhalle, Döffinger Str. 55, 71120 Grafenau
END:VEVENT
BEGIN:VEVENT
DTSTAMP:20260420T230120
DTSTART;TZID=Europe/Berlin:20261130T191500
DTEND;TZID=Europe/Berlin:20261130T203000
UID:W35155218-20261130T191500@VHSBÖBLINGEN-SINDELFINGEN
SUMMARY:Bodyfitness / Bodyforming (W35155218) 
LOCATION:GR, Grundschule Dätzingen, Turnhalle, Döffinger Str. 55, 71120 Grafenau
END:VEVENT
BEGIN:VEVENT
DTSTAMP:20260420T230120
DTSTART;TZID=Europe/Berlin:20261207T191500
DTEND;TZID=Europe/Berlin:20261207T203000
UID:W35155218-20261207T191500@VHSBÖBLINGEN-SINDELFINGEN
SUMMARY:Bodyfitness / Bodyforming (W35155218) 
LOCATION:GR, Grundschule Dätzingen, Turnhalle, Döffinger Str. 55, 71120 Grafenau
END:VEVENT
BEGIN:VEVENT
DTSTAMP:20260420T230120
DTSTART;TZID=Europe/Berlin:20261214T191500
DTEND;TZID=Europe/Berlin:20261214T203000
UID:W35155218-20261214T191500@VHSBÖBLINGEN-SINDELFINGEN
SUMMARY:Bodyfitness / Bodyforming (W35155218) 
LOCATION:GR, Grundschule Dätzingen, Turnhalle, Döffinger Str. 55, 71120 Grafenau
END:VEVENT
BEGIN:VEVENT
DTSTAMP:20260420T230120
DTSTART;TZID=Europe/Berlin:20261221T191500
DTEND;TZID=Europe/Berlin:20261221T203000
UID:W35155218-20261221T191500@VHSBÖBLINGEN-SINDELFINGEN
SUMMARY:Bodyfitness / Bodyforming (W35155218) 
LOCATION:GR, Grundschule Dätzingen, Turnhalle, Döffinger Str. 55, 71120 Grafenau
END:VEVENT
BEGIN:VEVENT
DTSTAMP:20260420T230120
DTSTART;TZID=Europe/Berlin:20270111T191500
DTEND;TZID=Europe/Berlin:20270111T203000
UID:W35155218-20270111T191500@VHSBÖBLINGEN-SINDELFINGEN
SUMMARY:Bodyfitness / Bodyforming (W35155218) 
LOCATION:GR, Grundschule Dätzingen, Turnhalle, Döffinger Str. 55, 71120 Grafenau
END:VEVENT
BEGIN:VEVENT
DTSTAMP:20260420T230120
DTSTART;TZID=Europe/Berlin:20270118T191500
DTEND;TZID=Europe/Berlin:20270118T203000
UID:W35155218-20270118T191500@VHSBÖBLINGEN-SINDELFINGEN
SUMMARY:Bodyfitness / Bodyforming (W35155218) 
LOCATION:GR, Grundschule Dätzingen, Turnhalle, Döffinger Str. 55, 71120 Grafenau
END:VEVENT
BEGIN:VEVENT
DTSTAMP:20260420T230120
DTSTART;TZID=Europe/Berlin:20270125T191500
DTEND;TZID=Europe/Berlin:20270125T203000
UID:W35155218-20270125T191500@VHSBÖBLINGEN-SINDELFINGEN
SUMMARY:Bodyfitness / Bodyforming (W35155218) 
LOCATION:GR, Grundschule Dätzingen, Turnhalle, Döffinger Str. 55, 71120 Grafenau
END:VEVENT
BEGIN:VEVENT
DTSTAMP:20260420T230120
DTSTART;TZID=Europe/Berlin:20270201T191500
DTEND;TZID=Europe/Berlin:20270201T203000
UID:W35155218-20270201T191500@VHSBÖBLINGEN-SINDELFINGEN
SUMMARY:Bodyfitness / Bodyforming (W35155218) 
LOCATION:GR, Grundschule Dätzingen, Turnhalle, Döffinger Str. 55, 71120 Grafenau
END:VEVENT
END:VCALENDAR