BEGIN:VCALENDAR
VERSION:2.0
PRODID:https://www.kufer.de/kuferweb / DE
METHOD:PUBLISH
CALSCALE:GREGORIAN
X-WR-TIMEZONE:Europe/Berlin
BEGIN:VTIMEZONE
TZID:Europe/Berlin
X-LIC-LOCATION:Europe/Berlin
BEGIN:DAYLIGHT
TZOFFSETFROM:+0100
TZOFFSETTO:+0200
TZNAME:CEST
DTSTART:19700329T020000
RRULE:FREQ=YEARLY;INTERVAL=1;BYDAY=-1SU;BYMONTH=3
END:DAYLIGHT
BEGIN:STANDARD
TZOFFSETFROM:+0200
TZOFFSETTO:+0100
TZNAME:CET
DTSTART:19701025T030000
RRULE:FREQ=YEARLY;INTERVAL=1;BYDAY=-1SU;BYMONTH=10
END:STANDARD
END:VTIMEZONE
BEGIN:VEVENT
DTSTAMP:20260421T071523
DTSTART;TZID=Europe/Berlin:20260916T190000
DTEND;TZID=Europe/Berlin:20260916T200000
UID:W35155124-20260916T190000@VHSBÖBLINGEN-SINDELFINGEN
SUMMARY:Bodyfitness / Bodyforming (W35155124) 
LOCATION:Bürgerhaus Maichingen, Übungsraum 1, Sindelfinger Str. 44, 71069 Sindelfingen
END:VEVENT
BEGIN:VEVENT
DTSTAMP:20260421T071523
DTSTART;TZID=Europe/Berlin:20260923T190000
DTEND;TZID=Europe/Berlin:20260923T200000
UID:W35155124-20260923T190000@VHSBÖBLINGEN-SINDELFINGEN
SUMMARY:Bodyfitness / Bodyforming (W35155124) 
LOCATION:Bürgerhaus Maichingen, Übungsraum 1, Sindelfinger Str. 44, 71069 Sindelfingen
END:VEVENT
BEGIN:VEVENT
DTSTAMP:20260421T071523
DTSTART;TZID=Europe/Berlin:20260930T190000
DTEND;TZID=Europe/Berlin:20260930T200000
UID:W35155124-20260930T190000@VHSBÖBLINGEN-SINDELFINGEN
SUMMARY:Bodyfitness / Bodyforming (W35155124) 
LOCATION:Bürgerhaus Maichingen, Übungsraum 1, Sindelfinger Str. 44, 71069 Sindelfingen
END:VEVENT
BEGIN:VEVENT
DTSTAMP:20260421T071523
DTSTART;TZID=Europe/Berlin:20261007T190000
DTEND;TZID=Europe/Berlin:20261007T200000
UID:W35155124-20261007T190000@VHSBÖBLINGEN-SINDELFINGEN
SUMMARY:Bodyfitness / Bodyforming (W35155124) 
LOCATION:Bürgerhaus Maichingen, Übungsraum 1, Sindelfinger Str. 44, 71069 Sindelfingen
END:VEVENT
BEGIN:VEVENT
DTSTAMP:20260421T071523
DTSTART;TZID=Europe/Berlin:20261014T190000
DTEND;TZID=Europe/Berlin:20261014T200000
UID:W35155124-20261014T190000@VHSBÖBLINGEN-SINDELFINGEN
SUMMARY:Bodyfitness / Bodyforming (W35155124) 
LOCATION:Bürgerhaus Maichingen, Übungsraum 1, Sindelfinger Str. 44, 71069 Sindelfingen
END:VEVENT
BEGIN:VEVENT
DTSTAMP:20260421T071523
DTSTART;TZID=Europe/Berlin:20261021T190000
DTEND;TZID=Europe/Berlin:20261021T200000
UID:W35155124-20261021T190000@VHSBÖBLINGEN-SINDELFINGEN
SUMMARY:Bodyfitness / Bodyforming (W35155124) 
LOCATION:Bürgerhaus Maichingen, Übungsraum 1, Sindelfinger Str. 44, 71069 Sindelfingen
END:VEVENT
BEGIN:VEVENT
DTSTAMP:20260421T071523
DTSTART;TZID=Europe/Berlin:20261104T190000
DTEND;TZID=Europe/Berlin:20261104T200000
UID:W35155124-20261104T190000@VHSBÖBLINGEN-SINDELFINGEN
SUMMARY:Bodyfitness / Bodyforming (W35155124) 
LOCATION:Bürgerhaus Maichingen, Übungsraum 1, Sindelfinger Str. 44, 71069 Sindelfingen
END:VEVENT
BEGIN:VEVENT
DTSTAMP:20260421T071523
DTSTART;TZID=Europe/Berlin:20261111T190000
DTEND;TZID=Europe/Berlin:20261111T200000
UID:W35155124-20261111T190000@VHSBÖBLINGEN-SINDELFINGEN
SUMMARY:Bodyfitness / Bodyforming (W35155124) 
LOCATION:Bürgerhaus Maichingen, Übungsraum 1, Sindelfinger Str. 44, 71069 Sindelfingen
END:VEVENT
BEGIN:VEVENT
DTSTAMP:20260421T071523
DTSTART;TZID=Europe/Berlin:20261118T190000
DTEND;TZID=Europe/Berlin:20261118T200000
UID:W35155124-20261118T190000@VHSBÖBLINGEN-SINDELFINGEN
SUMMARY:Bodyfitness / Bodyforming (W35155124) 
LOCATION:Bürgerhaus Maichingen, Übungsraum 1, Sindelfinger Str. 44, 71069 Sindelfingen
END:VEVENT
BEGIN:VEVENT
DTSTAMP:20260421T071523
DTSTART;TZID=Europe/Berlin:20261125T190000
DTEND;TZID=Europe/Berlin:20261125T200000
UID:W35155124-20261125T190000@VHSBÖBLINGEN-SINDELFINGEN
SUMMARY:Bodyfitness / Bodyforming (W35155124) 
LOCATION:Bürgerhaus Maichingen, Übungsraum 1, Sindelfinger Str. 44, 71069 Sindelfingen
END:VEVENT
BEGIN:VEVENT
DTSTAMP:20260421T071523
DTSTART;TZID=Europe/Berlin:20261202T190000
DTEND;TZID=Europe/Berlin:20261202T200000
UID:W35155124-20261202T190000@VHSBÖBLINGEN-SINDELFINGEN
SUMMARY:Bodyfitness / Bodyforming (W35155124) 
LOCATION:Bürgerhaus Maichingen, Übungsraum 1, Sindelfinger Str. 44, 71069 Sindelfingen
END:VEVENT
BEGIN:VEVENT
DTSTAMP:20260421T071523
DTSTART;TZID=Europe/Berlin:20261209T190000
DTEND;TZID=Europe/Berlin:20261209T200000
UID:W35155124-20261209T190000@VHSBÖBLINGEN-SINDELFINGEN
SUMMARY:Bodyfitness / Bodyforming (W35155124) 
LOCATION:Bürgerhaus Maichingen, Übungsraum 1, Sindelfinger Str. 44, 71069 Sindelfingen
END:VEVENT
BEGIN:VEVENT
DTSTAMP:20260421T071523
DTSTART;TZID=Europe/Berlin:20261216T190000
DTEND;TZID=Europe/Berlin:20261216T200000
UID:W35155124-20261216T190000@VHSBÖBLINGEN-SINDELFINGEN
SUMMARY:Bodyfitness / Bodyforming (W35155124) 
LOCATION:Bürgerhaus Maichingen, Übungsraum 1, Sindelfinger Str. 44, 71069 Sindelfingen
END:VEVENT
BEGIN:VEVENT
DTSTAMP:20260421T071523
DTSTART;TZID=Europe/Berlin:20270113T190000
DTEND;TZID=Europe/Berlin:20270113T200000
UID:W35155124-20270113T190000@VHSBÖBLINGEN-SINDELFINGEN
SUMMARY:Bodyfitness / Bodyforming (W35155124) 
LOCATION:Bürgerhaus Maichingen, Übungsraum 1, Sindelfinger Str. 44, 71069 Sindelfingen
END:VEVENT
BEGIN:VEVENT
DTSTAMP:20260421T071523
DTSTART;TZID=Europe/Berlin:20270120T190000
DTEND;TZID=Europe/Berlin:20270120T200000
UID:W35155124-20270120T190000@VHSBÖBLINGEN-SINDELFINGEN
SUMMARY:Bodyfitness / Bodyforming (W35155124) 
LOCATION:Bürgerhaus Maichingen, Übungsraum 1, Sindelfinger Str. 44, 71069 Sindelfingen
END:VEVENT
BEGIN:VEVENT
DTSTAMP:20260421T071523
DTSTART;TZID=Europe/Berlin:20270127T190000
DTEND;TZID=Europe/Berlin:20270127T200000
UID:W35155124-20270127T190000@VHSBÖBLINGEN-SINDELFINGEN
SUMMARY:Bodyfitness / Bodyforming (W35155124) 
LOCATION:Bürgerhaus Maichingen, Übungsraum 1, Sindelfinger Str. 44, 71069 Sindelfingen
END:VEVENT
BEGIN:VEVENT
DTSTAMP:20260421T071523
DTSTART;TZID=Europe/Berlin:20270203T190000
DTEND;TZID=Europe/Berlin:20270203T200000
UID:W35155124-20270203T190000@VHSBÖBLINGEN-SINDELFINGEN
SUMMARY:Bodyfitness / Bodyforming (W35155124) 
LOCATION:Bürgerhaus Maichingen, Übungsraum 1, Sindelfinger Str. 44, 71069 Sindelfingen
END:VEVENT
END:VCALENDAR