BEGIN:VCALENDAR
VERSION:2.0
PRODID:https://www.kufer.de/kuferweb / DE
METHOD:PUBLISH
CALSCALE:GREGORIAN
X-WR-TIMEZONE:Europe/Berlin
BEGIN:VTIMEZONE
TZID:Europe/Berlin
X-LIC-LOCATION:Europe/Berlin
BEGIN:DAYLIGHT
TZOFFSETFROM:+0100
TZOFFSETTO:+0200
TZNAME:CEST
DTSTART:19700329T020000
RRULE:FREQ=YEARLY;INTERVAL=1;BYDAY=-1SU;BYMONTH=3
END:DAYLIGHT
BEGIN:STANDARD
TZOFFSETFROM:+0200
TZOFFSETTO:+0100
TZNAME:CET
DTSTART:19701025T030000
RRULE:FREQ=YEARLY;INTERVAL=1;BYDAY=-1SU;BYMONTH=10
END:STANDARD
END:VTIMEZONE
BEGIN:VEVENT
DTSTAMP:20260421T041422
DTSTART;TZID=Europe/Berlin:20260915T190000
DTEND;TZID=Europe/Berlin:20260915T200000
UID:W35154121-20260915T190000@VHSBÖBLINGEN-SINDELFINGEN
SUMMARY:Bodyfitness / Bodyforming (W35154121) 
LOCATION:HO, Grund- und Werkrealschule, Gymnastikpavillon, Berkenstr. 18, 71088 Holzgerlingen
END:VEVENT
BEGIN:VEVENT
DTSTAMP:20260421T041422
DTSTART;TZID=Europe/Berlin:20260922T190000
DTEND;TZID=Europe/Berlin:20260922T200000
UID:W35154121-20260922T190000@VHSBÖBLINGEN-SINDELFINGEN
SUMMARY:Bodyfitness / Bodyforming (W35154121) 
LOCATION:HO, Grund- und Werkrealschule, Gymnastikpavillon, Berkenstr. 18, 71088 Holzgerlingen
END:VEVENT
BEGIN:VEVENT
DTSTAMP:20260421T041422
DTSTART;TZID=Europe/Berlin:20260929T190000
DTEND;TZID=Europe/Berlin:20260929T200000
UID:W35154121-20260929T190000@VHSBÖBLINGEN-SINDELFINGEN
SUMMARY:Bodyfitness / Bodyforming (W35154121) 
LOCATION:HO, Grund- und Werkrealschule, Gymnastikpavillon, Berkenstr. 18, 71088 Holzgerlingen
END:VEVENT
BEGIN:VEVENT
DTSTAMP:20260421T041422
DTSTART;TZID=Europe/Berlin:20261006T190000
DTEND;TZID=Europe/Berlin:20261006T200000
UID:W35154121-20261006T190000@VHSBÖBLINGEN-SINDELFINGEN
SUMMARY:Bodyfitness / Bodyforming (W35154121) 
LOCATION:HO, Grund- und Werkrealschule, Gymnastikpavillon, Berkenstr. 18, 71088 Holzgerlingen
END:VEVENT
BEGIN:VEVENT
DTSTAMP:20260421T041422
DTSTART;TZID=Europe/Berlin:20261013T190000
DTEND;TZID=Europe/Berlin:20261013T200000
UID:W35154121-20261013T190000@VHSBÖBLINGEN-SINDELFINGEN
SUMMARY:Bodyfitness / Bodyforming (W35154121) 
LOCATION:HO, Grund- und Werkrealschule, Gymnastikpavillon, Berkenstr. 18, 71088 Holzgerlingen
END:VEVENT
BEGIN:VEVENT
DTSTAMP:20260421T041422
DTSTART;TZID=Europe/Berlin:20261020T190000
DTEND;TZID=Europe/Berlin:20261020T200000
UID:W35154121-20261020T190000@VHSBÖBLINGEN-SINDELFINGEN
SUMMARY:Bodyfitness / Bodyforming (W35154121) 
LOCATION:HO, Grund- und Werkrealschule, Gymnastikpavillon, Berkenstr. 18, 71088 Holzgerlingen
END:VEVENT
BEGIN:VEVENT
DTSTAMP:20260421T041422
DTSTART;TZID=Europe/Berlin:20261103T190000
DTEND;TZID=Europe/Berlin:20261103T200000
UID:W35154121-20261103T190000@VHSBÖBLINGEN-SINDELFINGEN
SUMMARY:Bodyfitness / Bodyforming (W35154121) 
LOCATION:HO, Grund- und Werkrealschule, Gymnastikpavillon, Berkenstr. 18, 71088 Holzgerlingen
END:VEVENT
BEGIN:VEVENT
DTSTAMP:20260421T041422
DTSTART;TZID=Europe/Berlin:20261110T190000
DTEND;TZID=Europe/Berlin:20261110T200000
UID:W35154121-20261110T190000@VHSBÖBLINGEN-SINDELFINGEN
SUMMARY:Bodyfitness / Bodyforming (W35154121) 
LOCATION:HO, Grund- und Werkrealschule, Gymnastikpavillon, Berkenstr. 18, 71088 Holzgerlingen
END:VEVENT
BEGIN:VEVENT
DTSTAMP:20260421T041422
DTSTART;TZID=Europe/Berlin:20261117T190000
DTEND;TZID=Europe/Berlin:20261117T200000
UID:W35154121-20261117T190000@VHSBÖBLINGEN-SINDELFINGEN
SUMMARY:Bodyfitness / Bodyforming (W35154121) 
LOCATION:HO, Grund- und Werkrealschule, Gymnastikpavillon, Berkenstr. 18, 71088 Holzgerlingen
END:VEVENT
BEGIN:VEVENT
DTSTAMP:20260421T041422
DTSTART;TZID=Europe/Berlin:20261124T190000
DTEND;TZID=Europe/Berlin:20261124T200000
UID:W35154121-20261124T190000@VHSBÖBLINGEN-SINDELFINGEN
SUMMARY:Bodyfitness / Bodyforming (W35154121) 
LOCATION:HO, Grund- und Werkrealschule, Gymnastikpavillon, Berkenstr. 18, 71088 Holzgerlingen
END:VEVENT
BEGIN:VEVENT
DTSTAMP:20260421T041422
DTSTART;TZID=Europe/Berlin:20261201T190000
DTEND;TZID=Europe/Berlin:20261201T200000
UID:W35154121-20261201T190000@VHSBÖBLINGEN-SINDELFINGEN
SUMMARY:Bodyfitness / Bodyforming (W35154121) 
LOCATION:HO, Grund- und Werkrealschule, Gymnastikpavillon, Berkenstr. 18, 71088 Holzgerlingen
END:VEVENT
BEGIN:VEVENT
DTSTAMP:20260421T041422
DTSTART;TZID=Europe/Berlin:20261208T190000
DTEND;TZID=Europe/Berlin:20261208T200000
UID:W35154121-20261208T190000@VHSBÖBLINGEN-SINDELFINGEN
SUMMARY:Bodyfitness / Bodyforming (W35154121) 
LOCATION:HO, Grund- und Werkrealschule, Gymnastikpavillon, Berkenstr. 18, 71088 Holzgerlingen
END:VEVENT
BEGIN:VEVENT
DTSTAMP:20260421T041422
DTSTART;TZID=Europe/Berlin:20261215T190000
DTEND;TZID=Europe/Berlin:20261215T200000
UID:W35154121-20261215T190000@VHSBÖBLINGEN-SINDELFINGEN
SUMMARY:Bodyfitness / Bodyforming (W35154121) 
LOCATION:HO, Grund- und Werkrealschule, Gymnastikpavillon, Berkenstr. 18, 71088 Holzgerlingen
END:VEVENT
BEGIN:VEVENT
DTSTAMP:20260421T041422
DTSTART;TZID=Europe/Berlin:20261222T190000
DTEND;TZID=Europe/Berlin:20261222T200000
UID:W35154121-20261222T190000@VHSBÖBLINGEN-SINDELFINGEN
SUMMARY:Bodyfitness / Bodyforming (W35154121) 
LOCATION:HO, Grund- und Werkrealschule, Gymnastikpavillon, Berkenstr. 18, 71088 Holzgerlingen
END:VEVENT
BEGIN:VEVENT
DTSTAMP:20260421T041422
DTSTART;TZID=Europe/Berlin:20270112T190000
DTEND;TZID=Europe/Berlin:20270112T200000
UID:W35154121-20270112T190000@VHSBÖBLINGEN-SINDELFINGEN
SUMMARY:Bodyfitness / Bodyforming (W35154121) 
LOCATION:HO, Grund- und Werkrealschule, Gymnastikpavillon, Berkenstr. 18, 71088 Holzgerlingen
END:VEVENT
BEGIN:VEVENT
DTSTAMP:20260421T041422
DTSTART;TZID=Europe/Berlin:20270119T190000
DTEND;TZID=Europe/Berlin:20270119T200000
UID:W35154121-20270119T190000@VHSBÖBLINGEN-SINDELFINGEN
SUMMARY:Bodyfitness / Bodyforming (W35154121) 
LOCATION:HO, Grund- und Werkrealschule, Gymnastikpavillon, Berkenstr. 18, 71088 Holzgerlingen
END:VEVENT
BEGIN:VEVENT
DTSTAMP:20260421T041422
DTSTART;TZID=Europe/Berlin:20270126T190000
DTEND;TZID=Europe/Berlin:20270126T200000
UID:W35154121-20270126T190000@VHSBÖBLINGEN-SINDELFINGEN
SUMMARY:Bodyfitness / Bodyforming (W35154121) 
LOCATION:HO, Grund- und Werkrealschule, Gymnastikpavillon, Berkenstr. 18, 71088 Holzgerlingen
END:VEVENT
BEGIN:VEVENT
DTSTAMP:20260421T041422
DTSTART;TZID=Europe/Berlin:20270202T190000
DTEND;TZID=Europe/Berlin:20270202T200000
UID:W35154121-20270202T190000@VHSBÖBLINGEN-SINDELFINGEN
SUMMARY:Bodyfitness / Bodyforming (W35154121) 
LOCATION:HO, Grund- und Werkrealschule, Gymnastikpavillon, Berkenstr. 18, 71088 Holzgerlingen
END:VEVENT
END:VCALENDAR