BEGIN:VCALENDAR
VERSION:2.0
PRODID:https://www.kufer.de/kuferweb / DE
METHOD:PUBLISH
CALSCALE:GREGORIAN
X-WR-TIMEZONE:Europe/Berlin
BEGIN:VTIMEZONE
TZID:Europe/Berlin
X-LIC-LOCATION:Europe/Berlin
BEGIN:DAYLIGHT
TZOFFSETFROM:+0100
TZOFFSETTO:+0200
TZNAME:CEST
DTSTART:19700329T020000
RRULE:FREQ=YEARLY;INTERVAL=1;BYDAY=-1SU;BYMONTH=3
END:DAYLIGHT
BEGIN:STANDARD
TZOFFSETFROM:+0200
TZOFFSETTO:+0100
TZNAME:CET
DTSTART:19701025T030000
RRULE:FREQ=YEARLY;INTERVAL=1;BYDAY=-1SU;BYMONTH=10
END:STANDARD
END:VTIMEZONE
BEGIN:VEVENT
DTSTAMP:20260422T065825
DTSTART;TZID=Europe/Berlin:20260916T170000
DTEND;TZID=Europe/Berlin:20260916T180000
UID:W35154021-20260916T170000@VHSBÖBLINGEN-SINDELFINGEN
SUMMARY:Bodyfitness / Bodyforming (W35154021) 
LOCATION:HO, Grund- und Werkrealschule, Gymnastikpavillon, Berkenstr. 18, 71088 Holzgerlingen
END:VEVENT
BEGIN:VEVENT
DTSTAMP:20260422T065825
DTSTART;TZID=Europe/Berlin:20260923T170000
DTEND;TZID=Europe/Berlin:20260923T180000
UID:W35154021-20260923T170000@VHSBÖBLINGEN-SINDELFINGEN
SUMMARY:Bodyfitness / Bodyforming (W35154021) 
LOCATION:HO, Grund- und Werkrealschule, Gymnastikpavillon, Berkenstr. 18, 71088 Holzgerlingen
END:VEVENT
BEGIN:VEVENT
DTSTAMP:20260422T065825
DTSTART;TZID=Europe/Berlin:20260930T170000
DTEND;TZID=Europe/Berlin:20260930T180000
UID:W35154021-20260930T170000@VHSBÖBLINGEN-SINDELFINGEN
SUMMARY:Bodyfitness / Bodyforming (W35154021) 
LOCATION:HO, Grund- und Werkrealschule, Gymnastikpavillon, Berkenstr. 18, 71088 Holzgerlingen
END:VEVENT
BEGIN:VEVENT
DTSTAMP:20260422T065825
DTSTART;TZID=Europe/Berlin:20261007T170000
DTEND;TZID=Europe/Berlin:20261007T180000
UID:W35154021-20261007T170000@VHSBÖBLINGEN-SINDELFINGEN
SUMMARY:Bodyfitness / Bodyforming (W35154021) 
LOCATION:HO, Grund- und Werkrealschule, Gymnastikpavillon, Berkenstr. 18, 71088 Holzgerlingen
END:VEVENT
BEGIN:VEVENT
DTSTAMP:20260422T065825
DTSTART;TZID=Europe/Berlin:20261014T170000
DTEND;TZID=Europe/Berlin:20261014T180000
UID:W35154021-20261014T170000@VHSBÖBLINGEN-SINDELFINGEN
SUMMARY:Bodyfitness / Bodyforming (W35154021) 
LOCATION:HO, Grund- und Werkrealschule, Gymnastikpavillon, Berkenstr. 18, 71088 Holzgerlingen
END:VEVENT
BEGIN:VEVENT
DTSTAMP:20260422T065825
DTSTART;TZID=Europe/Berlin:20261021T170000
DTEND;TZID=Europe/Berlin:20261021T180000
UID:W35154021-20261021T170000@VHSBÖBLINGEN-SINDELFINGEN
SUMMARY:Bodyfitness / Bodyforming (W35154021) 
LOCATION:HO, Grund- und Werkrealschule, Gymnastikpavillon, Berkenstr. 18, 71088 Holzgerlingen
END:VEVENT
BEGIN:VEVENT
DTSTAMP:20260422T065825
DTSTART;TZID=Europe/Berlin:20261104T170000
DTEND;TZID=Europe/Berlin:20261104T180000
UID:W35154021-20261104T170000@VHSBÖBLINGEN-SINDELFINGEN
SUMMARY:Bodyfitness / Bodyforming (W35154021) 
LOCATION:HO, Grund- und Werkrealschule, Gymnastikpavillon, Berkenstr. 18, 71088 Holzgerlingen
END:VEVENT
BEGIN:VEVENT
DTSTAMP:20260422T065825
DTSTART;TZID=Europe/Berlin:20261111T170000
DTEND;TZID=Europe/Berlin:20261111T180000
UID:W35154021-20261111T170000@VHSBÖBLINGEN-SINDELFINGEN
SUMMARY:Bodyfitness / Bodyforming (W35154021) 
LOCATION:HO, Grund- und Werkrealschule, Gymnastikpavillon, Berkenstr. 18, 71088 Holzgerlingen
END:VEVENT
BEGIN:VEVENT
DTSTAMP:20260422T065825
DTSTART;TZID=Europe/Berlin:20261118T170000
DTEND;TZID=Europe/Berlin:20261118T180000
UID:W35154021-20261118T170000@VHSBÖBLINGEN-SINDELFINGEN
SUMMARY:Bodyfitness / Bodyforming (W35154021) 
LOCATION:HO, Grund- und Werkrealschule, Gymnastikpavillon, Berkenstr. 18, 71088 Holzgerlingen
END:VEVENT
BEGIN:VEVENT
DTSTAMP:20260422T065825
DTSTART;TZID=Europe/Berlin:20261125T170000
DTEND;TZID=Europe/Berlin:20261125T180000
UID:W35154021-20261125T170000@VHSBÖBLINGEN-SINDELFINGEN
SUMMARY:Bodyfitness / Bodyforming (W35154021) 
LOCATION:HO, Grund- und Werkrealschule, Gymnastikpavillon, Berkenstr. 18, 71088 Holzgerlingen
END:VEVENT
BEGIN:VEVENT
DTSTAMP:20260422T065825
DTSTART;TZID=Europe/Berlin:20261202T170000
DTEND;TZID=Europe/Berlin:20261202T180000
UID:W35154021-20261202T170000@VHSBÖBLINGEN-SINDELFINGEN
SUMMARY:Bodyfitness / Bodyforming (W35154021) 
LOCATION:HO, Grund- und Werkrealschule, Gymnastikpavillon, Berkenstr. 18, 71088 Holzgerlingen
END:VEVENT
BEGIN:VEVENT
DTSTAMP:20260422T065825
DTSTART;TZID=Europe/Berlin:20261209T170000
DTEND;TZID=Europe/Berlin:20261209T180000
UID:W35154021-20261209T170000@VHSBÖBLINGEN-SINDELFINGEN
SUMMARY:Bodyfitness / Bodyforming (W35154021) 
LOCATION:HO, Grund- und Werkrealschule, Gymnastikpavillon, Berkenstr. 18, 71088 Holzgerlingen
END:VEVENT
BEGIN:VEVENT
DTSTAMP:20260422T065825
DTSTART;TZID=Europe/Berlin:20261216T170000
DTEND;TZID=Europe/Berlin:20261216T180000
UID:W35154021-20261216T170000@VHSBÖBLINGEN-SINDELFINGEN
SUMMARY:Bodyfitness / Bodyforming (W35154021) 
LOCATION:HO, Grund- und Werkrealschule, Gymnastikpavillon, Berkenstr. 18, 71088 Holzgerlingen
END:VEVENT
BEGIN:VEVENT
DTSTAMP:20260422T065825
DTSTART;TZID=Europe/Berlin:20270113T170000
DTEND;TZID=Europe/Berlin:20270113T180000
UID:W35154021-20270113T170000@VHSBÖBLINGEN-SINDELFINGEN
SUMMARY:Bodyfitness / Bodyforming (W35154021) 
LOCATION:HO, Grund- und Werkrealschule, Gymnastikpavillon, Berkenstr. 18, 71088 Holzgerlingen
END:VEVENT
BEGIN:VEVENT
DTSTAMP:20260422T065825
DTSTART;TZID=Europe/Berlin:20270120T170000
DTEND;TZID=Europe/Berlin:20270120T180000
UID:W35154021-20270120T170000@VHSBÖBLINGEN-SINDELFINGEN
SUMMARY:Bodyfitness / Bodyforming (W35154021) 
LOCATION:HO, Grund- und Werkrealschule, Gymnastikpavillon, Berkenstr. 18, 71088 Holzgerlingen
END:VEVENT
BEGIN:VEVENT
DTSTAMP:20260422T065825
DTSTART;TZID=Europe/Berlin:20270127T170000
DTEND;TZID=Europe/Berlin:20270127T180000
UID:W35154021-20270127T170000@VHSBÖBLINGEN-SINDELFINGEN
SUMMARY:Bodyfitness / Bodyforming (W35154021) 
LOCATION:HO, Grund- und Werkrealschule, Gymnastikpavillon, Berkenstr. 18, 71088 Holzgerlingen
END:VEVENT
BEGIN:VEVENT
DTSTAMP:20260422T065825
DTSTART;TZID=Europe/Berlin:20270203T170000
DTEND;TZID=Europe/Berlin:20270203T180000
UID:W35154021-20270203T170000@VHSBÖBLINGEN-SINDELFINGEN
SUMMARY:Bodyfitness / Bodyforming (W35154021) 
LOCATION:HO, Grund- und Werkrealschule, Gymnastikpavillon, Berkenstr. 18, 71088 Holzgerlingen
END:VEVENT
END:VCALENDAR