BEGIN:VCALENDAR
VERSION:2.0
PRODID:https://www.kufer.de/kuferweb / DE
METHOD:PUBLISH
CALSCALE:GREGORIAN
X-WR-TIMEZONE:Europe/Berlin
BEGIN:VTIMEZONE
TZID:Europe/Berlin
X-LIC-LOCATION:Europe/Berlin
BEGIN:DAYLIGHT
TZOFFSETFROM:+0100
TZOFFSETTO:+0200
TZNAME:CEST
DTSTART:19700329T020000
RRULE:FREQ=YEARLY;INTERVAL=1;BYDAY=-1SU;BYMONTH=3
END:DAYLIGHT
BEGIN:STANDARD
TZOFFSETFROM:+0200
TZOFFSETTO:+0100
TZNAME:CET
DTSTART:19701025T030000
RRULE:FREQ=YEARLY;INTERVAL=1;BYDAY=-1SU;BYMONTH=10
END:STANDARD
END:VTIMEZONE
BEGIN:VEVENT
DTSTAMP:20260421T091806
DTSTART;TZID=Europe/Berlin:20260922T193000
DTEND;TZID=Europe/Berlin:20260922T210000
UID:W35149021-20260922T193000@VHSBÖBLINGEN-SINDELFINGEN
SUMMARY:Fitness für Männer (W35149021) 
LOCATION:HO, Heinrich-Harpprecht-Förderschule, F - Gymnastikraum, Berkenstraße 14, 71088 Holzgerlingen
END:VEVENT
BEGIN:VEVENT
DTSTAMP:20260421T091806
DTSTART;TZID=Europe/Berlin:20260929T193000
DTEND;TZID=Europe/Berlin:20260929T210000
UID:W35149021-20260929T193000@VHSBÖBLINGEN-SINDELFINGEN
SUMMARY:Fitness für Männer (W35149021) 
LOCATION:HO, Heinrich-Harpprecht-Förderschule, F - Gymnastikraum, Berkenstraße 14, 71088 Holzgerlingen
END:VEVENT
BEGIN:VEVENT
DTSTAMP:20260421T091806
DTSTART;TZID=Europe/Berlin:20261006T193000
DTEND;TZID=Europe/Berlin:20261006T210000
UID:W35149021-20261006T193000@VHSBÖBLINGEN-SINDELFINGEN
SUMMARY:Fitness für Männer (W35149021) 
LOCATION:HO, Heinrich-Harpprecht-Förderschule, F - Gymnastikraum, Berkenstraße 14, 71088 Holzgerlingen
END:VEVENT
BEGIN:VEVENT
DTSTAMP:20260421T091806
DTSTART;TZID=Europe/Berlin:20261013T193000
DTEND;TZID=Europe/Berlin:20261013T210000
UID:W35149021-20261013T193000@VHSBÖBLINGEN-SINDELFINGEN
SUMMARY:Fitness für Männer (W35149021) 
LOCATION:HO, Heinrich-Harpprecht-Förderschule, F - Gymnastikraum, Berkenstraße 14, 71088 Holzgerlingen
END:VEVENT
BEGIN:VEVENT
DTSTAMP:20260421T091806
DTSTART;TZID=Europe/Berlin:20261020T193000
DTEND;TZID=Europe/Berlin:20261020T210000
UID:W35149021-20261020T193000@VHSBÖBLINGEN-SINDELFINGEN
SUMMARY:Fitness für Männer (W35149021) 
LOCATION:HO, Heinrich-Harpprecht-Förderschule, F - Gymnastikraum, Berkenstraße 14, 71088 Holzgerlingen
END:VEVENT
BEGIN:VEVENT
DTSTAMP:20260421T091806
DTSTART;TZID=Europe/Berlin:20261103T193000
DTEND;TZID=Europe/Berlin:20261103T210000
UID:W35149021-20261103T193000@VHSBÖBLINGEN-SINDELFINGEN
SUMMARY:Fitness für Männer (W35149021) 
LOCATION:HO, Heinrich-Harpprecht-Förderschule, F - Gymnastikraum, Berkenstraße 14, 71088 Holzgerlingen
END:VEVENT
BEGIN:VEVENT
DTSTAMP:20260421T091806
DTSTART;TZID=Europe/Berlin:20261110T193000
DTEND;TZID=Europe/Berlin:20261110T210000
UID:W35149021-20261110T193000@VHSBÖBLINGEN-SINDELFINGEN
SUMMARY:Fitness für Männer (W35149021) 
LOCATION:HO, Heinrich-Harpprecht-Förderschule, F - Gymnastikraum, Berkenstraße 14, 71088 Holzgerlingen
END:VEVENT
BEGIN:VEVENT
DTSTAMP:20260421T091806
DTSTART;TZID=Europe/Berlin:20261117T193000
DTEND;TZID=Europe/Berlin:20261117T210000
UID:W35149021-20261117T193000@VHSBÖBLINGEN-SINDELFINGEN
SUMMARY:Fitness für Männer (W35149021) 
LOCATION:HO, Heinrich-Harpprecht-Förderschule, F - Gymnastikraum, Berkenstraße 14, 71088 Holzgerlingen
END:VEVENT
BEGIN:VEVENT
DTSTAMP:20260421T091806
DTSTART;TZID=Europe/Berlin:20261124T193000
DTEND;TZID=Europe/Berlin:20261124T210000
UID:W35149021-20261124T193000@VHSBÖBLINGEN-SINDELFINGEN
SUMMARY:Fitness für Männer (W35149021) 
LOCATION:HO, Heinrich-Harpprecht-Förderschule, F - Gymnastikraum, Berkenstraße 14, 71088 Holzgerlingen
END:VEVENT
BEGIN:VEVENT
DTSTAMP:20260421T091806
DTSTART;TZID=Europe/Berlin:20261201T193000
DTEND;TZID=Europe/Berlin:20261201T210000
UID:W35149021-20261201T193000@VHSBÖBLINGEN-SINDELFINGEN
SUMMARY:Fitness für Männer (W35149021) 
LOCATION:HO, Heinrich-Harpprecht-Förderschule, F - Gymnastikraum, Berkenstraße 14, 71088 Holzgerlingen
END:VEVENT
BEGIN:VEVENT
DTSTAMP:20260421T091806
DTSTART;TZID=Europe/Berlin:20261208T193000
DTEND;TZID=Europe/Berlin:20261208T210000
UID:W35149021-20261208T193000@VHSBÖBLINGEN-SINDELFINGEN
SUMMARY:Fitness für Männer (W35149021) 
LOCATION:HO, Heinrich-Harpprecht-Förderschule, F - Gymnastikraum, Berkenstraße 14, 71088 Holzgerlingen
END:VEVENT
BEGIN:VEVENT
DTSTAMP:20260421T091806
DTSTART;TZID=Europe/Berlin:20261215T193000
DTEND;TZID=Europe/Berlin:20261215T210000
UID:W35149021-20261215T193000@VHSBÖBLINGEN-SINDELFINGEN
SUMMARY:Fitness für Männer (W35149021) 
LOCATION:HO, Heinrich-Harpprecht-Förderschule, F - Gymnastikraum, Berkenstraße 14, 71088 Holzgerlingen
END:VEVENT
BEGIN:VEVENT
DTSTAMP:20260421T091806
DTSTART;TZID=Europe/Berlin:20270119T193000
DTEND;TZID=Europe/Berlin:20270119T210000
UID:W35149021-20270119T193000@VHSBÖBLINGEN-SINDELFINGEN
SUMMARY:Fitness für Männer (W35149021) 
LOCATION:HO, Heinrich-Harpprecht-Förderschule, F - Gymnastikraum, Berkenstraße 14, 71088 Holzgerlingen
END:VEVENT
BEGIN:VEVENT
DTSTAMP:20260421T091806
DTSTART;TZID=Europe/Berlin:20270126T193000
DTEND;TZID=Europe/Berlin:20270126T210000
UID:W35149021-20270126T193000@VHSBÖBLINGEN-SINDELFINGEN
SUMMARY:Fitness für Männer (W35149021) 
LOCATION:HO, Heinrich-Harpprecht-Förderschule, F - Gymnastikraum, Berkenstraße 14, 71088 Holzgerlingen
END:VEVENT
BEGIN:VEVENT
DTSTAMP:20260421T091806
DTSTART;TZID=Europe/Berlin:20270202T193000
DTEND;TZID=Europe/Berlin:20270202T210000
UID:W35149021-20270202T193000@VHSBÖBLINGEN-SINDELFINGEN
SUMMARY:Fitness für Männer (W35149021) 
LOCATION:HO, Heinrich-Harpprecht-Förderschule, F - Gymnastikraum, Berkenstraße 14, 71088 Holzgerlingen
END:VEVENT
END:VCALENDAR