BEGIN:VCALENDAR
VERSION:2.0
PRODID:https://www.kufer.de/kuferweb / DE
METHOD:PUBLISH
CALSCALE:GREGORIAN
X-WR-TIMEZONE:Europe/Berlin
BEGIN:VTIMEZONE
TZID:Europe/Berlin
X-LIC-LOCATION:Europe/Berlin
BEGIN:DAYLIGHT
TZOFFSETFROM:+0100
TZOFFSETTO:+0200
TZNAME:CEST
DTSTART:19700329T020000
RRULE:FREQ=YEARLY;INTERVAL=1;BYDAY=-1SU;BYMONTH=3
END:DAYLIGHT
BEGIN:STANDARD
TZOFFSETFROM:+0200
TZOFFSETTO:+0100
TZNAME:CET
DTSTART:19701025T030000
RRULE:FREQ=YEARLY;INTERVAL=1;BYDAY=-1SU;BYMONTH=10
END:STANDARD
END:VTIMEZONE
BEGIN:VEVENT
DTSTAMP:20260421T135537
DTSTART;TZID=Europe/Berlin:20260923T205000
DTEND;TZID=Europe/Berlin:20260923T215000
UID:W35148461-20260923T205000@VHSBÖBLINGEN-SINDELFINGEN
SUMMARY:Fitness-Mix (W35148461) 
LOCATION:WE, Sportzentrum, Gymnastikhalle, In der Röte 94, 71093 Weil im Schönbuch
END:VEVENT
BEGIN:VEVENT
DTSTAMP:20260421T135537
DTSTART;TZID=Europe/Berlin:20260930T205000
DTEND;TZID=Europe/Berlin:20260930T215000
UID:W35148461-20260930T205000@VHSBÖBLINGEN-SINDELFINGEN
SUMMARY:Fitness-Mix (W35148461) 
LOCATION:WE, Sportzentrum, Gymnastikhalle, In der Röte 94, 71093 Weil im Schönbuch
END:VEVENT
BEGIN:VEVENT
DTSTAMP:20260421T135537
DTSTART;TZID=Europe/Berlin:20261007T205000
DTEND;TZID=Europe/Berlin:20261007T215000
UID:W35148461-20261007T205000@VHSBÖBLINGEN-SINDELFINGEN
SUMMARY:Fitness-Mix (W35148461) 
LOCATION:WE, Sportzentrum, Gymnastikhalle, In der Röte 94, 71093 Weil im Schönbuch
END:VEVENT
BEGIN:VEVENT
DTSTAMP:20260421T135537
DTSTART;TZID=Europe/Berlin:20261014T205000
DTEND;TZID=Europe/Berlin:20261014T215000
UID:W35148461-20261014T205000@VHSBÖBLINGEN-SINDELFINGEN
SUMMARY:Fitness-Mix (W35148461) 
LOCATION:WE, Sportzentrum, Gymnastikhalle, In der Röte 94, 71093 Weil im Schönbuch
END:VEVENT
BEGIN:VEVENT
DTSTAMP:20260421T135537
DTSTART;TZID=Europe/Berlin:20261021T205000
DTEND;TZID=Europe/Berlin:20261021T215000
UID:W35148461-20261021T205000@VHSBÖBLINGEN-SINDELFINGEN
SUMMARY:Fitness-Mix (W35148461) 
LOCATION:WE, Sportzentrum, Gymnastikhalle, In der Röte 94, 71093 Weil im Schönbuch
END:VEVENT
BEGIN:VEVENT
DTSTAMP:20260421T135537
DTSTART;TZID=Europe/Berlin:20261104T205000
DTEND;TZID=Europe/Berlin:20261104T215000
UID:W35148461-20261104T205000@VHSBÖBLINGEN-SINDELFINGEN
SUMMARY:Fitness-Mix (W35148461) 
LOCATION:WE, Sportzentrum, Gymnastikhalle, In der Röte 94, 71093 Weil im Schönbuch
END:VEVENT
BEGIN:VEVENT
DTSTAMP:20260421T135537
DTSTART;TZID=Europe/Berlin:20261111T205000
DTEND;TZID=Europe/Berlin:20261111T215000
UID:W35148461-20261111T205000@VHSBÖBLINGEN-SINDELFINGEN
SUMMARY:Fitness-Mix (W35148461) 
LOCATION:WE, Sportzentrum, Gymnastikhalle, In der Röte 94, 71093 Weil im Schönbuch
END:VEVENT
BEGIN:VEVENT
DTSTAMP:20260421T135537
DTSTART;TZID=Europe/Berlin:20261118T205000
DTEND;TZID=Europe/Berlin:20261118T215000
UID:W35148461-20261118T205000@VHSBÖBLINGEN-SINDELFINGEN
SUMMARY:Fitness-Mix (W35148461) 
LOCATION:WE, Sportzentrum, Gymnastikhalle, In der Röte 94, 71093 Weil im Schönbuch
END:VEVENT
BEGIN:VEVENT
DTSTAMP:20260421T135537
DTSTART;TZID=Europe/Berlin:20261125T205000
DTEND;TZID=Europe/Berlin:20261125T215000
UID:W35148461-20261125T205000@VHSBÖBLINGEN-SINDELFINGEN
SUMMARY:Fitness-Mix (W35148461) 
LOCATION:WE, Sportzentrum, Gymnastikhalle, In der Röte 94, 71093 Weil im Schönbuch
END:VEVENT
BEGIN:VEVENT
DTSTAMP:20260421T135537
DTSTART;TZID=Europe/Berlin:20261202T205000
DTEND;TZID=Europe/Berlin:20261202T215000
UID:W35148461-20261202T205000@VHSBÖBLINGEN-SINDELFINGEN
SUMMARY:Fitness-Mix (W35148461) 
LOCATION:WE, Sportzentrum, Gymnastikhalle, In der Röte 94, 71093 Weil im Schönbuch
END:VEVENT
BEGIN:VEVENT
DTSTAMP:20260421T135537
DTSTART;TZID=Europe/Berlin:20261209T205000
DTEND;TZID=Europe/Berlin:20261209T215000
UID:W35148461-20261209T205000@VHSBÖBLINGEN-SINDELFINGEN
SUMMARY:Fitness-Mix (W35148461) 
LOCATION:WE, Sportzentrum, Gymnastikhalle, In der Röte 94, 71093 Weil im Schönbuch
END:VEVENT
BEGIN:VEVENT
DTSTAMP:20260421T135537
DTSTART;TZID=Europe/Berlin:20261216T205000
DTEND;TZID=Europe/Berlin:20261216T215000
UID:W35148461-20261216T205000@VHSBÖBLINGEN-SINDELFINGEN
SUMMARY:Fitness-Mix (W35148461) 
LOCATION:WE, Sportzentrum, Gymnastikhalle, In der Röte 94, 71093 Weil im Schönbuch
END:VEVENT
BEGIN:VEVENT
DTSTAMP:20260421T135537
DTSTART;TZID=Europe/Berlin:20270113T205000
DTEND;TZID=Europe/Berlin:20270113T215000
UID:W35148461-20270113T205000@VHSBÖBLINGEN-SINDELFINGEN
SUMMARY:Fitness-Mix (W35148461) 
LOCATION:WE, Sportzentrum, Gymnastikhalle, In der Röte 94, 71093 Weil im Schönbuch
END:VEVENT
BEGIN:VEVENT
DTSTAMP:20260421T135537
DTSTART;TZID=Europe/Berlin:20270120T205000
DTEND;TZID=Europe/Berlin:20270120T215000
UID:W35148461-20270120T205000@VHSBÖBLINGEN-SINDELFINGEN
SUMMARY:Fitness-Mix (W35148461) 
LOCATION:WE, Sportzentrum, Gymnastikhalle, In der Röte 94, 71093 Weil im Schönbuch
END:VEVENT
BEGIN:VEVENT
DTSTAMP:20260421T135537
DTSTART;TZID=Europe/Berlin:20270127T205000
DTEND;TZID=Europe/Berlin:20270127T215000
UID:W35148461-20270127T205000@VHSBÖBLINGEN-SINDELFINGEN
SUMMARY:Fitness-Mix (W35148461) 
LOCATION:WE, Sportzentrum, Gymnastikhalle, In der Röte 94, 71093 Weil im Schönbuch
END:VEVENT
BEGIN:VEVENT
DTSTAMP:20260421T135537
DTSTART;TZID=Europe/Berlin:20270203T205000
DTEND;TZID=Europe/Berlin:20270203T215000
UID:W35148461-20270203T205000@VHSBÖBLINGEN-SINDELFINGEN
SUMMARY:Fitness-Mix (W35148461) 
LOCATION:WE, Sportzentrum, Gymnastikhalle, In der Röte 94, 71093 Weil im Schönbuch
END:VEVENT
END:VCALENDAR