BEGIN:VCALENDAR
VERSION:2.0
PRODID:https://www.kufer.de/kuferweb / DE
METHOD:PUBLISH
CALSCALE:GREGORIAN
X-WR-TIMEZONE:Europe/Berlin
BEGIN:VTIMEZONE
TZID:Europe/Berlin
X-LIC-LOCATION:Europe/Berlin
BEGIN:DAYLIGHT
TZOFFSETFROM:+0100
TZOFFSETTO:+0200
TZNAME:CEST
DTSTART:19700329T020000
RRULE:FREQ=YEARLY;INTERVAL=1;BYDAY=-1SU;BYMONTH=3
END:DAYLIGHT
BEGIN:STANDARD
TZOFFSETFROM:+0200
TZOFFSETTO:+0100
TZNAME:CET
DTSTART:19701025T030000
RRULE:FREQ=YEARLY;INTERVAL=1;BYDAY=-1SU;BYMONTH=10
END:STANDARD
END:VTIMEZONE
BEGIN:VEVENT
DTSTAMP:20260421T183610
DTSTART;TZID=Europe/Berlin:20260923T194500
DTEND;TZID=Europe/Berlin:20260923T204500
UID:W35148261-20260923T194500@VHSBÖBLINGEN-SINDELFINGEN
SUMMARY:Fitness-Mix (W35148261) 
LOCATION:WE, Sportzentrum, Gymnastikhalle, In der Röte 94, 71093 Weil im Schönbuch
END:VEVENT
BEGIN:VEVENT
DTSTAMP:20260421T183610
DTSTART;TZID=Europe/Berlin:20260930T194500
DTEND;TZID=Europe/Berlin:20260930T204500
UID:W35148261-20260930T194500@VHSBÖBLINGEN-SINDELFINGEN
SUMMARY:Fitness-Mix (W35148261) 
LOCATION:WE, Sportzentrum, Gymnastikhalle, In der Röte 94, 71093 Weil im Schönbuch
END:VEVENT
BEGIN:VEVENT
DTSTAMP:20260421T183610
DTSTART;TZID=Europe/Berlin:20261007T194500
DTEND;TZID=Europe/Berlin:20261007T204500
UID:W35148261-20261007T194500@VHSBÖBLINGEN-SINDELFINGEN
SUMMARY:Fitness-Mix (W35148261) 
LOCATION:WE, Sportzentrum, Gymnastikhalle, In der Röte 94, 71093 Weil im Schönbuch
END:VEVENT
BEGIN:VEVENT
DTSTAMP:20260421T183610
DTSTART;TZID=Europe/Berlin:20261014T194500
DTEND;TZID=Europe/Berlin:20261014T204500
UID:W35148261-20261014T194500@VHSBÖBLINGEN-SINDELFINGEN
SUMMARY:Fitness-Mix (W35148261) 
LOCATION:WE, Sportzentrum, Gymnastikhalle, In der Röte 94, 71093 Weil im Schönbuch
END:VEVENT
BEGIN:VEVENT
DTSTAMP:20260421T183610
DTSTART;TZID=Europe/Berlin:20261021T194500
DTEND;TZID=Europe/Berlin:20261021T204500
UID:W35148261-20261021T194500@VHSBÖBLINGEN-SINDELFINGEN
SUMMARY:Fitness-Mix (W35148261) 
LOCATION:WE, Sportzentrum, Gymnastikhalle, In der Röte 94, 71093 Weil im Schönbuch
END:VEVENT
BEGIN:VEVENT
DTSTAMP:20260421T183610
DTSTART;TZID=Europe/Berlin:20261104T194500
DTEND;TZID=Europe/Berlin:20261104T204500
UID:W35148261-20261104T194500@VHSBÖBLINGEN-SINDELFINGEN
SUMMARY:Fitness-Mix (W35148261) 
LOCATION:WE, Sportzentrum, Gymnastikhalle, In der Röte 94, 71093 Weil im Schönbuch
END:VEVENT
BEGIN:VEVENT
DTSTAMP:20260421T183610
DTSTART;TZID=Europe/Berlin:20261111T194500
DTEND;TZID=Europe/Berlin:20261111T204500
UID:W35148261-20261111T194500@VHSBÖBLINGEN-SINDELFINGEN
SUMMARY:Fitness-Mix (W35148261) 
LOCATION:WE, Sportzentrum, Gymnastikhalle, In der Röte 94, 71093 Weil im Schönbuch
END:VEVENT
BEGIN:VEVENT
DTSTAMP:20260421T183610
DTSTART;TZID=Europe/Berlin:20261118T194500
DTEND;TZID=Europe/Berlin:20261118T204500
UID:W35148261-20261118T194500@VHSBÖBLINGEN-SINDELFINGEN
SUMMARY:Fitness-Mix (W35148261) 
LOCATION:WE, Sportzentrum, Gymnastikhalle, In der Röte 94, 71093 Weil im Schönbuch
END:VEVENT
BEGIN:VEVENT
DTSTAMP:20260421T183610
DTSTART;TZID=Europe/Berlin:20261125T194500
DTEND;TZID=Europe/Berlin:20261125T204500
UID:W35148261-20261125T194500@VHSBÖBLINGEN-SINDELFINGEN
SUMMARY:Fitness-Mix (W35148261) 
LOCATION:WE, Sportzentrum, Gymnastikhalle, In der Röte 94, 71093 Weil im Schönbuch
END:VEVENT
BEGIN:VEVENT
DTSTAMP:20260421T183610
DTSTART;TZID=Europe/Berlin:20261202T194500
DTEND;TZID=Europe/Berlin:20261202T204500
UID:W35148261-20261202T194500@VHSBÖBLINGEN-SINDELFINGEN
SUMMARY:Fitness-Mix (W35148261) 
LOCATION:WE, Sportzentrum, Gymnastikhalle, In der Röte 94, 71093 Weil im Schönbuch
END:VEVENT
BEGIN:VEVENT
DTSTAMP:20260421T183610
DTSTART;TZID=Europe/Berlin:20261209T194500
DTEND;TZID=Europe/Berlin:20261209T204500
UID:W35148261-20261209T194500@VHSBÖBLINGEN-SINDELFINGEN
SUMMARY:Fitness-Mix (W35148261) 
LOCATION:WE, Sportzentrum, Gymnastikhalle, In der Röte 94, 71093 Weil im Schönbuch
END:VEVENT
BEGIN:VEVENT
DTSTAMP:20260421T183610
DTSTART;TZID=Europe/Berlin:20261216T194500
DTEND;TZID=Europe/Berlin:20261216T204500
UID:W35148261-20261216T194500@VHSBÖBLINGEN-SINDELFINGEN
SUMMARY:Fitness-Mix (W35148261) 
LOCATION:WE, Sportzentrum, Gymnastikhalle, In der Röte 94, 71093 Weil im Schönbuch
END:VEVENT
BEGIN:VEVENT
DTSTAMP:20260421T183610
DTSTART;TZID=Europe/Berlin:20270113T194500
DTEND;TZID=Europe/Berlin:20270113T204500
UID:W35148261-20270113T194500@VHSBÖBLINGEN-SINDELFINGEN
SUMMARY:Fitness-Mix (W35148261) 
LOCATION:WE, Sportzentrum, Gymnastikhalle, In der Röte 94, 71093 Weil im Schönbuch
END:VEVENT
BEGIN:VEVENT
DTSTAMP:20260421T183610
DTSTART;TZID=Europe/Berlin:20270120T194500
DTEND;TZID=Europe/Berlin:20270120T204500
UID:W35148261-20270120T194500@VHSBÖBLINGEN-SINDELFINGEN
SUMMARY:Fitness-Mix (W35148261) 
LOCATION:WE, Sportzentrum, Gymnastikhalle, In der Röte 94, 71093 Weil im Schönbuch
END:VEVENT
BEGIN:VEVENT
DTSTAMP:20260421T183610
DTSTART;TZID=Europe/Berlin:20270127T194500
DTEND;TZID=Europe/Berlin:20270127T204500
UID:W35148261-20270127T194500@VHSBÖBLINGEN-SINDELFINGEN
SUMMARY:Fitness-Mix (W35148261) 
LOCATION:WE, Sportzentrum, Gymnastikhalle, In der Röte 94, 71093 Weil im Schönbuch
END:VEVENT
BEGIN:VEVENT
DTSTAMP:20260421T183610
DTSTART;TZID=Europe/Berlin:20270203T194500
DTEND;TZID=Europe/Berlin:20270203T204500
UID:W35148261-20270203T194500@VHSBÖBLINGEN-SINDELFINGEN
SUMMARY:Fitness-Mix (W35148261) 
LOCATION:WE, Sportzentrum, Gymnastikhalle, In der Röte 94, 71093 Weil im Schönbuch
END:VEVENT
END:VCALENDAR