BEGIN:VCALENDAR
VERSION:2.0
PRODID:https://www.kufer.de/kuferweb / DE
METHOD:PUBLISH
CALSCALE:GREGORIAN
X-WR-TIMEZONE:Europe/Berlin
BEGIN:VTIMEZONE
TZID:Europe/Berlin
X-LIC-LOCATION:Europe/Berlin
BEGIN:DAYLIGHT
TZOFFSETFROM:+0100
TZOFFSETTO:+0200
TZNAME:CEST
DTSTART:19700329T020000
RRULE:FREQ=YEARLY;INTERVAL=1;BYDAY=-1SU;BYMONTH=3
END:DAYLIGHT
BEGIN:STANDARD
TZOFFSETFROM:+0200
TZOFFSETTO:+0100
TZNAME:CET
DTSTART:19701025T030000
RRULE:FREQ=YEARLY;INTERVAL=1;BYDAY=-1SU;BYMONTH=10
END:STANDARD
END:VTIMEZONE
BEGIN:VEVENT
DTSTAMP:20260422T083815
DTSTART;TZID=Europe/Berlin:20260923T103000
DTEND;TZID=Europe/Berlin:20260923T120000
UID:W35147632-20260923T103000@VHSBÖBLINGEN-SINDELFINGEN
SUMMARY:Fitness-Mix (W35147632) 
LOCATION:WA, Stadionhalle, ___, Ritter-Sport-Stadion, 71111 Waldenbuch
END:VEVENT
BEGIN:VEVENT
DTSTAMP:20260422T083815
DTSTART;TZID=Europe/Berlin:20260930T103000
DTEND;TZID=Europe/Berlin:20260930T120000
UID:W35147632-20260930T103000@VHSBÖBLINGEN-SINDELFINGEN
SUMMARY:Fitness-Mix (W35147632) 
LOCATION:WA, Stadionhalle, ___, Ritter-Sport-Stadion, 71111 Waldenbuch
END:VEVENT
BEGIN:VEVENT
DTSTAMP:20260422T083815
DTSTART;TZID=Europe/Berlin:20261007T103000
DTEND;TZID=Europe/Berlin:20261007T120000
UID:W35147632-20261007T103000@VHSBÖBLINGEN-SINDELFINGEN
SUMMARY:Fitness-Mix (W35147632) 
LOCATION:WA, Stadionhalle, ___, Ritter-Sport-Stadion, 71111 Waldenbuch
END:VEVENT
BEGIN:VEVENT
DTSTAMP:20260422T083815
DTSTART;TZID=Europe/Berlin:20261014T103000
DTEND;TZID=Europe/Berlin:20261014T120000
UID:W35147632-20261014T103000@VHSBÖBLINGEN-SINDELFINGEN
SUMMARY:Fitness-Mix (W35147632) 
LOCATION:WA, Stadionhalle, ___, Ritter-Sport-Stadion, 71111 Waldenbuch
END:VEVENT
BEGIN:VEVENT
DTSTAMP:20260422T083815
DTSTART;TZID=Europe/Berlin:20261021T103000
DTEND;TZID=Europe/Berlin:20261021T120000
UID:W35147632-20261021T103000@VHSBÖBLINGEN-SINDELFINGEN
SUMMARY:Fitness-Mix (W35147632) 
LOCATION:WA, Stadionhalle, ___, Ritter-Sport-Stadion, 71111 Waldenbuch
END:VEVENT
BEGIN:VEVENT
DTSTAMP:20260422T083815
DTSTART;TZID=Europe/Berlin:20261104T103000
DTEND;TZID=Europe/Berlin:20261104T120000
UID:W35147632-20261104T103000@VHSBÖBLINGEN-SINDELFINGEN
SUMMARY:Fitness-Mix (W35147632) 
LOCATION:WA, Stadionhalle, ___, Ritter-Sport-Stadion, 71111 Waldenbuch
END:VEVENT
BEGIN:VEVENT
DTSTAMP:20260422T083815
DTSTART;TZID=Europe/Berlin:20261111T103000
DTEND;TZID=Europe/Berlin:20261111T120000
UID:W35147632-20261111T103000@VHSBÖBLINGEN-SINDELFINGEN
SUMMARY:Fitness-Mix (W35147632) 
LOCATION:WA, Stadionhalle, ___, Ritter-Sport-Stadion, 71111 Waldenbuch
END:VEVENT
BEGIN:VEVENT
DTSTAMP:20260422T083815
DTSTART;TZID=Europe/Berlin:20261118T103000
DTEND;TZID=Europe/Berlin:20261118T120000
UID:W35147632-20261118T103000@VHSBÖBLINGEN-SINDELFINGEN
SUMMARY:Fitness-Mix (W35147632) 
LOCATION:WA, Stadionhalle, ___, Ritter-Sport-Stadion, 71111 Waldenbuch
END:VEVENT
BEGIN:VEVENT
DTSTAMP:20260422T083815
DTSTART;TZID=Europe/Berlin:20261125T103000
DTEND;TZID=Europe/Berlin:20261125T120000
UID:W35147632-20261125T103000@VHSBÖBLINGEN-SINDELFINGEN
SUMMARY:Fitness-Mix (W35147632) 
LOCATION:WA, Stadionhalle, ___, Ritter-Sport-Stadion, 71111 Waldenbuch
END:VEVENT
BEGIN:VEVENT
DTSTAMP:20260422T083815
DTSTART;TZID=Europe/Berlin:20261202T103000
DTEND;TZID=Europe/Berlin:20261202T120000
UID:W35147632-20261202T103000@VHSBÖBLINGEN-SINDELFINGEN
SUMMARY:Fitness-Mix (W35147632) 
LOCATION:WA, Stadionhalle, ___, Ritter-Sport-Stadion, 71111 Waldenbuch
END:VEVENT
BEGIN:VEVENT
DTSTAMP:20260422T083815
DTSTART;TZID=Europe/Berlin:20261209T103000
DTEND;TZID=Europe/Berlin:20261209T120000
UID:W35147632-20261209T103000@VHSBÖBLINGEN-SINDELFINGEN
SUMMARY:Fitness-Mix (W35147632) 
LOCATION:WA, Stadionhalle, ___, Ritter-Sport-Stadion, 71111 Waldenbuch
END:VEVENT
BEGIN:VEVENT
DTSTAMP:20260422T083815
DTSTART;TZID=Europe/Berlin:20261216T103000
DTEND;TZID=Europe/Berlin:20261216T120000
UID:W35147632-20261216T103000@VHSBÖBLINGEN-SINDELFINGEN
SUMMARY:Fitness-Mix (W35147632) 
LOCATION:WA, Stadionhalle, ___, Ritter-Sport-Stadion, 71111 Waldenbuch
END:VEVENT
BEGIN:VEVENT
DTSTAMP:20260422T083815
DTSTART;TZID=Europe/Berlin:20270113T103000
DTEND;TZID=Europe/Berlin:20270113T120000
UID:W35147632-20270113T103000@VHSBÖBLINGEN-SINDELFINGEN
SUMMARY:Fitness-Mix (W35147632) 
LOCATION:WA, Stadionhalle, ___, Ritter-Sport-Stadion, 71111 Waldenbuch
END:VEVENT
BEGIN:VEVENT
DTSTAMP:20260422T083815
DTSTART;TZID=Europe/Berlin:20270120T103000
DTEND;TZID=Europe/Berlin:20270120T120000
UID:W35147632-20270120T103000@VHSBÖBLINGEN-SINDELFINGEN
SUMMARY:Fitness-Mix (W35147632) 
LOCATION:WA, Stadionhalle, ___, Ritter-Sport-Stadion, 71111 Waldenbuch
END:VEVENT
BEGIN:VEVENT
DTSTAMP:20260422T083815
DTSTART;TZID=Europe/Berlin:20270127T103000
DTEND;TZID=Europe/Berlin:20270127T120000
UID:W35147632-20270127T103000@VHSBÖBLINGEN-SINDELFINGEN
SUMMARY:Fitness-Mix (W35147632) 
LOCATION:WA, Stadionhalle, ___, Ritter-Sport-Stadion, 71111 Waldenbuch
END:VEVENT
BEGIN:VEVENT
DTSTAMP:20260422T083815
DTSTART;TZID=Europe/Berlin:20270203T103000
DTEND;TZID=Europe/Berlin:20270203T120000
UID:W35147632-20270203T103000@VHSBÖBLINGEN-SINDELFINGEN
SUMMARY:Fitness-Mix (W35147632) 
LOCATION:WA, Stadionhalle, ___, Ritter-Sport-Stadion, 71111 Waldenbuch
END:VEVENT
END:VCALENDAR