BEGIN:VCALENDAR
VERSION:2.0
PRODID:https://www.kufer.de/kuferweb / DE
METHOD:PUBLISH
CALSCALE:GREGORIAN
X-WR-TIMEZONE:Europe/Berlin
BEGIN:VTIMEZONE
TZID:Europe/Berlin
X-LIC-LOCATION:Europe/Berlin
BEGIN:DAYLIGHT
TZOFFSETFROM:+0100
TZOFFSETTO:+0200
TZNAME:CEST
DTSTART:19700329T020000
RRULE:FREQ=YEARLY;INTERVAL=1;BYDAY=-1SU;BYMONTH=3
END:DAYLIGHT
BEGIN:STANDARD
TZOFFSETFROM:+0200
TZOFFSETTO:+0100
TZNAME:CET
DTSTART:19701025T030000
RRULE:FREQ=YEARLY;INTERVAL=1;BYDAY=-1SU;BYMONTH=10
END:STANDARD
END:VTIMEZONE
BEGIN:VEVENT
DTSTAMP:20260421T142116
DTSTART;TZID=Europe/Berlin:20260915T171500
DTEND;TZID=Europe/Berlin:20260915T181500
UID:W35144021-20260915T171500@VHSBÖBLINGEN-SINDELFINGEN
SUMMARY:Fitness Mix für Frauen – Ganzkörpertraining (W35144021) 
LOCATION:HO, Heinrich-Harpprecht-Förderschule, F - Gymnastikraum, Berkenstraße 14, 71088 Holzgerlingen
END:VEVENT
BEGIN:VEVENT
DTSTAMP:20260421T142116
DTSTART;TZID=Europe/Berlin:20260922T171500
DTEND;TZID=Europe/Berlin:20260922T181500
UID:W35144021-20260922T171500@VHSBÖBLINGEN-SINDELFINGEN
SUMMARY:Fitness Mix für Frauen – Ganzkörpertraining (W35144021) 
LOCATION:HO, Heinrich-Harpprecht-Förderschule, F - Gymnastikraum, Berkenstraße 14, 71088 Holzgerlingen
END:VEVENT
BEGIN:VEVENT
DTSTAMP:20260421T142116
DTSTART;TZID=Europe/Berlin:20260929T171500
DTEND;TZID=Europe/Berlin:20260929T181500
UID:W35144021-20260929T171500@VHSBÖBLINGEN-SINDELFINGEN
SUMMARY:Fitness Mix für Frauen – Ganzkörpertraining (W35144021) 
LOCATION:HO, Heinrich-Harpprecht-Förderschule, F - Gymnastikraum, Berkenstraße 14, 71088 Holzgerlingen
END:VEVENT
BEGIN:VEVENT
DTSTAMP:20260421T142116
DTSTART;TZID=Europe/Berlin:20261006T171500
DTEND;TZID=Europe/Berlin:20261006T181500
UID:W35144021-20261006T171500@VHSBÖBLINGEN-SINDELFINGEN
SUMMARY:Fitness Mix für Frauen – Ganzkörpertraining (W35144021) 
LOCATION:HO, Heinrich-Harpprecht-Förderschule, F - Gymnastikraum, Berkenstraße 14, 71088 Holzgerlingen
END:VEVENT
BEGIN:VEVENT
DTSTAMP:20260421T142116
DTSTART;TZID=Europe/Berlin:20261013T171500
DTEND;TZID=Europe/Berlin:20261013T181500
UID:W35144021-20261013T171500@VHSBÖBLINGEN-SINDELFINGEN
SUMMARY:Fitness Mix für Frauen – Ganzkörpertraining (W35144021) 
LOCATION:HO, Heinrich-Harpprecht-Förderschule, F - Gymnastikraum, Berkenstraße 14, 71088 Holzgerlingen
END:VEVENT
BEGIN:VEVENT
DTSTAMP:20260421T142116
DTSTART;TZID=Europe/Berlin:20261020T171500
DTEND;TZID=Europe/Berlin:20261020T181500
UID:W35144021-20261020T171500@VHSBÖBLINGEN-SINDELFINGEN
SUMMARY:Fitness Mix für Frauen – Ganzkörpertraining (W35144021) 
LOCATION:HO, Heinrich-Harpprecht-Förderschule, F - Gymnastikraum, Berkenstraße 14, 71088 Holzgerlingen
END:VEVENT
BEGIN:VEVENT
DTSTAMP:20260421T142116
DTSTART;TZID=Europe/Berlin:20261103T171500
DTEND;TZID=Europe/Berlin:20261103T181500
UID:W35144021-20261103T171500@VHSBÖBLINGEN-SINDELFINGEN
SUMMARY:Fitness Mix für Frauen – Ganzkörpertraining (W35144021) 
LOCATION:HO, Heinrich-Harpprecht-Förderschule, F - Gymnastikraum, Berkenstraße 14, 71088 Holzgerlingen
END:VEVENT
BEGIN:VEVENT
DTSTAMP:20260421T142116
DTSTART;TZID=Europe/Berlin:20261110T171500
DTEND;TZID=Europe/Berlin:20261110T181500
UID:W35144021-20261110T171500@VHSBÖBLINGEN-SINDELFINGEN
SUMMARY:Fitness Mix für Frauen – Ganzkörpertraining (W35144021) 
LOCATION:HO, Heinrich-Harpprecht-Förderschule, F - Gymnastikraum, Berkenstraße 14, 71088 Holzgerlingen
END:VEVENT
BEGIN:VEVENT
DTSTAMP:20260421T142116
DTSTART;TZID=Europe/Berlin:20261117T171500
DTEND;TZID=Europe/Berlin:20261117T181500
UID:W35144021-20261117T171500@VHSBÖBLINGEN-SINDELFINGEN
SUMMARY:Fitness Mix für Frauen – Ganzkörpertraining (W35144021) 
LOCATION:HO, Heinrich-Harpprecht-Förderschule, F - Gymnastikraum, Berkenstraße 14, 71088 Holzgerlingen
END:VEVENT
BEGIN:VEVENT
DTSTAMP:20260421T142116
DTSTART;TZID=Europe/Berlin:20261124T171500
DTEND;TZID=Europe/Berlin:20261124T181500
UID:W35144021-20261124T171500@VHSBÖBLINGEN-SINDELFINGEN
SUMMARY:Fitness Mix für Frauen – Ganzkörpertraining (W35144021) 
LOCATION:HO, Heinrich-Harpprecht-Förderschule, F - Gymnastikraum, Berkenstraße 14, 71088 Holzgerlingen
END:VEVENT
BEGIN:VEVENT
DTSTAMP:20260421T142116
DTSTART;TZID=Europe/Berlin:20261201T171500
DTEND;TZID=Europe/Berlin:20261201T181500
UID:W35144021-20261201T171500@VHSBÖBLINGEN-SINDELFINGEN
SUMMARY:Fitness Mix für Frauen – Ganzkörpertraining (W35144021) 
LOCATION:HO, Heinrich-Harpprecht-Förderschule, F - Gymnastikraum, Berkenstraße 14, 71088 Holzgerlingen
END:VEVENT
BEGIN:VEVENT
DTSTAMP:20260421T142116
DTSTART;TZID=Europe/Berlin:20261208T171500
DTEND;TZID=Europe/Berlin:20261208T181500
UID:W35144021-20261208T171500@VHSBÖBLINGEN-SINDELFINGEN
SUMMARY:Fitness Mix für Frauen – Ganzkörpertraining (W35144021) 
LOCATION:HO, Heinrich-Harpprecht-Förderschule, F - Gymnastikraum, Berkenstraße 14, 71088 Holzgerlingen
END:VEVENT
BEGIN:VEVENT
DTSTAMP:20260421T142116
DTSTART;TZID=Europe/Berlin:20261215T171500
DTEND;TZID=Europe/Berlin:20261215T181500
UID:W35144021-20261215T171500@VHSBÖBLINGEN-SINDELFINGEN
SUMMARY:Fitness Mix für Frauen – Ganzkörpertraining (W35144021) 
LOCATION:HO, Heinrich-Harpprecht-Förderschule, F - Gymnastikraum, Berkenstraße 14, 71088 Holzgerlingen
END:VEVENT
BEGIN:VEVENT
DTSTAMP:20260421T142116
DTSTART;TZID=Europe/Berlin:20261222T171500
DTEND;TZID=Europe/Berlin:20261222T181500
UID:W35144021-20261222T171500@VHSBÖBLINGEN-SINDELFINGEN
SUMMARY:Fitness Mix für Frauen – Ganzkörpertraining (W35144021) 
LOCATION:HO, Heinrich-Harpprecht-Förderschule, F - Gymnastikraum, Berkenstraße 14, 71088 Holzgerlingen
END:VEVENT
BEGIN:VEVENT
DTSTAMP:20260421T142116
DTSTART;TZID=Europe/Berlin:20270112T171500
DTEND;TZID=Europe/Berlin:20270112T181500
UID:W35144021-20270112T171500@VHSBÖBLINGEN-SINDELFINGEN
SUMMARY:Fitness Mix für Frauen – Ganzkörpertraining (W35144021) 
LOCATION:HO, Heinrich-Harpprecht-Förderschule, F - Gymnastikraum, Berkenstraße 14, 71088 Holzgerlingen
END:VEVENT
BEGIN:VEVENT
DTSTAMP:20260421T142116
DTSTART;TZID=Europe/Berlin:20270119T171500
DTEND;TZID=Europe/Berlin:20270119T181500
UID:W35144021-20270119T171500@VHSBÖBLINGEN-SINDELFINGEN
SUMMARY:Fitness Mix für Frauen – Ganzkörpertraining (W35144021) 
LOCATION:HO, Heinrich-Harpprecht-Förderschule, F - Gymnastikraum, Berkenstraße 14, 71088 Holzgerlingen
END:VEVENT
BEGIN:VEVENT
DTSTAMP:20260421T142116
DTSTART;TZID=Europe/Berlin:20270126T171500
DTEND;TZID=Europe/Berlin:20270126T181500
UID:W35144021-20270126T171500@VHSBÖBLINGEN-SINDELFINGEN
SUMMARY:Fitness Mix für Frauen – Ganzkörpertraining (W35144021) 
LOCATION:HO, Heinrich-Harpprecht-Förderschule, F - Gymnastikraum, Berkenstraße 14, 71088 Holzgerlingen
END:VEVENT
BEGIN:VEVENT
DTSTAMP:20260421T142116
DTSTART;TZID=Europe/Berlin:20270202T171500
DTEND;TZID=Europe/Berlin:20270202T181500
UID:W35144021-20270202T171500@VHSBÖBLINGEN-SINDELFINGEN
SUMMARY:Fitness Mix für Frauen – Ganzkörpertraining (W35144021) 
LOCATION:HO, Heinrich-Harpprecht-Förderschule, F - Gymnastikraum, Berkenstraße 14, 71088 Holzgerlingen
END:VEVENT
END:VCALENDAR