BEGIN:VCALENDAR
VERSION:2.0
PRODID:https://www.kufer.de/kuferweb / DE
METHOD:PUBLISH
CALSCALE:GREGORIAN
X-WR-TIMEZONE:Europe/Berlin
BEGIN:VTIMEZONE
TZID:Europe/Berlin
X-LIC-LOCATION:Europe/Berlin
BEGIN:DAYLIGHT
TZOFFSETFROM:+0100
TZOFFSETTO:+0200
TZNAME:CEST
DTSTART:19700329T020000
RRULE:FREQ=YEARLY;INTERVAL=1;BYDAY=-1SU;BYMONTH=3
END:DAYLIGHT
BEGIN:STANDARD
TZOFFSETFROM:+0200
TZOFFSETTO:+0100
TZNAME:CET
DTSTART:19701025T030000
RRULE:FREQ=YEARLY;INTERVAL=1;BYDAY=-1SU;BYMONTH=10
END:STANDARD
END:VTIMEZONE
BEGIN:VEVENT
DTSTAMP:20260421T083955
DTSTART;TZID=Europe/Berlin:20260916T173000
DTEND;TZID=Europe/Berlin:20260916T183000
UID:W35143618-20260916T173000@VHSBÖBLINGEN-SINDELFINGEN
SUMMARY:Fitness-Mix für Frauen (W35143618) 
LOCATION:GR, Grundschule Dätzingen, Turnhalle, Döffinger Str. 55, 71120 Grafenau
END:VEVENT
BEGIN:VEVENT
DTSTAMP:20260421T083955
DTSTART;TZID=Europe/Berlin:20260923T173000
DTEND;TZID=Europe/Berlin:20260923T183000
UID:W35143618-20260923T173000@VHSBÖBLINGEN-SINDELFINGEN
SUMMARY:Fitness-Mix für Frauen (W35143618) 
LOCATION:GR, Grundschule Dätzingen, Turnhalle, Döffinger Str. 55, 71120 Grafenau
END:VEVENT
BEGIN:VEVENT
DTSTAMP:20260421T083955
DTSTART;TZID=Europe/Berlin:20260930T173000
DTEND;TZID=Europe/Berlin:20260930T183000
UID:W35143618-20260930T173000@VHSBÖBLINGEN-SINDELFINGEN
SUMMARY:Fitness-Mix für Frauen (W35143618) 
LOCATION:GR, Grundschule Dätzingen, Turnhalle, Döffinger Str. 55, 71120 Grafenau
END:VEVENT
BEGIN:VEVENT
DTSTAMP:20260421T083955
DTSTART;TZID=Europe/Berlin:20261007T173000
DTEND;TZID=Europe/Berlin:20261007T183000
UID:W35143618-20261007T173000@VHSBÖBLINGEN-SINDELFINGEN
SUMMARY:Fitness-Mix für Frauen (W35143618) 
LOCATION:GR, Grundschule Dätzingen, Turnhalle, Döffinger Str. 55, 71120 Grafenau
END:VEVENT
BEGIN:VEVENT
DTSTAMP:20260421T083955
DTSTART;TZID=Europe/Berlin:20261014T173000
DTEND;TZID=Europe/Berlin:20261014T183000
UID:W35143618-20261014T173000@VHSBÖBLINGEN-SINDELFINGEN
SUMMARY:Fitness-Mix für Frauen (W35143618) 
LOCATION:GR, Grundschule Dätzingen, Turnhalle, Döffinger Str. 55, 71120 Grafenau
END:VEVENT
BEGIN:VEVENT
DTSTAMP:20260421T083955
DTSTART;TZID=Europe/Berlin:20261021T173000
DTEND;TZID=Europe/Berlin:20261021T183000
UID:W35143618-20261021T173000@VHSBÖBLINGEN-SINDELFINGEN
SUMMARY:Fitness-Mix für Frauen (W35143618) 
LOCATION:GR, Grundschule Dätzingen, Turnhalle, Döffinger Str. 55, 71120 Grafenau
END:VEVENT
BEGIN:VEVENT
DTSTAMP:20260421T083955
DTSTART;TZID=Europe/Berlin:20261104T173000
DTEND;TZID=Europe/Berlin:20261104T183000
UID:W35143618-20261104T173000@VHSBÖBLINGEN-SINDELFINGEN
SUMMARY:Fitness-Mix für Frauen (W35143618) 
LOCATION:GR, Grundschule Dätzingen, Turnhalle, Döffinger Str. 55, 71120 Grafenau
END:VEVENT
BEGIN:VEVENT
DTSTAMP:20260421T083955
DTSTART;TZID=Europe/Berlin:20261111T173000
DTEND;TZID=Europe/Berlin:20261111T183000
UID:W35143618-20261111T173000@VHSBÖBLINGEN-SINDELFINGEN
SUMMARY:Fitness-Mix für Frauen (W35143618) 
LOCATION:GR, Grundschule Dätzingen, Turnhalle, Döffinger Str. 55, 71120 Grafenau
END:VEVENT
BEGIN:VEVENT
DTSTAMP:20260421T083955
DTSTART;TZID=Europe/Berlin:20261118T173000
DTEND;TZID=Europe/Berlin:20261118T183000
UID:W35143618-20261118T173000@VHSBÖBLINGEN-SINDELFINGEN
SUMMARY:Fitness-Mix für Frauen (W35143618) 
LOCATION:GR, Grundschule Dätzingen, Turnhalle, Döffinger Str. 55, 71120 Grafenau
END:VEVENT
BEGIN:VEVENT
DTSTAMP:20260421T083955
DTSTART;TZID=Europe/Berlin:20261125T173000
DTEND;TZID=Europe/Berlin:20261125T183000
UID:W35143618-20261125T173000@VHSBÖBLINGEN-SINDELFINGEN
SUMMARY:Fitness-Mix für Frauen (W35143618) 
LOCATION:GR, Grundschule Dätzingen, Turnhalle, Döffinger Str. 55, 71120 Grafenau
END:VEVENT
BEGIN:VEVENT
DTSTAMP:20260421T083955
DTSTART;TZID=Europe/Berlin:20261202T173000
DTEND;TZID=Europe/Berlin:20261202T183000
UID:W35143618-20261202T173000@VHSBÖBLINGEN-SINDELFINGEN
SUMMARY:Fitness-Mix für Frauen (W35143618) 
LOCATION:GR, Grundschule Dätzingen, Turnhalle, Döffinger Str. 55, 71120 Grafenau
END:VEVENT
BEGIN:VEVENT
DTSTAMP:20260421T083955
DTSTART;TZID=Europe/Berlin:20261209T173000
DTEND;TZID=Europe/Berlin:20261209T183000
UID:W35143618-20261209T173000@VHSBÖBLINGEN-SINDELFINGEN
SUMMARY:Fitness-Mix für Frauen (W35143618) 
LOCATION:GR, Grundschule Dätzingen, Turnhalle, Döffinger Str. 55, 71120 Grafenau
END:VEVENT
BEGIN:VEVENT
DTSTAMP:20260421T083955
DTSTART;TZID=Europe/Berlin:20261216T173000
DTEND;TZID=Europe/Berlin:20261216T183000
UID:W35143618-20261216T173000@VHSBÖBLINGEN-SINDELFINGEN
SUMMARY:Fitness-Mix für Frauen (W35143618) 
LOCATION:GR, Grundschule Dätzingen, Turnhalle, Döffinger Str. 55, 71120 Grafenau
END:VEVENT
BEGIN:VEVENT
DTSTAMP:20260421T083955
DTSTART;TZID=Europe/Berlin:20270113T173000
DTEND;TZID=Europe/Berlin:20270113T183000
UID:W35143618-20270113T173000@VHSBÖBLINGEN-SINDELFINGEN
SUMMARY:Fitness-Mix für Frauen (W35143618) 
LOCATION:GR, Grundschule Dätzingen, Turnhalle, Döffinger Str. 55, 71120 Grafenau
END:VEVENT
BEGIN:VEVENT
DTSTAMP:20260421T083955
DTSTART;TZID=Europe/Berlin:20270120T173000
DTEND;TZID=Europe/Berlin:20270120T183000
UID:W35143618-20270120T173000@VHSBÖBLINGEN-SINDELFINGEN
SUMMARY:Fitness-Mix für Frauen (W35143618) 
LOCATION:GR, Grundschule Dätzingen, Turnhalle, Döffinger Str. 55, 71120 Grafenau
END:VEVENT
BEGIN:VEVENT
DTSTAMP:20260421T083955
DTSTART;TZID=Europe/Berlin:20270127T173000
DTEND;TZID=Europe/Berlin:20270127T183000
UID:W35143618-20270127T173000@VHSBÖBLINGEN-SINDELFINGEN
SUMMARY:Fitness-Mix für Frauen (W35143618) 
LOCATION:GR, Grundschule Dätzingen, Turnhalle, Döffinger Str. 55, 71120 Grafenau
END:VEVENT
BEGIN:VEVENT
DTSTAMP:20260421T083955
DTSTART;TZID=Europe/Berlin:20270203T173000
DTEND;TZID=Europe/Berlin:20270203T183000
UID:W35143618-20270203T173000@VHSBÖBLINGEN-SINDELFINGEN
SUMMARY:Fitness-Mix für Frauen (W35143618) 
LOCATION:GR, Grundschule Dätzingen, Turnhalle, Döffinger Str. 55, 71120 Grafenau
END:VEVENT
END:VCALENDAR