BEGIN:VCALENDAR
VERSION:2.0
PRODID:https://www.kufer.de/kuferweb / DE
METHOD:PUBLISH
CALSCALE:GREGORIAN
X-WR-TIMEZONE:Europe/Berlin
BEGIN:VTIMEZONE
TZID:Europe/Berlin
X-LIC-LOCATION:Europe/Berlin
BEGIN:DAYLIGHT
TZOFFSETFROM:+0100
TZOFFSETTO:+0200
TZNAME:CEST
DTSTART:19700329T020000
RRULE:FREQ=YEARLY;INTERVAL=1;BYDAY=-1SU;BYMONTH=3
END:DAYLIGHT
BEGIN:STANDARD
TZOFFSETFROM:+0200
TZOFFSETTO:+0100
TZNAME:CET
DTSTART:19701025T030000
RRULE:FREQ=YEARLY;INTERVAL=1;BYDAY=-1SU;BYMONTH=10
END:STANDARD
END:VTIMEZONE
BEGIN:VEVENT
DTSTAMP:20260421T165339
DTSTART;TZID=Europe/Berlin:20260916T200000
DTEND;TZID=Europe/Berlin:20260916T210000
UID:W35140810-20260916T200000@VHSBÖBLINGEN-SINDELFINGEN
SUMMARY:Fitness-Mix (W35140810) 
LOCATION:vhs.Werk, Halle 2, Wurmbergstr. 5, 71063 Sindelfingen
END:VEVENT
BEGIN:VEVENT
DTSTAMP:20260421T165339
DTSTART;TZID=Europe/Berlin:20260923T200000
DTEND;TZID=Europe/Berlin:20260923T210000
UID:W35140810-20260923T200000@VHSBÖBLINGEN-SINDELFINGEN
SUMMARY:Fitness-Mix (W35140810) 
LOCATION:vhs.Werk, Halle 2, Wurmbergstr. 5, 71063 Sindelfingen
END:VEVENT
BEGIN:VEVENT
DTSTAMP:20260421T165339
DTSTART;TZID=Europe/Berlin:20260930T200000
DTEND;TZID=Europe/Berlin:20260930T210000
UID:W35140810-20260930T200000@VHSBÖBLINGEN-SINDELFINGEN
SUMMARY:Fitness-Mix (W35140810) 
LOCATION:vhs.Werk, Halle 2, Wurmbergstr. 5, 71063 Sindelfingen
END:VEVENT
BEGIN:VEVENT
DTSTAMP:20260421T165339
DTSTART;TZID=Europe/Berlin:20261007T200000
DTEND;TZID=Europe/Berlin:20261007T210000
UID:W35140810-20261007T200000@VHSBÖBLINGEN-SINDELFINGEN
SUMMARY:Fitness-Mix (W35140810) 
LOCATION:vhs.Werk, Halle 2, Wurmbergstr. 5, 71063 Sindelfingen
END:VEVENT
BEGIN:VEVENT
DTSTAMP:20260421T165339
DTSTART;TZID=Europe/Berlin:20261014T200000
DTEND;TZID=Europe/Berlin:20261014T210000
UID:W35140810-20261014T200000@VHSBÖBLINGEN-SINDELFINGEN
SUMMARY:Fitness-Mix (W35140810) 
LOCATION:vhs.Werk, Halle 2, Wurmbergstr. 5, 71063 Sindelfingen
END:VEVENT
BEGIN:VEVENT
DTSTAMP:20260421T165339
DTSTART;TZID=Europe/Berlin:20261021T200000
DTEND;TZID=Europe/Berlin:20261021T210000
UID:W35140810-20261021T200000@VHSBÖBLINGEN-SINDELFINGEN
SUMMARY:Fitness-Mix (W35140810) 
LOCATION:vhs.Werk, Halle 2, Wurmbergstr. 5, 71063 Sindelfingen
END:VEVENT
BEGIN:VEVENT
DTSTAMP:20260421T165339
DTSTART;TZID=Europe/Berlin:20261104T200000
DTEND;TZID=Europe/Berlin:20261104T210000
UID:W35140810-20261104T200000@VHSBÖBLINGEN-SINDELFINGEN
SUMMARY:Fitness-Mix (W35140810) 
LOCATION:vhs.Werk, Halle 2, Wurmbergstr. 5, 71063 Sindelfingen
END:VEVENT
BEGIN:VEVENT
DTSTAMP:20260421T165339
DTSTART;TZID=Europe/Berlin:20261111T200000
DTEND;TZID=Europe/Berlin:20261111T210000
UID:W35140810-20261111T200000@VHSBÖBLINGEN-SINDELFINGEN
SUMMARY:Fitness-Mix (W35140810) 
LOCATION:vhs.Werk, Halle 2, Wurmbergstr. 5, 71063 Sindelfingen
END:VEVENT
BEGIN:VEVENT
DTSTAMP:20260421T165339
DTSTART;TZID=Europe/Berlin:20261118T200000
DTEND;TZID=Europe/Berlin:20261118T210000
UID:W35140810-20261118T200000@VHSBÖBLINGEN-SINDELFINGEN
SUMMARY:Fitness-Mix (W35140810) 
LOCATION:vhs.Werk, Halle 2, Wurmbergstr. 5, 71063 Sindelfingen
END:VEVENT
BEGIN:VEVENT
DTSTAMP:20260421T165339
DTSTART;TZID=Europe/Berlin:20261125T200000
DTEND;TZID=Europe/Berlin:20261125T210000
UID:W35140810-20261125T200000@VHSBÖBLINGEN-SINDELFINGEN
SUMMARY:Fitness-Mix (W35140810) 
LOCATION:vhs.Werk, Halle 2, Wurmbergstr. 5, 71063 Sindelfingen
END:VEVENT
BEGIN:VEVENT
DTSTAMP:20260421T165339
DTSTART;TZID=Europe/Berlin:20261202T200000
DTEND;TZID=Europe/Berlin:20261202T210000
UID:W35140810-20261202T200000@VHSBÖBLINGEN-SINDELFINGEN
SUMMARY:Fitness-Mix (W35140810) 
LOCATION:vhs.Werk, Halle 2, Wurmbergstr. 5, 71063 Sindelfingen
END:VEVENT
BEGIN:VEVENT
DTSTAMP:20260421T165339
DTSTART;TZID=Europe/Berlin:20261209T200000
DTEND;TZID=Europe/Berlin:20261209T210000
UID:W35140810-20261209T200000@VHSBÖBLINGEN-SINDELFINGEN
SUMMARY:Fitness-Mix (W35140810) 
LOCATION:vhs.Werk, Halle 2, Wurmbergstr. 5, 71063 Sindelfingen
END:VEVENT
BEGIN:VEVENT
DTSTAMP:20260421T165339
DTSTART;TZID=Europe/Berlin:20261216T200000
DTEND;TZID=Europe/Berlin:20261216T210000
UID:W35140810-20261216T200000@VHSBÖBLINGEN-SINDELFINGEN
SUMMARY:Fitness-Mix (W35140810) 
LOCATION:vhs.Werk, Halle 2, Wurmbergstr. 5, 71063 Sindelfingen
END:VEVENT
BEGIN:VEVENT
DTSTAMP:20260421T165339
DTSTART;TZID=Europe/Berlin:20270113T200000
DTEND;TZID=Europe/Berlin:20270113T210000
UID:W35140810-20270113T200000@VHSBÖBLINGEN-SINDELFINGEN
SUMMARY:Fitness-Mix (W35140810) 
LOCATION:vhs.Werk, Halle 2, Wurmbergstr. 5, 71063 Sindelfingen
END:VEVENT
BEGIN:VEVENT
DTSTAMP:20260421T165339
DTSTART;TZID=Europe/Berlin:20270120T200000
DTEND;TZID=Europe/Berlin:20270120T210000
UID:W35140810-20270120T200000@VHSBÖBLINGEN-SINDELFINGEN
SUMMARY:Fitness-Mix (W35140810) 
LOCATION:vhs.Werk, Halle 2, Wurmbergstr. 5, 71063 Sindelfingen
END:VEVENT
BEGIN:VEVENT
DTSTAMP:20260421T165339
DTSTART;TZID=Europe/Berlin:20270127T200000
DTEND;TZID=Europe/Berlin:20270127T210000
UID:W35140810-20270127T200000@VHSBÖBLINGEN-SINDELFINGEN
SUMMARY:Fitness-Mix (W35140810) 
LOCATION:vhs.Werk, Halle 2, Wurmbergstr. 5, 71063 Sindelfingen
END:VEVENT
BEGIN:VEVENT
DTSTAMP:20260421T165339
DTSTART;TZID=Europe/Berlin:20270203T200000
DTEND;TZID=Europe/Berlin:20270203T210000
UID:W35140810-20270203T200000@VHSBÖBLINGEN-SINDELFINGEN
SUMMARY:Fitness-Mix (W35140810) 
LOCATION:vhs.Werk, Halle 2, Wurmbergstr. 5, 71063 Sindelfingen
END:VEVENT
END:VCALENDAR