BEGIN:VCALENDAR
VERSION:2.0
PRODID:https://www.kufer.de/kuferweb / DE
METHOD:PUBLISH
CALSCALE:GREGORIAN
X-WR-TIMEZONE:Europe/Berlin
BEGIN:VTIMEZONE
TZID:Europe/Berlin
X-LIC-LOCATION:Europe/Berlin
BEGIN:DAYLIGHT
TZOFFSETFROM:+0100
TZOFFSETTO:+0200
TZNAME:CEST
DTSTART:19700329T020000
RRULE:FREQ=YEARLY;INTERVAL=1;BYDAY=-1SU;BYMONTH=3
END:DAYLIGHT
BEGIN:STANDARD
TZOFFSETFROM:+0200
TZOFFSETTO:+0100
TZNAME:CET
DTSTART:19701025T030000
RRULE:FREQ=YEARLY;INTERVAL=1;BYDAY=-1SU;BYMONTH=10
END:STANDARD
END:VTIMEZONE
BEGIN:VEVENT
DTSTAMP:20260421T004210
DTSTART;TZID=Europe/Berlin:20260921T084500
DTEND;TZID=Europe/Berlin:20260921T100000
UID:W35134110-20260921T084500@VHSBÖBLINGEN-SINDELFINGEN
SUMMARY:Fit in den Tag (W35134110) 
LOCATION:Turn- und Festhalle Darmsheim, ___, Karlsstr. 27, 71069 Sindelfingen
END:VEVENT
BEGIN:VEVENT
DTSTAMP:20260421T004210
DTSTART;TZID=Europe/Berlin:20260928T084500
DTEND;TZID=Europe/Berlin:20260928T100000
UID:W35134110-20260928T084500@VHSBÖBLINGEN-SINDELFINGEN
SUMMARY:Fit in den Tag (W35134110) 
LOCATION:Turn- und Festhalle Darmsheim, ___, Karlsstr. 27, 71069 Sindelfingen
END:VEVENT
BEGIN:VEVENT
DTSTAMP:20260421T004210
DTSTART;TZID=Europe/Berlin:20261005T084500
DTEND;TZID=Europe/Berlin:20261005T100000
UID:W35134110-20261005T084500@VHSBÖBLINGEN-SINDELFINGEN
SUMMARY:Fit in den Tag (W35134110) 
LOCATION:Turn- und Festhalle Darmsheim, ___, Karlsstr. 27, 71069 Sindelfingen
END:VEVENT
BEGIN:VEVENT
DTSTAMP:20260421T004210
DTSTART;TZID=Europe/Berlin:20261012T084500
DTEND;TZID=Europe/Berlin:20261012T100000
UID:W35134110-20261012T084500@VHSBÖBLINGEN-SINDELFINGEN
SUMMARY:Fit in den Tag (W35134110) 
LOCATION:Turn- und Festhalle Darmsheim, ___, Karlsstr. 27, 71069 Sindelfingen
END:VEVENT
BEGIN:VEVENT
DTSTAMP:20260421T004210
DTSTART;TZID=Europe/Berlin:20261019T084500
DTEND;TZID=Europe/Berlin:20261019T100000
UID:W35134110-20261019T084500@VHSBÖBLINGEN-SINDELFINGEN
SUMMARY:Fit in den Tag (W35134110) 
LOCATION:Turn- und Festhalle Darmsheim, ___, Karlsstr. 27, 71069 Sindelfingen
END:VEVENT
BEGIN:VEVENT
DTSTAMP:20260421T004210
DTSTART;TZID=Europe/Berlin:20261102T084500
DTEND;TZID=Europe/Berlin:20261102T100000
UID:W35134110-20261102T084500@VHSBÖBLINGEN-SINDELFINGEN
SUMMARY:Fit in den Tag (W35134110) 
LOCATION:Turn- und Festhalle Darmsheim, ___, Karlsstr. 27, 71069 Sindelfingen
END:VEVENT
BEGIN:VEVENT
DTSTAMP:20260421T004210
DTSTART;TZID=Europe/Berlin:20261109T084500
DTEND;TZID=Europe/Berlin:20261109T100000
UID:W35134110-20261109T084500@VHSBÖBLINGEN-SINDELFINGEN
SUMMARY:Fit in den Tag (W35134110) 
LOCATION:Turn- und Festhalle Darmsheim, ___, Karlsstr. 27, 71069 Sindelfingen
END:VEVENT
BEGIN:VEVENT
DTSTAMP:20260421T004210
DTSTART;TZID=Europe/Berlin:20261116T084500
DTEND;TZID=Europe/Berlin:20261116T100000
UID:W35134110-20261116T084500@VHSBÖBLINGEN-SINDELFINGEN
SUMMARY:Fit in den Tag (W35134110) 
LOCATION:Turn- und Festhalle Darmsheim, ___, Karlsstr. 27, 71069 Sindelfingen
END:VEVENT
BEGIN:VEVENT
DTSTAMP:20260421T004210
DTSTART;TZID=Europe/Berlin:20261123T084500
DTEND;TZID=Europe/Berlin:20261123T100000
UID:W35134110-20261123T084500@VHSBÖBLINGEN-SINDELFINGEN
SUMMARY:Fit in den Tag (W35134110) 
LOCATION:Turn- und Festhalle Darmsheim, ___, Karlsstr. 27, 71069 Sindelfingen
END:VEVENT
BEGIN:VEVENT
DTSTAMP:20260421T004210
DTSTART;TZID=Europe/Berlin:20261130T084500
DTEND;TZID=Europe/Berlin:20261130T100000
UID:W35134110-20261130T084500@VHSBÖBLINGEN-SINDELFINGEN
SUMMARY:Fit in den Tag (W35134110) 
LOCATION:Turn- und Festhalle Darmsheim, ___, Karlsstr. 27, 71069 Sindelfingen
END:VEVENT
BEGIN:VEVENT
DTSTAMP:20260421T004210
DTSTART;TZID=Europe/Berlin:20261207T084500
DTEND;TZID=Europe/Berlin:20261207T100000
UID:W35134110-20261207T084500@VHSBÖBLINGEN-SINDELFINGEN
SUMMARY:Fit in den Tag (W35134110) 
LOCATION:Turn- und Festhalle Darmsheim, ___, Karlsstr. 27, 71069 Sindelfingen
END:VEVENT
BEGIN:VEVENT
DTSTAMP:20260421T004210
DTSTART;TZID=Europe/Berlin:20261214T084500
DTEND;TZID=Europe/Berlin:20261214T100000
UID:W35134110-20261214T084500@VHSBÖBLINGEN-SINDELFINGEN
SUMMARY:Fit in den Tag (W35134110) 
LOCATION:Turn- und Festhalle Darmsheim, ___, Karlsstr. 27, 71069 Sindelfingen
END:VEVENT
BEGIN:VEVENT
DTSTAMP:20260421T004210
DTSTART;TZID=Europe/Berlin:20261221T084500
DTEND;TZID=Europe/Berlin:20261221T100000
UID:W35134110-20261221T084500@VHSBÖBLINGEN-SINDELFINGEN
SUMMARY:Fit in den Tag (W35134110) 
LOCATION:Turn- und Festhalle Darmsheim, ___, Karlsstr. 27, 71069 Sindelfingen
END:VEVENT
BEGIN:VEVENT
DTSTAMP:20260421T004210
DTSTART;TZID=Europe/Berlin:20270111T084500
DTEND;TZID=Europe/Berlin:20270111T100000
UID:W35134110-20270111T084500@VHSBÖBLINGEN-SINDELFINGEN
SUMMARY:Fit in den Tag (W35134110) 
LOCATION:Turn- und Festhalle Darmsheim, ___, Karlsstr. 27, 71069 Sindelfingen
END:VEVENT
BEGIN:VEVENT
DTSTAMP:20260421T004210
DTSTART;TZID=Europe/Berlin:20270118T084500
DTEND;TZID=Europe/Berlin:20270118T100000
UID:W35134110-20270118T084500@VHSBÖBLINGEN-SINDELFINGEN
SUMMARY:Fit in den Tag (W35134110) 
LOCATION:Turn- und Festhalle Darmsheim, ___, Karlsstr. 27, 71069 Sindelfingen
END:VEVENT
BEGIN:VEVENT
DTSTAMP:20260421T004210
DTSTART;TZID=Europe/Berlin:20270125T084500
DTEND;TZID=Europe/Berlin:20270125T100000
UID:W35134110-20270125T084500@VHSBÖBLINGEN-SINDELFINGEN
SUMMARY:Fit in den Tag (W35134110) 
LOCATION:Turn- und Festhalle Darmsheim, ___, Karlsstr. 27, 71069 Sindelfingen
END:VEVENT
BEGIN:VEVENT
DTSTAMP:20260421T004210
DTSTART;TZID=Europe/Berlin:20270201T084500
DTEND;TZID=Europe/Berlin:20270201T100000
UID:W35134110-20270201T084500@VHSBÖBLINGEN-SINDELFINGEN
SUMMARY:Fit in den Tag (W35134110) 
LOCATION:Turn- und Festhalle Darmsheim, ___, Karlsstr. 27, 71069 Sindelfingen
END:VEVENT
END:VCALENDAR