BEGIN:VCALENDAR
VERSION:2.0
PRODID:https://www.kufer.de/kuferweb / DE
METHOD:PUBLISH
CALSCALE:GREGORIAN
X-WR-TIMEZONE:Europe/Berlin
BEGIN:VTIMEZONE
TZID:Europe/Berlin
X-LIC-LOCATION:Europe/Berlin
BEGIN:DAYLIGHT
TZOFFSETFROM:+0100
TZOFFSETTO:+0200
TZNAME:CEST
DTSTART:19700329T020000
RRULE:FREQ=YEARLY;INTERVAL=1;BYDAY=-1SU;BYMONTH=3
END:DAYLIGHT
BEGIN:STANDARD
TZOFFSETFROM:+0200
TZOFFSETTO:+0100
TZNAME:CET
DTSTART:19701025T030000
RRULE:FREQ=YEARLY;INTERVAL=1;BYDAY=-1SU;BYMONTH=10
END:STANDARD
END:VTIMEZONE
BEGIN:VEVENT
DTSTAMP:20260421T153511
DTSTART;TZID=Europe/Berlin:20260922T173000
DTEND;TZID=Europe/Berlin:20260922T183000
UID:W35063310-20260922T173000@VHSBÖBLINGEN-SINDELFINGEN
SUMMARY:Jump Dich Fit  Spaß auf dem Mini-Trampolin (W35063310) 
LOCATION:vhs auf der Hulb, ___, Otto-Lilienthal-Straße 4 , 71034 Böblingen
END:VEVENT
BEGIN:VEVENT
DTSTAMP:20260421T153511
DTSTART;TZID=Europe/Berlin:20260929T173000
DTEND;TZID=Europe/Berlin:20260929T183000
UID:W35063310-20260929T173000@VHSBÖBLINGEN-SINDELFINGEN
SUMMARY:Jump Dich Fit  Spaß auf dem Mini-Trampolin (W35063310) 
LOCATION:vhs auf der Hulb, ___, Otto-Lilienthal-Straße 4 , 71034 Böblingen
END:VEVENT
BEGIN:VEVENT
DTSTAMP:20260421T153511
DTSTART;TZID=Europe/Berlin:20261006T173000
DTEND;TZID=Europe/Berlin:20261006T183000
UID:W35063310-20261006T173000@VHSBÖBLINGEN-SINDELFINGEN
SUMMARY:Jump Dich Fit  Spaß auf dem Mini-Trampolin (W35063310) 
LOCATION:vhs auf der Hulb, ___, Otto-Lilienthal-Straße 4 , 71034 Böblingen
END:VEVENT
BEGIN:VEVENT
DTSTAMP:20260421T153511
DTSTART;TZID=Europe/Berlin:20261013T173000
DTEND;TZID=Europe/Berlin:20261013T183000
UID:W35063310-20261013T173000@VHSBÖBLINGEN-SINDELFINGEN
SUMMARY:Jump Dich Fit  Spaß auf dem Mini-Trampolin (W35063310) 
LOCATION:vhs auf der Hulb, ___, Otto-Lilienthal-Straße 4 , 71034 Böblingen
END:VEVENT
BEGIN:VEVENT
DTSTAMP:20260421T153511
DTSTART;TZID=Europe/Berlin:20261020T173000
DTEND;TZID=Europe/Berlin:20261020T183000
UID:W35063310-20261020T173000@VHSBÖBLINGEN-SINDELFINGEN
SUMMARY:Jump Dich Fit  Spaß auf dem Mini-Trampolin (W35063310) 
LOCATION:vhs auf der Hulb, ___, Otto-Lilienthal-Straße 4 , 71034 Böblingen
END:VEVENT
BEGIN:VEVENT
DTSTAMP:20260421T153511
DTSTART;TZID=Europe/Berlin:20261103T173000
DTEND;TZID=Europe/Berlin:20261103T183000
UID:W35063310-20261103T173000@VHSBÖBLINGEN-SINDELFINGEN
SUMMARY:Jump Dich Fit  Spaß auf dem Mini-Trampolin (W35063310) 
LOCATION:vhs auf der Hulb, ___, Otto-Lilienthal-Straße 4 , 71034 Böblingen
END:VEVENT
BEGIN:VEVENT
DTSTAMP:20260421T153511
DTSTART;TZID=Europe/Berlin:20261110T173000
DTEND;TZID=Europe/Berlin:20261110T183000
UID:W35063310-20261110T173000@VHSBÖBLINGEN-SINDELFINGEN
SUMMARY:Jump Dich Fit  Spaß auf dem Mini-Trampolin (W35063310) 
LOCATION:vhs auf der Hulb, ___, Otto-Lilienthal-Straße 4 , 71034 Böblingen
END:VEVENT
BEGIN:VEVENT
DTSTAMP:20260421T153511
DTSTART;TZID=Europe/Berlin:20261117T173000
DTEND;TZID=Europe/Berlin:20261117T183000
UID:W35063310-20261117T173000@VHSBÖBLINGEN-SINDELFINGEN
SUMMARY:Jump Dich Fit  Spaß auf dem Mini-Trampolin (W35063310) 
LOCATION:vhs auf der Hulb, ___, Otto-Lilienthal-Straße 4 , 71034 Böblingen
END:VEVENT
BEGIN:VEVENT
DTSTAMP:20260421T153511
DTSTART;TZID=Europe/Berlin:20261124T173000
DTEND;TZID=Europe/Berlin:20261124T183000
UID:W35063310-20261124T173000@VHSBÖBLINGEN-SINDELFINGEN
SUMMARY:Jump Dich Fit  Spaß auf dem Mini-Trampolin (W35063310) 
LOCATION:vhs auf der Hulb, ___, Otto-Lilienthal-Straße 4 , 71034 Böblingen
END:VEVENT
BEGIN:VEVENT
DTSTAMP:20260421T153511
DTSTART;TZID=Europe/Berlin:20261201T173000
DTEND;TZID=Europe/Berlin:20261201T183000
UID:W35063310-20261201T173000@VHSBÖBLINGEN-SINDELFINGEN
SUMMARY:Jump Dich Fit  Spaß auf dem Mini-Trampolin (W35063310) 
LOCATION:vhs auf der Hulb, ___, Otto-Lilienthal-Straße 4 , 71034 Böblingen
END:VEVENT
BEGIN:VEVENT
DTSTAMP:20260421T153511
DTSTART;TZID=Europe/Berlin:20261208T173000
DTEND;TZID=Europe/Berlin:20261208T183000
UID:W35063310-20261208T173000@VHSBÖBLINGEN-SINDELFINGEN
SUMMARY:Jump Dich Fit  Spaß auf dem Mini-Trampolin (W35063310) 
LOCATION:vhs auf der Hulb, ___, Otto-Lilienthal-Straße 4 , 71034 Böblingen
END:VEVENT
BEGIN:VEVENT
DTSTAMP:20260421T153511
DTSTART;TZID=Europe/Berlin:20261215T173000
DTEND;TZID=Europe/Berlin:20261215T183000
UID:W35063310-20261215T173000@VHSBÖBLINGEN-SINDELFINGEN
SUMMARY:Jump Dich Fit  Spaß auf dem Mini-Trampolin (W35063310) 
LOCATION:vhs auf der Hulb, ___, Otto-Lilienthal-Straße 4 , 71034 Böblingen
END:VEVENT
BEGIN:VEVENT
DTSTAMP:20260421T153511
DTSTART;TZID=Europe/Berlin:20261222T173000
DTEND;TZID=Europe/Berlin:20261222T183000
UID:W35063310-20261222T173000@VHSBÖBLINGEN-SINDELFINGEN
SUMMARY:Jump Dich Fit  Spaß auf dem Mini-Trampolin (W35063310) 
LOCATION:vhs auf der Hulb, ___, Otto-Lilienthal-Straße 4 , 71034 Böblingen
END:VEVENT
BEGIN:VEVENT
DTSTAMP:20260421T153511
DTSTART;TZID=Europe/Berlin:20270112T173000
DTEND;TZID=Europe/Berlin:20270112T183000
UID:W35063310-20270112T173000@VHSBÖBLINGEN-SINDELFINGEN
SUMMARY:Jump Dich Fit  Spaß auf dem Mini-Trampolin (W35063310) 
LOCATION:vhs auf der Hulb, ___, Otto-Lilienthal-Straße 4 , 71034 Böblingen
END:VEVENT
END:VCALENDAR