BEGIN:VCALENDAR
VERSION:2.0
PRODID:https://www.kufer.de/kuferweb / DE
METHOD:PUBLISH
CALSCALE:GREGORIAN
X-WR-TIMEZONE:Europe/Berlin
BEGIN:VTIMEZONE
TZID:Europe/Berlin
X-LIC-LOCATION:Europe/Berlin
BEGIN:DAYLIGHT
TZOFFSETFROM:+0100
TZOFFSETTO:+0200
TZNAME:CEST
DTSTART:19700329T020000
RRULE:FREQ=YEARLY;INTERVAL=1;BYDAY=-1SU;BYMONTH=3
END:DAYLIGHT
BEGIN:STANDARD
TZOFFSETFROM:+0200
TZOFFSETTO:+0100
TZNAME:CET
DTSTART:19701025T030000
RRULE:FREQ=YEARLY;INTERVAL=1;BYDAY=-1SU;BYMONTH=10
END:STANDARD
END:VTIMEZONE
BEGIN:VEVENT
DTSTAMP:20260421T183511
DTSTART;TZID=Europe/Berlin:20260914T190000
DTEND;TZID=Europe/Berlin:20260914T200000
UID:W35055315-20260914T190000@VHSBÖBLINGEN-SINDELFINGEN
SUMMARY:Medical Cardio-Core-Mix Ein abwechslungsreiches Fitness-Workout (W35055315) 
LOCATION:EH, Sportzentrum Schalkwiese Halle 2, G1, Hildrizhauser Str. 80, 71139 Ehningen
END:VEVENT
BEGIN:VEVENT
DTSTAMP:20260421T183511
DTSTART;TZID=Europe/Berlin:20260921T190000
DTEND;TZID=Europe/Berlin:20260921T200000
UID:W35055315-20260921T190000@VHSBÖBLINGEN-SINDELFINGEN
SUMMARY:Medical Cardio-Core-Mix Ein abwechslungsreiches Fitness-Workout (W35055315) 
LOCATION:EH, Sportzentrum Schalkwiese Halle 2, G1, Hildrizhauser Str. 80, 71139 Ehningen
END:VEVENT
BEGIN:VEVENT
DTSTAMP:20260421T183511
DTSTART;TZID=Europe/Berlin:20260928T190000
DTEND;TZID=Europe/Berlin:20260928T200000
UID:W35055315-20260928T190000@VHSBÖBLINGEN-SINDELFINGEN
SUMMARY:Medical Cardio-Core-Mix Ein abwechslungsreiches Fitness-Workout (W35055315) 
LOCATION:EH, Sportzentrum Schalkwiese Halle 2, G1, Hildrizhauser Str. 80, 71139 Ehningen
END:VEVENT
BEGIN:VEVENT
DTSTAMP:20260421T183511
DTSTART;TZID=Europe/Berlin:20261005T190000
DTEND;TZID=Europe/Berlin:20261005T200000
UID:W35055315-20261005T190000@VHSBÖBLINGEN-SINDELFINGEN
SUMMARY:Medical Cardio-Core-Mix Ein abwechslungsreiches Fitness-Workout (W35055315) 
LOCATION:EH, Sportzentrum Schalkwiese Halle 2, G1, Hildrizhauser Str. 80, 71139 Ehningen
END:VEVENT
BEGIN:VEVENT
DTSTAMP:20260421T183511
DTSTART;TZID=Europe/Berlin:20261012T190000
DTEND;TZID=Europe/Berlin:20261012T200000
UID:W35055315-20261012T190000@VHSBÖBLINGEN-SINDELFINGEN
SUMMARY:Medical Cardio-Core-Mix Ein abwechslungsreiches Fitness-Workout (W35055315) 
LOCATION:EH, Sportzentrum Schalkwiese Halle 2, G1, Hildrizhauser Str. 80, 71139 Ehningen
END:VEVENT
BEGIN:VEVENT
DTSTAMP:20260421T183511
DTSTART;TZID=Europe/Berlin:20261019T190000
DTEND;TZID=Europe/Berlin:20261019T200000
UID:W35055315-20261019T190000@VHSBÖBLINGEN-SINDELFINGEN
SUMMARY:Medical Cardio-Core-Mix Ein abwechslungsreiches Fitness-Workout (W35055315) 
LOCATION:EH, Sportzentrum Schalkwiese Halle 2, G1, Hildrizhauser Str. 80, 71139 Ehningen
END:VEVENT
BEGIN:VEVENT
DTSTAMP:20260421T183511
DTSTART;TZID=Europe/Berlin:20261102T190000
DTEND;TZID=Europe/Berlin:20261102T200000
UID:W35055315-20261102T190000@VHSBÖBLINGEN-SINDELFINGEN
SUMMARY:Medical Cardio-Core-Mix Ein abwechslungsreiches Fitness-Workout (W35055315) 
LOCATION:EH, Sportzentrum Schalkwiese Halle 2, G1, Hildrizhauser Str. 80, 71139 Ehningen
END:VEVENT
BEGIN:VEVENT
DTSTAMP:20260421T183511
DTSTART;TZID=Europe/Berlin:20261109T190000
DTEND;TZID=Europe/Berlin:20261109T200000
UID:W35055315-20261109T190000@VHSBÖBLINGEN-SINDELFINGEN
SUMMARY:Medical Cardio-Core-Mix Ein abwechslungsreiches Fitness-Workout (W35055315) 
LOCATION:EH, Sportzentrum Schalkwiese Halle 2, G1, Hildrizhauser Str. 80, 71139 Ehningen
END:VEVENT
BEGIN:VEVENT
DTSTAMP:20260421T183511
DTSTART;TZID=Europe/Berlin:20261116T190000
DTEND;TZID=Europe/Berlin:20261116T200000
UID:W35055315-20261116T190000@VHSBÖBLINGEN-SINDELFINGEN
SUMMARY:Medical Cardio-Core-Mix Ein abwechslungsreiches Fitness-Workout (W35055315) 
LOCATION:EH, Sportzentrum Schalkwiese Halle 2, G1, Hildrizhauser Str. 80, 71139 Ehningen
END:VEVENT
BEGIN:VEVENT
DTSTAMP:20260421T183511
DTSTART;TZID=Europe/Berlin:20261123T190000
DTEND;TZID=Europe/Berlin:20261123T200000
UID:W35055315-20261123T190000@VHSBÖBLINGEN-SINDELFINGEN
SUMMARY:Medical Cardio-Core-Mix Ein abwechslungsreiches Fitness-Workout (W35055315) 
LOCATION:EH, Sportzentrum Schalkwiese Halle 2, G1, Hildrizhauser Str. 80, 71139 Ehningen
END:VEVENT
BEGIN:VEVENT
DTSTAMP:20260421T183511
DTSTART;TZID=Europe/Berlin:20261130T190000
DTEND;TZID=Europe/Berlin:20261130T200000
UID:W35055315-20261130T190000@VHSBÖBLINGEN-SINDELFINGEN
SUMMARY:Medical Cardio-Core-Mix Ein abwechslungsreiches Fitness-Workout (W35055315) 
LOCATION:EH, Sportzentrum Schalkwiese Halle 2, G1, Hildrizhauser Str. 80, 71139 Ehningen
END:VEVENT
BEGIN:VEVENT
DTSTAMP:20260421T183511
DTSTART;TZID=Europe/Berlin:20261207T190000
DTEND;TZID=Europe/Berlin:20261207T200000
UID:W35055315-20261207T190000@VHSBÖBLINGEN-SINDELFINGEN
SUMMARY:Medical Cardio-Core-Mix Ein abwechslungsreiches Fitness-Workout (W35055315) 
LOCATION:EH, Sportzentrum Schalkwiese Halle 2, G1, Hildrizhauser Str. 80, 71139 Ehningen
END:VEVENT
BEGIN:VEVENT
DTSTAMP:20260421T183511
DTSTART;TZID=Europe/Berlin:20261214T190000
DTEND;TZID=Europe/Berlin:20261214T200000
UID:W35055315-20261214T190000@VHSBÖBLINGEN-SINDELFINGEN
SUMMARY:Medical Cardio-Core-Mix Ein abwechslungsreiches Fitness-Workout (W35055315) 
LOCATION:EH, Sportzentrum Schalkwiese Halle 2, G1, Hildrizhauser Str. 80, 71139 Ehningen
END:VEVENT
BEGIN:VEVENT
DTSTAMP:20260421T183511
DTSTART;TZID=Europe/Berlin:20261221T190000
DTEND;TZID=Europe/Berlin:20261221T200000
UID:W35055315-20261221T190000@VHSBÖBLINGEN-SINDELFINGEN
SUMMARY:Medical Cardio-Core-Mix Ein abwechslungsreiches Fitness-Workout (W35055315) 
LOCATION:EH, Sportzentrum Schalkwiese Halle 2, G1, Hildrizhauser Str. 80, 71139 Ehningen
END:VEVENT
BEGIN:VEVENT
DTSTAMP:20260421T183511
DTSTART;TZID=Europe/Berlin:20270111T190000
DTEND;TZID=Europe/Berlin:20270111T200000
UID:W35055315-20270111T190000@VHSBÖBLINGEN-SINDELFINGEN
SUMMARY:Medical Cardio-Core-Mix Ein abwechslungsreiches Fitness-Workout (W35055315) 
LOCATION:EH, Sportzentrum Schalkwiese Halle 2, G1, Hildrizhauser Str. 80, 71139 Ehningen
END:VEVENT
BEGIN:VEVENT
DTSTAMP:20260421T183511
DTSTART;TZID=Europe/Berlin:20270118T190000
DTEND;TZID=Europe/Berlin:20270118T200000
UID:W35055315-20270118T190000@VHSBÖBLINGEN-SINDELFINGEN
SUMMARY:Medical Cardio-Core-Mix Ein abwechslungsreiches Fitness-Workout (W35055315) 
LOCATION:EH, Sportzentrum Schalkwiese Halle 2, G1, Hildrizhauser Str. 80, 71139 Ehningen
END:VEVENT
BEGIN:VEVENT
DTSTAMP:20260421T183511
DTSTART;TZID=Europe/Berlin:20270125T190000
DTEND;TZID=Europe/Berlin:20270125T200000
UID:W35055315-20270125T190000@VHSBÖBLINGEN-SINDELFINGEN
SUMMARY:Medical Cardio-Core-Mix Ein abwechslungsreiches Fitness-Workout (W35055315) 
LOCATION:EH, Sportzentrum Schalkwiese Halle 2, G1, Hildrizhauser Str. 80, 71139 Ehningen
END:VEVENT
BEGIN:VEVENT
DTSTAMP:20260421T183511
DTSTART;TZID=Europe/Berlin:20270201T190000
DTEND;TZID=Europe/Berlin:20270201T200000
UID:W35055315-20270201T190000@VHSBÖBLINGEN-SINDELFINGEN
SUMMARY:Medical Cardio-Core-Mix Ein abwechslungsreiches Fitness-Workout (W35055315) 
LOCATION:EH, Sportzentrum Schalkwiese Halle 2, G1, Hildrizhauser Str. 80, 71139 Ehningen
END:VEVENT
END:VCALENDAR