BEGIN:VCALENDAR
VERSION:2.0
PRODID:https://www.kufer.de/kuferweb / DE
METHOD:PUBLISH
CALSCALE:GREGORIAN
X-WR-TIMEZONE:Europe/Berlin
BEGIN:VTIMEZONE
TZID:Europe/Berlin
X-LIC-LOCATION:Europe/Berlin
BEGIN:DAYLIGHT
TZOFFSETFROM:+0100
TZOFFSETTO:+0200
TZNAME:CEST
DTSTART:19700329T020000
RRULE:FREQ=YEARLY;INTERVAL=1;BYDAY=-1SU;BYMONTH=3
END:DAYLIGHT
BEGIN:STANDARD
TZOFFSETFROM:+0200
TZOFFSETTO:+0100
TZNAME:CET
DTSTART:19701025T030000
RRULE:FREQ=YEARLY;INTERVAL=1;BYDAY=-1SU;BYMONTH=10
END:STANDARD
END:VTIMEZONE
BEGIN:VEVENT
DTSTAMP:20260421T182554
DTSTART;TZID=Europe/Berlin:20260914T175500
DTEND;TZID=Europe/Berlin:20260914T185500
UID:W35055115-20260914T175500@VHSBÖBLINGEN-SINDELFINGEN
SUMMARY:Medical Cardio-Core-Mix Ein abwechslungsreiches Fitness-Workout (W35055115) 
LOCATION:EH, Sportzentrum Schalkwiese Halle 2, G1, Hildrizhauser Str. 80, 71139 Ehningen
END:VEVENT
BEGIN:VEVENT
DTSTAMP:20260421T182554
DTSTART;TZID=Europe/Berlin:20260921T175500
DTEND;TZID=Europe/Berlin:20260921T185500
UID:W35055115-20260921T175500@VHSBÖBLINGEN-SINDELFINGEN
SUMMARY:Medical Cardio-Core-Mix Ein abwechslungsreiches Fitness-Workout (W35055115) 
LOCATION:EH, Sportzentrum Schalkwiese Halle 2, G1, Hildrizhauser Str. 80, 71139 Ehningen
END:VEVENT
BEGIN:VEVENT
DTSTAMP:20260421T182554
DTSTART;TZID=Europe/Berlin:20260928T175500
DTEND;TZID=Europe/Berlin:20260928T185500
UID:W35055115-20260928T175500@VHSBÖBLINGEN-SINDELFINGEN
SUMMARY:Medical Cardio-Core-Mix Ein abwechslungsreiches Fitness-Workout (W35055115) 
LOCATION:EH, Sportzentrum Schalkwiese Halle 2, G1, Hildrizhauser Str. 80, 71139 Ehningen
END:VEVENT
BEGIN:VEVENT
DTSTAMP:20260421T182554
DTSTART;TZID=Europe/Berlin:20261005T175500
DTEND;TZID=Europe/Berlin:20261005T185500
UID:W35055115-20261005T175500@VHSBÖBLINGEN-SINDELFINGEN
SUMMARY:Medical Cardio-Core-Mix Ein abwechslungsreiches Fitness-Workout (W35055115) 
LOCATION:EH, Sportzentrum Schalkwiese Halle 2, G1, Hildrizhauser Str. 80, 71139 Ehningen
END:VEVENT
BEGIN:VEVENT
DTSTAMP:20260421T182554
DTSTART;TZID=Europe/Berlin:20261012T175500
DTEND;TZID=Europe/Berlin:20261012T185500
UID:W35055115-20261012T175500@VHSBÖBLINGEN-SINDELFINGEN
SUMMARY:Medical Cardio-Core-Mix Ein abwechslungsreiches Fitness-Workout (W35055115) 
LOCATION:EH, Sportzentrum Schalkwiese Halle 2, G1, Hildrizhauser Str. 80, 71139 Ehningen
END:VEVENT
BEGIN:VEVENT
DTSTAMP:20260421T182554
DTSTART;TZID=Europe/Berlin:20261019T175500
DTEND;TZID=Europe/Berlin:20261019T185500
UID:W35055115-20261019T175500@VHSBÖBLINGEN-SINDELFINGEN
SUMMARY:Medical Cardio-Core-Mix Ein abwechslungsreiches Fitness-Workout (W35055115) 
LOCATION:EH, Sportzentrum Schalkwiese Halle 2, G1, Hildrizhauser Str. 80, 71139 Ehningen
END:VEVENT
BEGIN:VEVENT
DTSTAMP:20260421T182554
DTSTART;TZID=Europe/Berlin:20261102T175500
DTEND;TZID=Europe/Berlin:20261102T185500
UID:W35055115-20261102T175500@VHSBÖBLINGEN-SINDELFINGEN
SUMMARY:Medical Cardio-Core-Mix Ein abwechslungsreiches Fitness-Workout (W35055115) 
LOCATION:EH, Sportzentrum Schalkwiese Halle 2, G1, Hildrizhauser Str. 80, 71139 Ehningen
END:VEVENT
BEGIN:VEVENT
DTSTAMP:20260421T182554
DTSTART;TZID=Europe/Berlin:20261109T175500
DTEND;TZID=Europe/Berlin:20261109T185500
UID:W35055115-20261109T175500@VHSBÖBLINGEN-SINDELFINGEN
SUMMARY:Medical Cardio-Core-Mix Ein abwechslungsreiches Fitness-Workout (W35055115) 
LOCATION:EH, Sportzentrum Schalkwiese Halle 2, G1, Hildrizhauser Str. 80, 71139 Ehningen
END:VEVENT
BEGIN:VEVENT
DTSTAMP:20260421T182554
DTSTART;TZID=Europe/Berlin:20261116T175500
DTEND;TZID=Europe/Berlin:20261116T185500
UID:W35055115-20261116T175500@VHSBÖBLINGEN-SINDELFINGEN
SUMMARY:Medical Cardio-Core-Mix Ein abwechslungsreiches Fitness-Workout (W35055115) 
LOCATION:EH, Sportzentrum Schalkwiese Halle 2, G1, Hildrizhauser Str. 80, 71139 Ehningen
END:VEVENT
BEGIN:VEVENT
DTSTAMP:20260421T182554
DTSTART;TZID=Europe/Berlin:20261123T175500
DTEND;TZID=Europe/Berlin:20261123T185500
UID:W35055115-20261123T175500@VHSBÖBLINGEN-SINDELFINGEN
SUMMARY:Medical Cardio-Core-Mix Ein abwechslungsreiches Fitness-Workout (W35055115) 
LOCATION:EH, Sportzentrum Schalkwiese Halle 2, G1, Hildrizhauser Str. 80, 71139 Ehningen
END:VEVENT
BEGIN:VEVENT
DTSTAMP:20260421T182554
DTSTART;TZID=Europe/Berlin:20261130T175500
DTEND;TZID=Europe/Berlin:20261130T185500
UID:W35055115-20261130T175500@VHSBÖBLINGEN-SINDELFINGEN
SUMMARY:Medical Cardio-Core-Mix Ein abwechslungsreiches Fitness-Workout (W35055115) 
LOCATION:EH, Sportzentrum Schalkwiese Halle 2, G1, Hildrizhauser Str. 80, 71139 Ehningen
END:VEVENT
BEGIN:VEVENT
DTSTAMP:20260421T182554
DTSTART;TZID=Europe/Berlin:20261207T175500
DTEND;TZID=Europe/Berlin:20261207T185500
UID:W35055115-20261207T175500@VHSBÖBLINGEN-SINDELFINGEN
SUMMARY:Medical Cardio-Core-Mix Ein abwechslungsreiches Fitness-Workout (W35055115) 
LOCATION:EH, Sportzentrum Schalkwiese Halle 2, G1, Hildrizhauser Str. 80, 71139 Ehningen
END:VEVENT
BEGIN:VEVENT
DTSTAMP:20260421T182554
DTSTART;TZID=Europe/Berlin:20261214T175500
DTEND;TZID=Europe/Berlin:20261214T185500
UID:W35055115-20261214T175500@VHSBÖBLINGEN-SINDELFINGEN
SUMMARY:Medical Cardio-Core-Mix Ein abwechslungsreiches Fitness-Workout (W35055115) 
LOCATION:EH, Sportzentrum Schalkwiese Halle 2, G1, Hildrizhauser Str. 80, 71139 Ehningen
END:VEVENT
BEGIN:VEVENT
DTSTAMP:20260421T182554
DTSTART;TZID=Europe/Berlin:20261221T175500
DTEND;TZID=Europe/Berlin:20261221T185500
UID:W35055115-20261221T175500@VHSBÖBLINGEN-SINDELFINGEN
SUMMARY:Medical Cardio-Core-Mix Ein abwechslungsreiches Fitness-Workout (W35055115) 
LOCATION:EH, Sportzentrum Schalkwiese Halle 2, G1, Hildrizhauser Str. 80, 71139 Ehningen
END:VEVENT
BEGIN:VEVENT
DTSTAMP:20260421T182554
DTSTART;TZID=Europe/Berlin:20270111T175500
DTEND;TZID=Europe/Berlin:20270111T185500
UID:W35055115-20270111T175500@VHSBÖBLINGEN-SINDELFINGEN
SUMMARY:Medical Cardio-Core-Mix Ein abwechslungsreiches Fitness-Workout (W35055115) 
LOCATION:EH, Sportzentrum Schalkwiese Halle 2, G1, Hildrizhauser Str. 80, 71139 Ehningen
END:VEVENT
BEGIN:VEVENT
DTSTAMP:20260421T182554
DTSTART;TZID=Europe/Berlin:20270118T175500
DTEND;TZID=Europe/Berlin:20270118T185500
UID:W35055115-20270118T175500@VHSBÖBLINGEN-SINDELFINGEN
SUMMARY:Medical Cardio-Core-Mix Ein abwechslungsreiches Fitness-Workout (W35055115) 
LOCATION:EH, Sportzentrum Schalkwiese Halle 2, G1, Hildrizhauser Str. 80, 71139 Ehningen
END:VEVENT
BEGIN:VEVENT
DTSTAMP:20260421T182554
DTSTART;TZID=Europe/Berlin:20270125T175500
DTEND;TZID=Europe/Berlin:20270125T185500
UID:W35055115-20270125T175500@VHSBÖBLINGEN-SINDELFINGEN
SUMMARY:Medical Cardio-Core-Mix Ein abwechslungsreiches Fitness-Workout (W35055115) 
LOCATION:EH, Sportzentrum Schalkwiese Halle 2, G1, Hildrizhauser Str. 80, 71139 Ehningen
END:VEVENT
BEGIN:VEVENT
DTSTAMP:20260421T182554
DTSTART;TZID=Europe/Berlin:20270201T175500
DTEND;TZID=Europe/Berlin:20270201T185500
UID:W35055115-20270201T175500@VHSBÖBLINGEN-SINDELFINGEN
SUMMARY:Medical Cardio-Core-Mix Ein abwechslungsreiches Fitness-Workout (W35055115) 
LOCATION:EH, Sportzentrum Schalkwiese Halle 2, G1, Hildrizhauser Str. 80, 71139 Ehningen
END:VEVENT
END:VCALENDAR