BEGIN:VCALENDAR
VERSION:2.0
PRODID:https://www.kufer.de/kuferweb / DE
METHOD:PUBLISH
CALSCALE:GREGORIAN
X-WR-TIMEZONE:Europe/Berlin
BEGIN:VTIMEZONE
TZID:Europe/Berlin
X-LIC-LOCATION:Europe/Berlin
BEGIN:DAYLIGHT
TZOFFSETFROM:+0100
TZOFFSETTO:+0200
TZNAME:CEST
DTSTART:19700329T020000
RRULE:FREQ=YEARLY;INTERVAL=1;BYDAY=-1SU;BYMONTH=3
END:DAYLIGHT
BEGIN:STANDARD
TZOFFSETFROM:+0200
TZOFFSETTO:+0100
TZNAME:CET
DTSTART:19701025T030000
RRULE:FREQ=YEARLY;INTERVAL=1;BYDAY=-1SU;BYMONTH=10
END:STANDARD
END:VTIMEZONE
BEGIN:VEVENT
DTSTAMP:20260421T194202
DTSTART;TZID=Europe/Berlin:20270112T174000
DTEND;TZID=Europe/Berlin:20270112T184000
UID:W34351110-20270112T174000@VHSBÖBLINGEN-SINDELFINGEN
SUMMARY:Pilates - Schwerpunkt Rücken (W34351110) 
LOCATION:vhs.Werk, Halle 2, Wurmbergstr. 5, 71063 Sindelfingen
END:VEVENT
BEGIN:VEVENT
DTSTAMP:20260421T194202
DTSTART;TZID=Europe/Berlin:20270119T174000
DTEND;TZID=Europe/Berlin:20270119T184000
UID:W34351110-20270119T174000@VHSBÖBLINGEN-SINDELFINGEN
SUMMARY:Pilates - Schwerpunkt Rücken (W34351110) 
LOCATION:vhs.Werk, Halle 2, Wurmbergstr. 5, 71063 Sindelfingen
END:VEVENT
BEGIN:VEVENT
DTSTAMP:20260421T194202
DTSTART;TZID=Europe/Berlin:20270126T174000
DTEND;TZID=Europe/Berlin:20270126T184000
UID:W34351110-20270126T174000@VHSBÖBLINGEN-SINDELFINGEN
SUMMARY:Pilates - Schwerpunkt Rücken (W34351110) 
LOCATION:vhs.Werk, Halle 2, Wurmbergstr. 5, 71063 Sindelfingen
END:VEVENT
BEGIN:VEVENT
DTSTAMP:20260421T194202
DTSTART;TZID=Europe/Berlin:20270202T174000
DTEND;TZID=Europe/Berlin:20270202T184000
UID:W34351110-20270202T174000@VHSBÖBLINGEN-SINDELFINGEN
SUMMARY:Pilates - Schwerpunkt Rücken (W34351110) 
LOCATION:vhs.Werk, Halle 2, Wurmbergstr. 5, 71063 Sindelfingen
END:VEVENT
END:VCALENDAR