BEGIN:VCALENDAR
VERSION:2.0
PRODID:https://www.kufer.de/kuferweb / DE
METHOD:PUBLISH
CALSCALE:GREGORIAN
X-WR-TIMEZONE:Europe/Berlin
BEGIN:VTIMEZONE
TZID:Europe/Berlin
X-LIC-LOCATION:Europe/Berlin
BEGIN:DAYLIGHT
TZOFFSETFROM:+0100
TZOFFSETTO:+0200
TZNAME:CEST
DTSTART:19700329T020000
RRULE:FREQ=YEARLY;INTERVAL=1;BYDAY=-1SU;BYMONTH=3
END:DAYLIGHT
BEGIN:STANDARD
TZOFFSETFROM:+0200
TZOFFSETTO:+0100
TZNAME:CET
DTSTART:19701025T030000
RRULE:FREQ=YEARLY;INTERVAL=1;BYDAY=-1SU;BYMONTH=10
END:STANDARD
END:VTIMEZONE
BEGIN:VEVENT
DTSTAMP:20260421T144044
DTSTART;TZID=Europe/Berlin:20260922T174000
DTEND;TZID=Europe/Berlin:20260922T184000
UID:W34351010-20260922T174000@VHSBÖBLINGEN-SINDELFINGEN
SUMMARY:Pilates - Schwerpunkt Rücken (W34351010) 
LOCATION:vhs.Werk, Halle 2, Wurmbergstr. 5, 71063 Sindelfingen
END:VEVENT
BEGIN:VEVENT
DTSTAMP:20260421T144044
DTSTART;TZID=Europe/Berlin:20260929T174000
DTEND;TZID=Europe/Berlin:20260929T184000
UID:W34351010-20260929T174000@VHSBÖBLINGEN-SINDELFINGEN
SUMMARY:Pilates - Schwerpunkt Rücken (W34351010) 
LOCATION:vhs.Werk, Halle 2, Wurmbergstr. 5, 71063 Sindelfingen
END:VEVENT
BEGIN:VEVENT
DTSTAMP:20260421T144044
DTSTART;TZID=Europe/Berlin:20261006T174000
DTEND;TZID=Europe/Berlin:20261006T184000
UID:W34351010-20261006T174000@VHSBÖBLINGEN-SINDELFINGEN
SUMMARY:Pilates - Schwerpunkt Rücken (W34351010) 
LOCATION:vhs.Werk, Halle 2, Wurmbergstr. 5, 71063 Sindelfingen
END:VEVENT
BEGIN:VEVENT
DTSTAMP:20260421T144044
DTSTART;TZID=Europe/Berlin:20261013T174000
DTEND;TZID=Europe/Berlin:20261013T184000
UID:W34351010-20261013T174000@VHSBÖBLINGEN-SINDELFINGEN
SUMMARY:Pilates - Schwerpunkt Rücken (W34351010) 
LOCATION:vhs.Werk, Halle 2, Wurmbergstr. 5, 71063 Sindelfingen
END:VEVENT
BEGIN:VEVENT
DTSTAMP:20260421T144044
DTSTART;TZID=Europe/Berlin:20261020T174000
DTEND;TZID=Europe/Berlin:20261020T184000
UID:W34351010-20261020T174000@VHSBÖBLINGEN-SINDELFINGEN
SUMMARY:Pilates - Schwerpunkt Rücken (W34351010) 
LOCATION:vhs.Werk, Halle 2, Wurmbergstr. 5, 71063 Sindelfingen
END:VEVENT
BEGIN:VEVENT
DTSTAMP:20260421T144044
DTSTART;TZID=Europe/Berlin:20261103T174000
DTEND;TZID=Europe/Berlin:20261103T184000
UID:W34351010-20261103T174000@VHSBÖBLINGEN-SINDELFINGEN
SUMMARY:Pilates - Schwerpunkt Rücken (W34351010) 
LOCATION:vhs.Werk, Halle 2, Wurmbergstr. 5, 71063 Sindelfingen
END:VEVENT
BEGIN:VEVENT
DTSTAMP:20260421T144044
DTSTART;TZID=Europe/Berlin:20261110T174000
DTEND;TZID=Europe/Berlin:20261110T184000
UID:W34351010-20261110T174000@VHSBÖBLINGEN-SINDELFINGEN
SUMMARY:Pilates - Schwerpunkt Rücken (W34351010) 
LOCATION:vhs.Werk, Halle 2, Wurmbergstr. 5, 71063 Sindelfingen
END:VEVENT
BEGIN:VEVENT
DTSTAMP:20260421T144044
DTSTART;TZID=Europe/Berlin:20261117T174000
DTEND;TZID=Europe/Berlin:20261117T184000
UID:W34351010-20261117T174000@VHSBÖBLINGEN-SINDELFINGEN
SUMMARY:Pilates - Schwerpunkt Rücken (W34351010) 
LOCATION:vhs.Werk, Halle 2, Wurmbergstr. 5, 71063 Sindelfingen
END:VEVENT
BEGIN:VEVENT
DTSTAMP:20260421T144044
DTSTART;TZID=Europe/Berlin:20261124T174000
DTEND;TZID=Europe/Berlin:20261124T184000
UID:W34351010-20261124T174000@VHSBÖBLINGEN-SINDELFINGEN
SUMMARY:Pilates - Schwerpunkt Rücken (W34351010) 
LOCATION:vhs.Werk, Halle 2, Wurmbergstr. 5, 71063 Sindelfingen
END:VEVENT
END:VCALENDAR