BEGIN:VCALENDAR
VERSION:2.0
PRODID:https://www.kufer.de/kuferweb / DE
METHOD:PUBLISH
CALSCALE:GREGORIAN
X-WR-TIMEZONE:Europe/Berlin
BEGIN:VTIMEZONE
TZID:Europe/Berlin
X-LIC-LOCATION:Europe/Berlin
BEGIN:DAYLIGHT
TZOFFSETFROM:+0100
TZOFFSETTO:+0200
TZNAME:CEST
DTSTART:19700329T020000
RRULE:FREQ=YEARLY;INTERVAL=1;BYDAY=-1SU;BYMONTH=3
END:DAYLIGHT
BEGIN:STANDARD
TZOFFSETFROM:+0200
TZOFFSETTO:+0100
TZNAME:CET
DTSTART:19701025T030000
RRULE:FREQ=YEARLY;INTERVAL=1;BYDAY=-1SU;BYMONTH=10
END:STANDARD
END:VTIMEZONE
BEGIN:VEVENT
DTSTAMP:20260421T152018
DTSTART;TZID=Europe/Berlin:20260924T195000
DTEND;TZID=Europe/Berlin:20260924T210500
UID:W34348511-20260924T195000@VHSBÖBLINGEN-SINDELFINGEN
SUMMARY:Pilates und Entspannung (W34348511) 
LOCATION:AI, Schallenbergschule, Sporthalle, Dachteler Weg 18, 71134 Aidlingen-Deufringen
END:VEVENT
BEGIN:VEVENT
DTSTAMP:20260421T152018
DTSTART;TZID=Europe/Berlin:20261001T195000
DTEND;TZID=Europe/Berlin:20261001T210500
UID:W34348511-20261001T195000@VHSBÖBLINGEN-SINDELFINGEN
SUMMARY:Pilates und Entspannung (W34348511) 
LOCATION:AI, Schallenbergschule, Sporthalle, Dachteler Weg 18, 71134 Aidlingen-Deufringen
END:VEVENT
BEGIN:VEVENT
DTSTAMP:20260421T152018
DTSTART;TZID=Europe/Berlin:20261008T195000
DTEND;TZID=Europe/Berlin:20261008T210500
UID:W34348511-20261008T195000@VHSBÖBLINGEN-SINDELFINGEN
SUMMARY:Pilates und Entspannung (W34348511) 
LOCATION:AI, Schallenbergschule, Sporthalle, Dachteler Weg 18, 71134 Aidlingen-Deufringen
END:VEVENT
BEGIN:VEVENT
DTSTAMP:20260421T152018
DTSTART;TZID=Europe/Berlin:20261015T195000
DTEND;TZID=Europe/Berlin:20261015T210500
UID:W34348511-20261015T195000@VHSBÖBLINGEN-SINDELFINGEN
SUMMARY:Pilates und Entspannung (W34348511) 
LOCATION:AI, Schallenbergschule, Sporthalle, Dachteler Weg 18, 71134 Aidlingen-Deufringen
END:VEVENT
BEGIN:VEVENT
DTSTAMP:20260421T152018
DTSTART;TZID=Europe/Berlin:20261022T195000
DTEND;TZID=Europe/Berlin:20261022T210500
UID:W34348511-20261022T195000@VHSBÖBLINGEN-SINDELFINGEN
SUMMARY:Pilates und Entspannung (W34348511) 
LOCATION:AI, Schallenbergschule, Sporthalle, Dachteler Weg 18, 71134 Aidlingen-Deufringen
END:VEVENT
BEGIN:VEVENT
DTSTAMP:20260421T152018
DTSTART;TZID=Europe/Berlin:20261105T195000
DTEND;TZID=Europe/Berlin:20261105T210500
UID:W34348511-20261105T195000@VHSBÖBLINGEN-SINDELFINGEN
SUMMARY:Pilates und Entspannung (W34348511) 
LOCATION:AI, Schallenbergschule, Sporthalle, Dachteler Weg 18, 71134 Aidlingen-Deufringen
END:VEVENT
BEGIN:VEVENT
DTSTAMP:20260421T152018
DTSTART;TZID=Europe/Berlin:20261112T195000
DTEND;TZID=Europe/Berlin:20261112T210500
UID:W34348511-20261112T195000@VHSBÖBLINGEN-SINDELFINGEN
SUMMARY:Pilates und Entspannung (W34348511) 
LOCATION:AI, Schallenbergschule, Sporthalle, Dachteler Weg 18, 71134 Aidlingen-Deufringen
END:VEVENT
BEGIN:VEVENT
DTSTAMP:20260421T152018
DTSTART;TZID=Europe/Berlin:20261119T195000
DTEND;TZID=Europe/Berlin:20261119T210500
UID:W34348511-20261119T195000@VHSBÖBLINGEN-SINDELFINGEN
SUMMARY:Pilates und Entspannung (W34348511) 
LOCATION:AI, Schallenbergschule, Sporthalle, Dachteler Weg 18, 71134 Aidlingen-Deufringen
END:VEVENT
BEGIN:VEVENT
DTSTAMP:20260421T152018
DTSTART;TZID=Europe/Berlin:20261126T195000
DTEND;TZID=Europe/Berlin:20261126T210500
UID:W34348511-20261126T195000@VHSBÖBLINGEN-SINDELFINGEN
SUMMARY:Pilates und Entspannung (W34348511) 
LOCATION:AI, Schallenbergschule, Sporthalle, Dachteler Weg 18, 71134 Aidlingen-Deufringen
END:VEVENT
BEGIN:VEVENT
DTSTAMP:20260421T152018
DTSTART;TZID=Europe/Berlin:20261203T195000
DTEND;TZID=Europe/Berlin:20261203T210500
UID:W34348511-20261203T195000@VHSBÖBLINGEN-SINDELFINGEN
SUMMARY:Pilates und Entspannung (W34348511) 
LOCATION:AI, Schallenbergschule, Sporthalle, Dachteler Weg 18, 71134 Aidlingen-Deufringen
END:VEVENT
BEGIN:VEVENT
DTSTAMP:20260421T152018
DTSTART;TZID=Europe/Berlin:20261210T195000
DTEND;TZID=Europe/Berlin:20261210T210500
UID:W34348511-20261210T195000@VHSBÖBLINGEN-SINDELFINGEN
SUMMARY:Pilates und Entspannung (W34348511) 
LOCATION:AI, Schallenbergschule, Sporthalle, Dachteler Weg 18, 71134 Aidlingen-Deufringen
END:VEVENT
BEGIN:VEVENT
DTSTAMP:20260421T152018
DTSTART;TZID=Europe/Berlin:20270114T195000
DTEND;TZID=Europe/Berlin:20270114T210500
UID:W34348511-20270114T195000@VHSBÖBLINGEN-SINDELFINGEN
SUMMARY:Pilates und Entspannung (W34348511) 
LOCATION:AI, Schallenbergschule, Sporthalle, Dachteler Weg 18, 71134 Aidlingen-Deufringen
END:VEVENT
BEGIN:VEVENT
DTSTAMP:20260421T152018
DTSTART;TZID=Europe/Berlin:20270121T195000
DTEND;TZID=Europe/Berlin:20270121T210500
UID:W34348511-20270121T195000@VHSBÖBLINGEN-SINDELFINGEN
SUMMARY:Pilates und Entspannung (W34348511) 
LOCATION:AI, Schallenbergschule, Sporthalle, Dachteler Weg 18, 71134 Aidlingen-Deufringen
END:VEVENT
BEGIN:VEVENT
DTSTAMP:20260421T152018
DTSTART;TZID=Europe/Berlin:20270128T195000
DTEND;TZID=Europe/Berlin:20270128T210500
UID:W34348511-20270128T195000@VHSBÖBLINGEN-SINDELFINGEN
SUMMARY:Pilates und Entspannung (W34348511) 
LOCATION:AI, Schallenbergschule, Sporthalle, Dachteler Weg 18, 71134 Aidlingen-Deufringen
END:VEVENT
BEGIN:VEVENT
DTSTAMP:20260421T152018
DTSTART;TZID=Europe/Berlin:20270204T195000
DTEND;TZID=Europe/Berlin:20270204T210500
UID:W34348511-20270204T195000@VHSBÖBLINGEN-SINDELFINGEN
SUMMARY:Pilates und Entspannung (W34348511) 
LOCATION:AI, Schallenbergschule, Sporthalle, Dachteler Weg 18, 71134 Aidlingen-Deufringen
END:VEVENT
END:VCALENDAR