BEGIN:VCALENDAR
VERSION:2.0
PRODID:https://www.kufer.de/kuferweb / DE
METHOD:PUBLISH
CALSCALE:GREGORIAN
X-WR-TIMEZONE:Europe/Berlin
BEGIN:VTIMEZONE
TZID:Europe/Berlin
X-LIC-LOCATION:Europe/Berlin
BEGIN:DAYLIGHT
TZOFFSETFROM:+0100
TZOFFSETTO:+0200
TZNAME:CEST
DTSTART:19700329T020000
RRULE:FREQ=YEARLY;INTERVAL=1;BYDAY=-1SU;BYMONTH=3
END:DAYLIGHT
BEGIN:STANDARD
TZOFFSETFROM:+0200
TZOFFSETTO:+0100
TZNAME:CET
DTSTART:19701025T030000
RRULE:FREQ=YEARLY;INTERVAL=1;BYDAY=-1SU;BYMONTH=10
END:STANDARD
END:VTIMEZONE
BEGIN:VEVENT
DTSTAMP:20260421T185626
DTSTART;TZID=Europe/Berlin:20260924T183000
DTEND;TZID=Europe/Berlin:20260924T194500
UID:W34348011-20260924T183000@VHSBÖBLINGEN-SINDELFINGEN
SUMMARY:Pilates und Entspannung (W34348011) 
LOCATION:AI, Schallenbergschule, Sporthalle, Dachteler Weg 18, 71134 Aidlingen-Deufringen
END:VEVENT
BEGIN:VEVENT
DTSTAMP:20260421T185626
DTSTART;TZID=Europe/Berlin:20261001T183000
DTEND;TZID=Europe/Berlin:20261001T194500
UID:W34348011-20261001T183000@VHSBÖBLINGEN-SINDELFINGEN
SUMMARY:Pilates und Entspannung (W34348011) 
LOCATION:AI, Schallenbergschule, Sporthalle, Dachteler Weg 18, 71134 Aidlingen-Deufringen
END:VEVENT
BEGIN:VEVENT
DTSTAMP:20260421T185626
DTSTART;TZID=Europe/Berlin:20261008T183000
DTEND;TZID=Europe/Berlin:20261008T194500
UID:W34348011-20261008T183000@VHSBÖBLINGEN-SINDELFINGEN
SUMMARY:Pilates und Entspannung (W34348011) 
LOCATION:AI, Schallenbergschule, Sporthalle, Dachteler Weg 18, 71134 Aidlingen-Deufringen
END:VEVENT
BEGIN:VEVENT
DTSTAMP:20260421T185626
DTSTART;TZID=Europe/Berlin:20261015T183000
DTEND;TZID=Europe/Berlin:20261015T194500
UID:W34348011-20261015T183000@VHSBÖBLINGEN-SINDELFINGEN
SUMMARY:Pilates und Entspannung (W34348011) 
LOCATION:AI, Schallenbergschule, Sporthalle, Dachteler Weg 18, 71134 Aidlingen-Deufringen
END:VEVENT
BEGIN:VEVENT
DTSTAMP:20260421T185626
DTSTART;TZID=Europe/Berlin:20261022T183000
DTEND;TZID=Europe/Berlin:20261022T194500
UID:W34348011-20261022T183000@VHSBÖBLINGEN-SINDELFINGEN
SUMMARY:Pilates und Entspannung (W34348011) 
LOCATION:AI, Schallenbergschule, Sporthalle, Dachteler Weg 18, 71134 Aidlingen-Deufringen
END:VEVENT
BEGIN:VEVENT
DTSTAMP:20260421T185626
DTSTART;TZID=Europe/Berlin:20261105T183000
DTEND;TZID=Europe/Berlin:20261105T194500
UID:W34348011-20261105T183000@VHSBÖBLINGEN-SINDELFINGEN
SUMMARY:Pilates und Entspannung (W34348011) 
LOCATION:AI, Schallenbergschule, Sporthalle, Dachteler Weg 18, 71134 Aidlingen-Deufringen
END:VEVENT
BEGIN:VEVENT
DTSTAMP:20260421T185626
DTSTART;TZID=Europe/Berlin:20261112T183000
DTEND;TZID=Europe/Berlin:20261112T194500
UID:W34348011-20261112T183000@VHSBÖBLINGEN-SINDELFINGEN
SUMMARY:Pilates und Entspannung (W34348011) 
LOCATION:AI, Schallenbergschule, Sporthalle, Dachteler Weg 18, 71134 Aidlingen-Deufringen
END:VEVENT
BEGIN:VEVENT
DTSTAMP:20260421T185626
DTSTART;TZID=Europe/Berlin:20261119T183000
DTEND;TZID=Europe/Berlin:20261119T194500
UID:W34348011-20261119T183000@VHSBÖBLINGEN-SINDELFINGEN
SUMMARY:Pilates und Entspannung (W34348011) 
LOCATION:AI, Schallenbergschule, Sporthalle, Dachteler Weg 18, 71134 Aidlingen-Deufringen
END:VEVENT
BEGIN:VEVENT
DTSTAMP:20260421T185626
DTSTART;TZID=Europe/Berlin:20261126T183000
DTEND;TZID=Europe/Berlin:20261126T194500
UID:W34348011-20261126T183000@VHSBÖBLINGEN-SINDELFINGEN
SUMMARY:Pilates und Entspannung (W34348011) 
LOCATION:AI, Schallenbergschule, Sporthalle, Dachteler Weg 18, 71134 Aidlingen-Deufringen
END:VEVENT
BEGIN:VEVENT
DTSTAMP:20260421T185626
DTSTART;TZID=Europe/Berlin:20261203T183000
DTEND;TZID=Europe/Berlin:20261203T194500
UID:W34348011-20261203T183000@VHSBÖBLINGEN-SINDELFINGEN
SUMMARY:Pilates und Entspannung (W34348011) 
LOCATION:AI, Schallenbergschule, Sporthalle, Dachteler Weg 18, 71134 Aidlingen-Deufringen
END:VEVENT
BEGIN:VEVENT
DTSTAMP:20260421T185626
DTSTART;TZID=Europe/Berlin:20261210T183000
DTEND;TZID=Europe/Berlin:20261210T194500
UID:W34348011-20261210T183000@VHSBÖBLINGEN-SINDELFINGEN
SUMMARY:Pilates und Entspannung (W34348011) 
LOCATION:AI, Schallenbergschule, Sporthalle, Dachteler Weg 18, 71134 Aidlingen-Deufringen
END:VEVENT
BEGIN:VEVENT
DTSTAMP:20260421T185626
DTSTART;TZID=Europe/Berlin:20270114T183000
DTEND;TZID=Europe/Berlin:20270114T194500
UID:W34348011-20270114T183000@VHSBÖBLINGEN-SINDELFINGEN
SUMMARY:Pilates und Entspannung (W34348011) 
LOCATION:AI, Schallenbergschule, Sporthalle, Dachteler Weg 18, 71134 Aidlingen-Deufringen
END:VEVENT
BEGIN:VEVENT
DTSTAMP:20260421T185626
DTSTART;TZID=Europe/Berlin:20270121T183000
DTEND;TZID=Europe/Berlin:20270121T194500
UID:W34348011-20270121T183000@VHSBÖBLINGEN-SINDELFINGEN
SUMMARY:Pilates und Entspannung (W34348011) 
LOCATION:AI, Schallenbergschule, Sporthalle, Dachteler Weg 18, 71134 Aidlingen-Deufringen
END:VEVENT
BEGIN:VEVENT
DTSTAMP:20260421T185626
DTSTART;TZID=Europe/Berlin:20270128T183000
DTEND;TZID=Europe/Berlin:20270128T194500
UID:W34348011-20270128T183000@VHSBÖBLINGEN-SINDELFINGEN
SUMMARY:Pilates und Entspannung (W34348011) 
LOCATION:AI, Schallenbergschule, Sporthalle, Dachteler Weg 18, 71134 Aidlingen-Deufringen
END:VEVENT
BEGIN:VEVENT
DTSTAMP:20260421T185626
DTSTART;TZID=Europe/Berlin:20270204T183000
DTEND;TZID=Europe/Berlin:20270204T194500
UID:W34348011-20270204T183000@VHSBÖBLINGEN-SINDELFINGEN
SUMMARY:Pilates und Entspannung (W34348011) 
LOCATION:AI, Schallenbergschule, Sporthalle, Dachteler Weg 18, 71134 Aidlingen-Deufringen
END:VEVENT
END:VCALENDAR