BEGIN:VCALENDAR
VERSION:2.0
PRODID:https://www.kufer.de/kuferweb / DE
METHOD:PUBLISH
CALSCALE:GREGORIAN
X-WR-TIMEZONE:Europe/Berlin
BEGIN:VTIMEZONE
TZID:Europe/Berlin
X-LIC-LOCATION:Europe/Berlin
BEGIN:DAYLIGHT
TZOFFSETFROM:+0100
TZOFFSETTO:+0200
TZNAME:CEST
DTSTART:19700329T020000
RRULE:FREQ=YEARLY;INTERVAL=1;BYDAY=-1SU;BYMONTH=3
END:DAYLIGHT
BEGIN:STANDARD
TZOFFSETFROM:+0200
TZOFFSETTO:+0100
TZNAME:CET
DTSTART:19701025T030000
RRULE:FREQ=YEARLY;INTERVAL=1;BYDAY=-1SU;BYMONTH=10
END:STANDARD
END:VTIMEZONE
BEGIN:VEVENT
DTSTAMP:20260421T112038
DTSTART;TZID=Europe/Berlin:20260921T195000
DTEND;TZID=Europe/Berlin:20260921T210500
UID:W34343010-20260921T195000@VHSBÖBLINGEN-SINDELFINGEN
SUMMARY:Pilates und Stretching (W34343010) 
LOCATION:Realschule Am Goldberg, Gymnastikraum, Goldbergstr. 27, 71065 Sindelfingen
END:VEVENT
BEGIN:VEVENT
DTSTAMP:20260421T112038
DTSTART;TZID=Europe/Berlin:20260928T195000
DTEND;TZID=Europe/Berlin:20260928T210500
UID:W34343010-20260928T195000@VHSBÖBLINGEN-SINDELFINGEN
SUMMARY:Pilates und Stretching (W34343010) 
LOCATION:Realschule Am Goldberg, Gymnastikraum, Goldbergstr. 27, 71065 Sindelfingen
END:VEVENT
BEGIN:VEVENT
DTSTAMP:20260421T112038
DTSTART;TZID=Europe/Berlin:20261005T195000
DTEND;TZID=Europe/Berlin:20261005T210500
UID:W34343010-20261005T195000@VHSBÖBLINGEN-SINDELFINGEN
SUMMARY:Pilates und Stretching (W34343010) 
LOCATION:Realschule Am Goldberg, Gymnastikraum, Goldbergstr. 27, 71065 Sindelfingen
END:VEVENT
BEGIN:VEVENT
DTSTAMP:20260421T112038
DTSTART;TZID=Europe/Berlin:20261012T195000
DTEND;TZID=Europe/Berlin:20261012T210500
UID:W34343010-20261012T195000@VHSBÖBLINGEN-SINDELFINGEN
SUMMARY:Pilates und Stretching (W34343010) 
LOCATION:Realschule Am Goldberg, Gymnastikraum, Goldbergstr. 27, 71065 Sindelfingen
END:VEVENT
BEGIN:VEVENT
DTSTAMP:20260421T112038
DTSTART;TZID=Europe/Berlin:20261019T195000
DTEND;TZID=Europe/Berlin:20261019T210500
UID:W34343010-20261019T195000@VHSBÖBLINGEN-SINDELFINGEN
SUMMARY:Pilates und Stretching (W34343010) 
LOCATION:Realschule Am Goldberg, Gymnastikraum, Goldbergstr. 27, 71065 Sindelfingen
END:VEVENT
BEGIN:VEVENT
DTSTAMP:20260421T112038
DTSTART;TZID=Europe/Berlin:20261102T195000
DTEND;TZID=Europe/Berlin:20261102T210500
UID:W34343010-20261102T195000@VHSBÖBLINGEN-SINDELFINGEN
SUMMARY:Pilates und Stretching (W34343010) 
LOCATION:Realschule Am Goldberg, Gymnastikraum, Goldbergstr. 27, 71065 Sindelfingen
END:VEVENT
BEGIN:VEVENT
DTSTAMP:20260421T112038
DTSTART;TZID=Europe/Berlin:20261109T195000
DTEND;TZID=Europe/Berlin:20261109T210500
UID:W34343010-20261109T195000@VHSBÖBLINGEN-SINDELFINGEN
SUMMARY:Pilates und Stretching (W34343010) 
LOCATION:Realschule Am Goldberg, Gymnastikraum, Goldbergstr. 27, 71065 Sindelfingen
END:VEVENT
BEGIN:VEVENT
DTSTAMP:20260421T112038
DTSTART;TZID=Europe/Berlin:20261116T195000
DTEND;TZID=Europe/Berlin:20261116T210500
UID:W34343010-20261116T195000@VHSBÖBLINGEN-SINDELFINGEN
SUMMARY:Pilates und Stretching (W34343010) 
LOCATION:Realschule Am Goldberg, Gymnastikraum, Goldbergstr. 27, 71065 Sindelfingen
END:VEVENT
BEGIN:VEVENT
DTSTAMP:20260421T112038
DTSTART;TZID=Europe/Berlin:20261123T195000
DTEND;TZID=Europe/Berlin:20261123T210500
UID:W34343010-20261123T195000@VHSBÖBLINGEN-SINDELFINGEN
SUMMARY:Pilates und Stretching (W34343010) 
LOCATION:Realschule Am Goldberg, Gymnastikraum, Goldbergstr. 27, 71065 Sindelfingen
END:VEVENT
BEGIN:VEVENT
DTSTAMP:20260421T112038
DTSTART;TZID=Europe/Berlin:20261130T195000
DTEND;TZID=Europe/Berlin:20261130T210500
UID:W34343010-20261130T195000@VHSBÖBLINGEN-SINDELFINGEN
SUMMARY:Pilates und Stretching (W34343010) 
LOCATION:Realschule Am Goldberg, Gymnastikraum, Goldbergstr. 27, 71065 Sindelfingen
END:VEVENT
BEGIN:VEVENT
DTSTAMP:20260421T112038
DTSTART;TZID=Europe/Berlin:20261207T195000
DTEND;TZID=Europe/Berlin:20261207T210500
UID:W34343010-20261207T195000@VHSBÖBLINGEN-SINDELFINGEN
SUMMARY:Pilates und Stretching (W34343010) 
LOCATION:Realschule Am Goldberg, Gymnastikraum, Goldbergstr. 27, 71065 Sindelfingen
END:VEVENT
BEGIN:VEVENT
DTSTAMP:20260421T112038
DTSTART;TZID=Europe/Berlin:20261214T195000
DTEND;TZID=Europe/Berlin:20261214T210500
UID:W34343010-20261214T195000@VHSBÖBLINGEN-SINDELFINGEN
SUMMARY:Pilates und Stretching (W34343010) 
LOCATION:Realschule Am Goldberg, Gymnastikraum, Goldbergstr. 27, 71065 Sindelfingen
END:VEVENT
BEGIN:VEVENT
DTSTAMP:20260421T112038
DTSTART;TZID=Europe/Berlin:20261221T195000
DTEND;TZID=Europe/Berlin:20261221T210500
UID:W34343010-20261221T195000@VHSBÖBLINGEN-SINDELFINGEN
SUMMARY:Pilates und Stretching (W34343010) 
LOCATION:Realschule Am Goldberg, Gymnastikraum, Goldbergstr. 27, 71065 Sindelfingen
END:VEVENT
BEGIN:VEVENT
DTSTAMP:20260421T112038
DTSTART;TZID=Europe/Berlin:20270111T195000
DTEND;TZID=Europe/Berlin:20270111T210500
UID:W34343010-20270111T195000@VHSBÖBLINGEN-SINDELFINGEN
SUMMARY:Pilates und Stretching (W34343010) 
LOCATION:Realschule Am Goldberg, Gymnastikraum, Goldbergstr. 27, 71065 Sindelfingen
END:VEVENT
BEGIN:VEVENT
DTSTAMP:20260421T112038
DTSTART;TZID=Europe/Berlin:20270118T195000
DTEND;TZID=Europe/Berlin:20270118T210500
UID:W34343010-20270118T195000@VHSBÖBLINGEN-SINDELFINGEN
SUMMARY:Pilates und Stretching (W34343010) 
LOCATION:Realschule Am Goldberg, Gymnastikraum, Goldbergstr. 27, 71065 Sindelfingen
END:VEVENT
BEGIN:VEVENT
DTSTAMP:20260421T112038
DTSTART;TZID=Europe/Berlin:20270125T195000
DTEND;TZID=Europe/Berlin:20270125T210500
UID:W34343010-20270125T195000@VHSBÖBLINGEN-SINDELFINGEN
SUMMARY:Pilates und Stretching (W34343010) 
LOCATION:Realschule Am Goldberg, Gymnastikraum, Goldbergstr. 27, 71065 Sindelfingen
END:VEVENT
END:VCALENDAR