BEGIN:VCALENDAR
VERSION:2.0
PRODID:https://www.kufer.de/kuferweb / DE
METHOD:PUBLISH
CALSCALE:GREGORIAN
X-WR-TIMEZONE:Europe/Berlin
BEGIN:VTIMEZONE
TZID:Europe/Berlin
X-LIC-LOCATION:Europe/Berlin
BEGIN:DAYLIGHT
TZOFFSETFROM:+0100
TZOFFSETTO:+0200
TZNAME:CEST
DTSTART:19700329T020000
RRULE:FREQ=YEARLY;INTERVAL=1;BYDAY=-1SU;BYMONTH=3
END:DAYLIGHT
BEGIN:STANDARD
TZOFFSETFROM:+0200
TZOFFSETTO:+0100
TZNAME:CET
DTSTART:19701025T030000
RRULE:FREQ=YEARLY;INTERVAL=1;BYDAY=-1SU;BYMONTH=10
END:STANDARD
END:VTIMEZONE
BEGIN:VEVENT
DTSTAMP:20260421T194232
DTSTART;TZID=Europe/Berlin:20260922T164500
DTEND;TZID=Europe/Berlin:20260922T174500
UID:W34332861-20260922T164500@VHSBÖBLINGEN-SINDELFINGEN
SUMMARY:Pilates (W34332861) 
LOCATION:WE, Halle Neuweiler, ___, Hennersdorfer Straße, 71093 Weil im Schönbuch
END:VEVENT
BEGIN:VEVENT
DTSTAMP:20260421T194232
DTSTART;TZID=Europe/Berlin:20260929T164500
DTEND;TZID=Europe/Berlin:20260929T174500
UID:W34332861-20260929T164500@VHSBÖBLINGEN-SINDELFINGEN
SUMMARY:Pilates (W34332861) 
LOCATION:WE, Halle Neuweiler, ___, Hennersdorfer Straße, 71093 Weil im Schönbuch
END:VEVENT
BEGIN:VEVENT
DTSTAMP:20260421T194232
DTSTART;TZID=Europe/Berlin:20261006T164500
DTEND;TZID=Europe/Berlin:20261006T174500
UID:W34332861-20261006T164500@VHSBÖBLINGEN-SINDELFINGEN
SUMMARY:Pilates (W34332861) 
LOCATION:WE, Halle Neuweiler, ___, Hennersdorfer Straße, 71093 Weil im Schönbuch
END:VEVENT
BEGIN:VEVENT
DTSTAMP:20260421T194232
DTSTART;TZID=Europe/Berlin:20261013T164500
DTEND;TZID=Europe/Berlin:20261013T174500
UID:W34332861-20261013T164500@VHSBÖBLINGEN-SINDELFINGEN
SUMMARY:Pilates (W34332861) 
LOCATION:WE, Halle Neuweiler, ___, Hennersdorfer Straße, 71093 Weil im Schönbuch
END:VEVENT
BEGIN:VEVENT
DTSTAMP:20260421T194232
DTSTART;TZID=Europe/Berlin:20261020T164500
DTEND;TZID=Europe/Berlin:20261020T174500
UID:W34332861-20261020T164500@VHSBÖBLINGEN-SINDELFINGEN
SUMMARY:Pilates (W34332861) 
LOCATION:WE, Halle Neuweiler, ___, Hennersdorfer Straße, 71093 Weil im Schönbuch
END:VEVENT
BEGIN:VEVENT
DTSTAMP:20260421T194232
DTSTART;TZID=Europe/Berlin:20261103T164500
DTEND;TZID=Europe/Berlin:20261103T174500
UID:W34332861-20261103T164500@VHSBÖBLINGEN-SINDELFINGEN
SUMMARY:Pilates (W34332861) 
LOCATION:WE, Halle Neuweiler, ___, Hennersdorfer Straße, 71093 Weil im Schönbuch
END:VEVENT
BEGIN:VEVENT
DTSTAMP:20260421T194232
DTSTART;TZID=Europe/Berlin:20261110T164500
DTEND;TZID=Europe/Berlin:20261110T174500
UID:W34332861-20261110T164500@VHSBÖBLINGEN-SINDELFINGEN
SUMMARY:Pilates (W34332861) 
LOCATION:WE, Halle Neuweiler, ___, Hennersdorfer Straße, 71093 Weil im Schönbuch
END:VEVENT
BEGIN:VEVENT
DTSTAMP:20260421T194232
DTSTART;TZID=Europe/Berlin:20261117T164500
DTEND;TZID=Europe/Berlin:20261117T174500
UID:W34332861-20261117T164500@VHSBÖBLINGEN-SINDELFINGEN
SUMMARY:Pilates (W34332861) 
LOCATION:WE, Halle Neuweiler, ___, Hennersdorfer Straße, 71093 Weil im Schönbuch
END:VEVENT
BEGIN:VEVENT
DTSTAMP:20260421T194232
DTSTART;TZID=Europe/Berlin:20261124T164500
DTEND;TZID=Europe/Berlin:20261124T174500
UID:W34332861-20261124T164500@VHSBÖBLINGEN-SINDELFINGEN
SUMMARY:Pilates (W34332861) 
LOCATION:WE, Halle Neuweiler, ___, Hennersdorfer Straße, 71093 Weil im Schönbuch
END:VEVENT
BEGIN:VEVENT
DTSTAMP:20260421T194232
DTSTART;TZID=Europe/Berlin:20261201T164500
DTEND;TZID=Europe/Berlin:20261201T174500
UID:W34332861-20261201T164500@VHSBÖBLINGEN-SINDELFINGEN
SUMMARY:Pilates (W34332861) 
LOCATION:WE, Halle Neuweiler, ___, Hennersdorfer Straße, 71093 Weil im Schönbuch
END:VEVENT
BEGIN:VEVENT
DTSTAMP:20260421T194232
DTSTART;TZID=Europe/Berlin:20261208T164500
DTEND;TZID=Europe/Berlin:20261208T174500
UID:W34332861-20261208T164500@VHSBÖBLINGEN-SINDELFINGEN
SUMMARY:Pilates (W34332861) 
LOCATION:WE, Halle Neuweiler, ___, Hennersdorfer Straße, 71093 Weil im Schönbuch
END:VEVENT
BEGIN:VEVENT
DTSTAMP:20260421T194232
DTSTART;TZID=Europe/Berlin:20261215T164500
DTEND;TZID=Europe/Berlin:20261215T174500
UID:W34332861-20261215T164500@VHSBÖBLINGEN-SINDELFINGEN
SUMMARY:Pilates (W34332861) 
LOCATION:WE, Halle Neuweiler, ___, Hennersdorfer Straße, 71093 Weil im Schönbuch
END:VEVENT
BEGIN:VEVENT
DTSTAMP:20260421T194232
DTSTART;TZID=Europe/Berlin:20261222T164500
DTEND;TZID=Europe/Berlin:20261222T174500
UID:W34332861-20261222T164500@VHSBÖBLINGEN-SINDELFINGEN
SUMMARY:Pilates (W34332861) 
LOCATION:WE, Halle Neuweiler, ___, Hennersdorfer Straße, 71093 Weil im Schönbuch
END:VEVENT
BEGIN:VEVENT
DTSTAMP:20260421T194232
DTSTART;TZID=Europe/Berlin:20270112T164500
DTEND;TZID=Europe/Berlin:20270112T174500
UID:W34332861-20270112T164500@VHSBÖBLINGEN-SINDELFINGEN
SUMMARY:Pilates (W34332861) 
LOCATION:WE, Halle Neuweiler, ___, Hennersdorfer Straße, 71093 Weil im Schönbuch
END:VEVENT
BEGIN:VEVENT
DTSTAMP:20260421T194232
DTSTART;TZID=Europe/Berlin:20270119T164500
DTEND;TZID=Europe/Berlin:20270119T174500
UID:W34332861-20270119T164500@VHSBÖBLINGEN-SINDELFINGEN
SUMMARY:Pilates (W34332861) 
LOCATION:WE, Halle Neuweiler, ___, Hennersdorfer Straße, 71093 Weil im Schönbuch
END:VEVENT
BEGIN:VEVENT
DTSTAMP:20260421T194232
DTSTART;TZID=Europe/Berlin:20270126T164500
DTEND;TZID=Europe/Berlin:20270126T174500
UID:W34332861-20270126T164500@VHSBÖBLINGEN-SINDELFINGEN
SUMMARY:Pilates (W34332861) 
LOCATION:WE, Halle Neuweiler, ___, Hennersdorfer Straße, 71093 Weil im Schönbuch
END:VEVENT
END:VCALENDAR