BEGIN:VCALENDAR
VERSION:2.0
PRODID:https://www.kufer.de/kuferweb / DE
METHOD:PUBLISH
CALSCALE:GREGORIAN
X-WR-TIMEZONE:Europe/Berlin
BEGIN:VTIMEZONE
TZID:Europe/Berlin
X-LIC-LOCATION:Europe/Berlin
BEGIN:DAYLIGHT
TZOFFSETFROM:+0100
TZOFFSETTO:+0200
TZNAME:CEST
DTSTART:19700329T020000
RRULE:FREQ=YEARLY;INTERVAL=1;BYDAY=-1SU;BYMONTH=3
END:DAYLIGHT
BEGIN:STANDARD
TZOFFSETFROM:+0200
TZOFFSETTO:+0100
TZNAME:CET
DTSTART:19701025T030000
RRULE:FREQ=YEARLY;INTERVAL=1;BYDAY=-1SU;BYMONTH=10
END:STANDARD
END:VTIMEZONE
BEGIN:VEVENT
DTSTAMP:20260420T165533
DTSTART;TZID=Europe/Berlin:20260915T193500
DTEND;TZID=Europe/Berlin:20260915T203500
UID:W34332622-20260915T193500@VHSBÖBLINGEN-SINDELFINGEN
SUMMARY:Pilates (W34332622) 
LOCATION:MA, Neues Schulhaus, Gymnastikraum, EG, Neue Stuttgarter Str. 1, 71106 Magstadt
END:VEVENT
BEGIN:VEVENT
DTSTAMP:20260420T165533
DTSTART;TZID=Europe/Berlin:20260922T193500
DTEND;TZID=Europe/Berlin:20260922T203500
UID:W34332622-20260922T193500@VHSBÖBLINGEN-SINDELFINGEN
SUMMARY:Pilates (W34332622) 
LOCATION:MA, Neues Schulhaus, Gymnastikraum, EG, Neue Stuttgarter Str. 1, 71106 Magstadt
END:VEVENT
BEGIN:VEVENT
DTSTAMP:20260420T165533
DTSTART;TZID=Europe/Berlin:20260929T193500
DTEND;TZID=Europe/Berlin:20260929T203500
UID:W34332622-20260929T193500@VHSBÖBLINGEN-SINDELFINGEN
SUMMARY:Pilates (W34332622) 
LOCATION:MA, Neues Schulhaus, Gymnastikraum, EG, Neue Stuttgarter Str. 1, 71106 Magstadt
END:VEVENT
BEGIN:VEVENT
DTSTAMP:20260420T165533
DTSTART;TZID=Europe/Berlin:20261006T193500
DTEND;TZID=Europe/Berlin:20261006T203500
UID:W34332622-20261006T193500@VHSBÖBLINGEN-SINDELFINGEN
SUMMARY:Pilates (W34332622) 
LOCATION:MA, Neues Schulhaus, Gymnastikraum, EG, Neue Stuttgarter Str. 1, 71106 Magstadt
END:VEVENT
BEGIN:VEVENT
DTSTAMP:20260420T165533
DTSTART;TZID=Europe/Berlin:20261013T193500
DTEND;TZID=Europe/Berlin:20261013T203500
UID:W34332622-20261013T193500@VHSBÖBLINGEN-SINDELFINGEN
SUMMARY:Pilates (W34332622) 
LOCATION:MA, Neues Schulhaus, Gymnastikraum, EG, Neue Stuttgarter Str. 1, 71106 Magstadt
END:VEVENT
BEGIN:VEVENT
DTSTAMP:20260420T165533
DTSTART;TZID=Europe/Berlin:20261020T193500
DTEND;TZID=Europe/Berlin:20261020T203500
UID:W34332622-20261020T193500@VHSBÖBLINGEN-SINDELFINGEN
SUMMARY:Pilates (W34332622) 
LOCATION:MA, Neues Schulhaus, Gymnastikraum, EG, Neue Stuttgarter Str. 1, 71106 Magstadt
END:VEVENT
BEGIN:VEVENT
DTSTAMP:20260420T165533
DTSTART;TZID=Europe/Berlin:20261103T193500
DTEND;TZID=Europe/Berlin:20261103T203500
UID:W34332622-20261103T193500@VHSBÖBLINGEN-SINDELFINGEN
SUMMARY:Pilates (W34332622) 
LOCATION:MA, Neues Schulhaus, Gymnastikraum, EG, Neue Stuttgarter Str. 1, 71106 Magstadt
END:VEVENT
BEGIN:VEVENT
DTSTAMP:20260420T165533
DTSTART;TZID=Europe/Berlin:20261110T193500
DTEND;TZID=Europe/Berlin:20261110T203500
UID:W34332622-20261110T193500@VHSBÖBLINGEN-SINDELFINGEN
SUMMARY:Pilates (W34332622) 
LOCATION:MA, Neues Schulhaus, Gymnastikraum, EG, Neue Stuttgarter Str. 1, 71106 Magstadt
END:VEVENT
BEGIN:VEVENT
DTSTAMP:20260420T165533
DTSTART;TZID=Europe/Berlin:20261117T193500
DTEND;TZID=Europe/Berlin:20261117T203500
UID:W34332622-20261117T193500@VHSBÖBLINGEN-SINDELFINGEN
SUMMARY:Pilates (W34332622) 
LOCATION:MA, Neues Schulhaus, Gymnastikraum, EG, Neue Stuttgarter Str. 1, 71106 Magstadt
END:VEVENT
BEGIN:VEVENT
DTSTAMP:20260420T165533
DTSTART;TZID=Europe/Berlin:20261124T193500
DTEND;TZID=Europe/Berlin:20261124T203500
UID:W34332622-20261124T193500@VHSBÖBLINGEN-SINDELFINGEN
SUMMARY:Pilates (W34332622) 
LOCATION:MA, Neues Schulhaus, Gymnastikraum, EG, Neue Stuttgarter Str. 1, 71106 Magstadt
END:VEVENT
BEGIN:VEVENT
DTSTAMP:20260420T165533
DTSTART;TZID=Europe/Berlin:20261201T193500
DTEND;TZID=Europe/Berlin:20261201T203500
UID:W34332622-20261201T193500@VHSBÖBLINGEN-SINDELFINGEN
SUMMARY:Pilates (W34332622) 
LOCATION:MA, Neues Schulhaus, Gymnastikraum, EG, Neue Stuttgarter Str. 1, 71106 Magstadt
END:VEVENT
BEGIN:VEVENT
DTSTAMP:20260420T165533
DTSTART;TZID=Europe/Berlin:20261208T193500
DTEND;TZID=Europe/Berlin:20261208T203500
UID:W34332622-20261208T193500@VHSBÖBLINGEN-SINDELFINGEN
SUMMARY:Pilates (W34332622) 
LOCATION:MA, Neues Schulhaus, Gymnastikraum, EG, Neue Stuttgarter Str. 1, 71106 Magstadt
END:VEVENT
BEGIN:VEVENT
DTSTAMP:20260420T165533
DTSTART;TZID=Europe/Berlin:20261215T193500
DTEND;TZID=Europe/Berlin:20261215T203500
UID:W34332622-20261215T193500@VHSBÖBLINGEN-SINDELFINGEN
SUMMARY:Pilates (W34332622) 
LOCATION:MA, Neues Schulhaus, Gymnastikraum, EG, Neue Stuttgarter Str. 1, 71106 Magstadt
END:VEVENT
BEGIN:VEVENT
DTSTAMP:20260420T165533
DTSTART;TZID=Europe/Berlin:20261222T193500
DTEND;TZID=Europe/Berlin:20261222T203500
UID:W34332622-20261222T193500@VHSBÖBLINGEN-SINDELFINGEN
SUMMARY:Pilates (W34332622) 
LOCATION:MA, Neues Schulhaus, Gymnastikraum, EG, Neue Stuttgarter Str. 1, 71106 Magstadt
END:VEVENT
BEGIN:VEVENT
DTSTAMP:20260420T165533
DTSTART;TZID=Europe/Berlin:20270112T193500
DTEND;TZID=Europe/Berlin:20270112T203500
UID:W34332622-20270112T193500@VHSBÖBLINGEN-SINDELFINGEN
SUMMARY:Pilates (W34332622) 
LOCATION:MA, Neues Schulhaus, Gymnastikraum, EG, Neue Stuttgarter Str. 1, 71106 Magstadt
END:VEVENT
BEGIN:VEVENT
DTSTAMP:20260420T165533
DTSTART;TZID=Europe/Berlin:20270119T193500
DTEND;TZID=Europe/Berlin:20270119T203500
UID:W34332622-20270119T193500@VHSBÖBLINGEN-SINDELFINGEN
SUMMARY:Pilates (W34332622) 
LOCATION:MA, Neues Schulhaus, Gymnastikraum, EG, Neue Stuttgarter Str. 1, 71106 Magstadt
END:VEVENT
BEGIN:VEVENT
DTSTAMP:20260420T165533
DTSTART;TZID=Europe/Berlin:20270126T193500
DTEND;TZID=Europe/Berlin:20270126T203500
UID:W34332622-20270126T193500@VHSBÖBLINGEN-SINDELFINGEN
SUMMARY:Pilates (W34332622) 
LOCATION:MA, Neues Schulhaus, Gymnastikraum, EG, Neue Stuttgarter Str. 1, 71106 Magstadt
END:VEVENT
BEGIN:VEVENT
DTSTAMP:20260420T165533
DTSTART;TZID=Europe/Berlin:20270202T193500
DTEND;TZID=Europe/Berlin:20270202T203500
UID:W34332622-20270202T193500@VHSBÖBLINGEN-SINDELFINGEN
SUMMARY:Pilates (W34332622) 
LOCATION:MA, Neues Schulhaus, Gymnastikraum, EG, Neue Stuttgarter Str. 1, 71106 Magstadt
END:VEVENT
END:VCALENDAR