BEGIN:VCALENDAR
VERSION:2.0
PRODID:https://www.kufer.de/kuferweb / DE
METHOD:PUBLISH
CALSCALE:GREGORIAN
X-WR-TIMEZONE:Europe/Berlin
BEGIN:VTIMEZONE
TZID:Europe/Berlin
X-LIC-LOCATION:Europe/Berlin
BEGIN:DAYLIGHT
TZOFFSETFROM:+0100
TZOFFSETTO:+0200
TZNAME:CEST
DTSTART:19700329T020000
RRULE:FREQ=YEARLY;INTERVAL=1;BYDAY=-1SU;BYMONTH=3
END:DAYLIGHT
BEGIN:STANDARD
TZOFFSETFROM:+0200
TZOFFSETTO:+0100
TZNAME:CET
DTSTART:19701025T030000
RRULE:FREQ=YEARLY;INTERVAL=1;BYDAY=-1SU;BYMONTH=10
END:STANDARD
END:VTIMEZONE
BEGIN:VEVENT
DTSTAMP:20260421T171604
DTSTART;TZID=Europe/Berlin:20260917T081500
DTEND;TZID=Europe/Berlin:20260917T091500
UID:W34332421-20260917T081500@VHSBÖBLINGEN-SINDELFINGEN
SUMMARY:Pilates (W34332421) 
LOCATION:HO, Grund- und Werkrealschule, Gymnastikpavillon, Berkenstr. 18, 71088 Holzgerlingen
END:VEVENT
BEGIN:VEVENT
DTSTAMP:20260421T171604
DTSTART;TZID=Europe/Berlin:20260924T081500
DTEND;TZID=Europe/Berlin:20260924T091500
UID:W34332421-20260924T081500@VHSBÖBLINGEN-SINDELFINGEN
SUMMARY:Pilates (W34332421) 
LOCATION:HO, Grund- und Werkrealschule, Gymnastikpavillon, Berkenstr. 18, 71088 Holzgerlingen
END:VEVENT
BEGIN:VEVENT
DTSTAMP:20260421T171604
DTSTART;TZID=Europe/Berlin:20261001T081500
DTEND;TZID=Europe/Berlin:20261001T091500
UID:W34332421-20261001T081500@VHSBÖBLINGEN-SINDELFINGEN
SUMMARY:Pilates (W34332421) 
LOCATION:HO, Grund- und Werkrealschule, Gymnastikpavillon, Berkenstr. 18, 71088 Holzgerlingen
END:VEVENT
BEGIN:VEVENT
DTSTAMP:20260421T171604
DTSTART;TZID=Europe/Berlin:20261008T081500
DTEND;TZID=Europe/Berlin:20261008T091500
UID:W34332421-20261008T081500@VHSBÖBLINGEN-SINDELFINGEN
SUMMARY:Pilates (W34332421) 
LOCATION:HO, Grund- und Werkrealschule, Gymnastikpavillon, Berkenstr. 18, 71088 Holzgerlingen
END:VEVENT
BEGIN:VEVENT
DTSTAMP:20260421T171604
DTSTART;TZID=Europe/Berlin:20261015T081500
DTEND;TZID=Europe/Berlin:20261015T091500
UID:W34332421-20261015T081500@VHSBÖBLINGEN-SINDELFINGEN
SUMMARY:Pilates (W34332421) 
LOCATION:HO, Grund- und Werkrealschule, Gymnastikpavillon, Berkenstr. 18, 71088 Holzgerlingen
END:VEVENT
BEGIN:VEVENT
DTSTAMP:20260421T171604
DTSTART;TZID=Europe/Berlin:20261022T081500
DTEND;TZID=Europe/Berlin:20261022T091500
UID:W34332421-20261022T081500@VHSBÖBLINGEN-SINDELFINGEN
SUMMARY:Pilates (W34332421) 
LOCATION:HO, Grund- und Werkrealschule, Gymnastikpavillon, Berkenstr. 18, 71088 Holzgerlingen
END:VEVENT
BEGIN:VEVENT
DTSTAMP:20260421T171604
DTSTART;TZID=Europe/Berlin:20261105T081500
DTEND;TZID=Europe/Berlin:20261105T091500
UID:W34332421-20261105T081500@VHSBÖBLINGEN-SINDELFINGEN
SUMMARY:Pilates (W34332421) 
LOCATION:HO, Grund- und Werkrealschule, Gymnastikpavillon, Berkenstr. 18, 71088 Holzgerlingen
END:VEVENT
BEGIN:VEVENT
DTSTAMP:20260421T171604
DTSTART;TZID=Europe/Berlin:20261112T081500
DTEND;TZID=Europe/Berlin:20261112T091500
UID:W34332421-20261112T081500@VHSBÖBLINGEN-SINDELFINGEN
SUMMARY:Pilates (W34332421) 
LOCATION:HO, Grund- und Werkrealschule, Gymnastikpavillon, Berkenstr. 18, 71088 Holzgerlingen
END:VEVENT
BEGIN:VEVENT
DTSTAMP:20260421T171604
DTSTART;TZID=Europe/Berlin:20261119T081500
DTEND;TZID=Europe/Berlin:20261119T091500
UID:W34332421-20261119T081500@VHSBÖBLINGEN-SINDELFINGEN
SUMMARY:Pilates (W34332421) 
LOCATION:HO, Grund- und Werkrealschule, Gymnastikpavillon, Berkenstr. 18, 71088 Holzgerlingen
END:VEVENT
BEGIN:VEVENT
DTSTAMP:20260421T171604
DTSTART;TZID=Europe/Berlin:20261126T081500
DTEND;TZID=Europe/Berlin:20261126T091500
UID:W34332421-20261126T081500@VHSBÖBLINGEN-SINDELFINGEN
SUMMARY:Pilates (W34332421) 
LOCATION:HO, Grund- und Werkrealschule, Gymnastikpavillon, Berkenstr. 18, 71088 Holzgerlingen
END:VEVENT
BEGIN:VEVENT
DTSTAMP:20260421T171604
DTSTART;TZID=Europe/Berlin:20261203T081500
DTEND;TZID=Europe/Berlin:20261203T091500
UID:W34332421-20261203T081500@VHSBÖBLINGEN-SINDELFINGEN
SUMMARY:Pilates (W34332421) 
LOCATION:HO, Grund- und Werkrealschule, Gymnastikpavillon, Berkenstr. 18, 71088 Holzgerlingen
END:VEVENT
BEGIN:VEVENT
DTSTAMP:20260421T171604
DTSTART;TZID=Europe/Berlin:20261210T081500
DTEND;TZID=Europe/Berlin:20261210T091500
UID:W34332421-20261210T081500@VHSBÖBLINGEN-SINDELFINGEN
SUMMARY:Pilates (W34332421) 
LOCATION:HO, Grund- und Werkrealschule, Gymnastikpavillon, Berkenstr. 18, 71088 Holzgerlingen
END:VEVENT
BEGIN:VEVENT
DTSTAMP:20260421T171604
DTSTART;TZID=Europe/Berlin:20261217T081500
DTEND;TZID=Europe/Berlin:20261217T091500
UID:W34332421-20261217T081500@VHSBÖBLINGEN-SINDELFINGEN
SUMMARY:Pilates (W34332421) 
LOCATION:HO, Grund- und Werkrealschule, Gymnastikpavillon, Berkenstr. 18, 71088 Holzgerlingen
END:VEVENT
BEGIN:VEVENT
DTSTAMP:20260421T171604
DTSTART;TZID=Europe/Berlin:20270114T081500
DTEND;TZID=Europe/Berlin:20270114T091500
UID:W34332421-20270114T081500@VHSBÖBLINGEN-SINDELFINGEN
SUMMARY:Pilates (W34332421) 
LOCATION:HO, Grund- und Werkrealschule, Gymnastikpavillon, Berkenstr. 18, 71088 Holzgerlingen
END:VEVENT
BEGIN:VEVENT
DTSTAMP:20260421T171604
DTSTART;TZID=Europe/Berlin:20270121T081500
DTEND;TZID=Europe/Berlin:20270121T091500
UID:W34332421-20270121T081500@VHSBÖBLINGEN-SINDELFINGEN
SUMMARY:Pilates (W34332421) 
LOCATION:HO, Grund- und Werkrealschule, Gymnastikpavillon, Berkenstr. 18, 71088 Holzgerlingen
END:VEVENT
BEGIN:VEVENT
DTSTAMP:20260421T171604
DTSTART;TZID=Europe/Berlin:20270128T081500
DTEND;TZID=Europe/Berlin:20270128T091500
UID:W34332421-20270128T081500@VHSBÖBLINGEN-SINDELFINGEN
SUMMARY:Pilates (W34332421) 
LOCATION:HO, Grund- und Werkrealschule, Gymnastikpavillon, Berkenstr. 18, 71088 Holzgerlingen
END:VEVENT
BEGIN:VEVENT
DTSTAMP:20260421T171604
DTSTART;TZID=Europe/Berlin:20270204T081500
DTEND;TZID=Europe/Berlin:20270204T091500
UID:W34332421-20270204T081500@VHSBÖBLINGEN-SINDELFINGEN
SUMMARY:Pilates (W34332421) 
LOCATION:HO, Grund- und Werkrealschule, Gymnastikpavillon, Berkenstr. 18, 71088 Holzgerlingen
END:VEVENT
END:VCALENDAR