BEGIN:VCALENDAR
VERSION:2.0
PRODID:https://www.kufer.de/kuferweb / DE
METHOD:PUBLISH
CALSCALE:GREGORIAN
X-WR-TIMEZONE:Europe/Berlin
BEGIN:VTIMEZONE
TZID:Europe/Berlin
X-LIC-LOCATION:Europe/Berlin
BEGIN:DAYLIGHT
TZOFFSETFROM:+0100
TZOFFSETTO:+0200
TZNAME:CEST
DTSTART:19700329T020000
RRULE:FREQ=YEARLY;INTERVAL=1;BYDAY=-1SU;BYMONTH=3
END:DAYLIGHT
BEGIN:STANDARD
TZOFFSETFROM:+0200
TZOFFSETTO:+0100
TZNAME:CET
DTSTART:19701025T030000
RRULE:FREQ=YEARLY;INTERVAL=1;BYDAY=-1SU;BYMONTH=10
END:STANDARD
END:VTIMEZONE
BEGIN:VEVENT
DTSTAMP:20260421T035228
DTSTART;TZID=Europe/Berlin:20261002T090000
DTEND;TZID=Europe/Berlin:20261002T100000
UID:W34332029-20261002T090000@VHSBÖBLINGEN-SINDELFINGEN
SUMMARY:Pilates für Anfänger in Kleingruppe (W34332029) 
LOCATION:SC_Bürgerhaus, Bürgersaal, Schulstr. 2, 71101 Schönaich
END:VEVENT
BEGIN:VEVENT
DTSTAMP:20260421T035228
DTSTART;TZID=Europe/Berlin:20261009T090000
DTEND;TZID=Europe/Berlin:20261009T100000
UID:W34332029-20261009T090000@VHSBÖBLINGEN-SINDELFINGEN
SUMMARY:Pilates für Anfänger in Kleingruppe (W34332029) 
LOCATION:SC_Bürgerhaus, Bürgersaal, Schulstr. 2, 71101 Schönaich
END:VEVENT
BEGIN:VEVENT
DTSTAMP:20260421T035228
DTSTART;TZID=Europe/Berlin:20261016T090000
DTEND;TZID=Europe/Berlin:20261016T100000
UID:W34332029-20261016T090000@VHSBÖBLINGEN-SINDELFINGEN
SUMMARY:Pilates für Anfänger in Kleingruppe (W34332029) 
LOCATION:SC_Bürgerhaus, Bürgersaal, Schulstr. 2, 71101 Schönaich
END:VEVENT
BEGIN:VEVENT
DTSTAMP:20260421T035228
DTSTART;TZID=Europe/Berlin:20261023T090000
DTEND;TZID=Europe/Berlin:20261023T100000
UID:W34332029-20261023T090000@VHSBÖBLINGEN-SINDELFINGEN
SUMMARY:Pilates für Anfänger in Kleingruppe (W34332029) 
LOCATION:SC_Bürgerhaus, Bürgersaal, Schulstr. 2, 71101 Schönaich
END:VEVENT
BEGIN:VEVENT
DTSTAMP:20260421T035228
DTSTART;TZID=Europe/Berlin:20261106T090000
DTEND;TZID=Europe/Berlin:20261106T100000
UID:W34332029-20261106T090000@VHSBÖBLINGEN-SINDELFINGEN
SUMMARY:Pilates für Anfänger in Kleingruppe (W34332029) 
LOCATION:SC_Bürgerhaus, Bürgersaal, Schulstr. 2, 71101 Schönaich
END:VEVENT
BEGIN:VEVENT
DTSTAMP:20260421T035228
DTSTART;TZID=Europe/Berlin:20261113T090000
DTEND;TZID=Europe/Berlin:20261113T100000
UID:W34332029-20261113T090000@VHSBÖBLINGEN-SINDELFINGEN
SUMMARY:Pilates für Anfänger in Kleingruppe (W34332029) 
LOCATION:SC_Bürgerhaus, Bürgersaal, Schulstr. 2, 71101 Schönaich
END:VEVENT
BEGIN:VEVENT
DTSTAMP:20260421T035228
DTSTART;TZID=Europe/Berlin:20261120T090000
DTEND;TZID=Europe/Berlin:20261120T100000
UID:W34332029-20261120T090000@VHSBÖBLINGEN-SINDELFINGEN
SUMMARY:Pilates für Anfänger in Kleingruppe (W34332029) 
LOCATION:SC_Bürgerhaus, Bürgersaal, Schulstr. 2, 71101 Schönaich
END:VEVENT
BEGIN:VEVENT
DTSTAMP:20260421T035228
DTSTART;TZID=Europe/Berlin:20261127T090000
DTEND;TZID=Europe/Berlin:20261127T100000
UID:W34332029-20261127T090000@VHSBÖBLINGEN-SINDELFINGEN
SUMMARY:Pilates für Anfänger in Kleingruppe (W34332029) 
LOCATION:SC_Bürgerhaus, Bürgersaal, Schulstr. 2, 71101 Schönaich
END:VEVENT
BEGIN:VEVENT
DTSTAMP:20260421T035228
DTSTART;TZID=Europe/Berlin:20261204T090000
DTEND;TZID=Europe/Berlin:20261204T100000
UID:W34332029-20261204T090000@VHSBÖBLINGEN-SINDELFINGEN
SUMMARY:Pilates für Anfänger in Kleingruppe (W34332029) 
LOCATION:SC_Bürgerhaus, Bürgersaal, Schulstr. 2, 71101 Schönaich
END:VEVENT
BEGIN:VEVENT
DTSTAMP:20260421T035228
DTSTART;TZID=Europe/Berlin:20261211T090000
DTEND;TZID=Europe/Berlin:20261211T100000
UID:W34332029-20261211T090000@VHSBÖBLINGEN-SINDELFINGEN
SUMMARY:Pilates für Anfänger in Kleingruppe (W34332029) 
LOCATION:SC_Bürgerhaus, Bürgersaal, Schulstr. 2, 71101 Schönaich
END:VEVENT
BEGIN:VEVENT
DTSTAMP:20260421T035228
DTSTART;TZID=Europe/Berlin:20261218T090000
DTEND;TZID=Europe/Berlin:20261218T100000
UID:W34332029-20261218T090000@VHSBÖBLINGEN-SINDELFINGEN
SUMMARY:Pilates für Anfänger in Kleingruppe (W34332029) 
LOCATION:SC_Bürgerhaus, Bürgersaal, Schulstr. 2, 71101 Schönaich
END:VEVENT
BEGIN:VEVENT
DTSTAMP:20260421T035228
DTSTART;TZID=Europe/Berlin:20270115T090000
DTEND;TZID=Europe/Berlin:20270115T100000
UID:W34332029-20270115T090000@VHSBÖBLINGEN-SINDELFINGEN
SUMMARY:Pilates für Anfänger in Kleingruppe (W34332029) 
LOCATION:SC_Bürgerhaus, Bürgersaal, Schulstr. 2, 71101 Schönaich
END:VEVENT
BEGIN:VEVENT
DTSTAMP:20260421T035228
DTSTART;TZID=Europe/Berlin:20270122T090000
DTEND;TZID=Europe/Berlin:20270122T100000
UID:W34332029-20270122T090000@VHSBÖBLINGEN-SINDELFINGEN
SUMMARY:Pilates für Anfänger in Kleingruppe (W34332029) 
LOCATION:SC_Bürgerhaus, Bürgersaal, Schulstr. 2, 71101 Schönaich
END:VEVENT
BEGIN:VEVENT
DTSTAMP:20260421T035228
DTSTART;TZID=Europe/Berlin:20270129T090000
DTEND;TZID=Europe/Berlin:20270129T100000
UID:W34332029-20270129T090000@VHSBÖBLINGEN-SINDELFINGEN
SUMMARY:Pilates für Anfänger in Kleingruppe (W34332029) 
LOCATION:SC_Bürgerhaus, Bürgersaal, Schulstr. 2, 71101 Schönaich
END:VEVENT
BEGIN:VEVENT
DTSTAMP:20260421T035228
DTSTART;TZID=Europe/Berlin:20270205T090000
DTEND;TZID=Europe/Berlin:20270205T100000
UID:W34332029-20270205T090000@VHSBÖBLINGEN-SINDELFINGEN
SUMMARY:Pilates für Anfänger in Kleingruppe (W34332029) 
LOCATION:SC_Bürgerhaus, Bürgersaal, Schulstr. 2, 71101 Schönaich
END:VEVENT
END:VCALENDAR