BEGIN:VCALENDAR
VERSION:2.0
PRODID:https://www.kufer.de/kuferweb / DE
METHOD:PUBLISH
CALSCALE:GREGORIAN
X-WR-TIMEZONE:Europe/Berlin
BEGIN:VTIMEZONE
TZID:Europe/Berlin
X-LIC-LOCATION:Europe/Berlin
BEGIN:DAYLIGHT
TZOFFSETFROM:+0100
TZOFFSETTO:+0200
TZNAME:CEST
DTSTART:19700329T020000
RRULE:FREQ=YEARLY;INTERVAL=1;BYDAY=-1SU;BYMONTH=3
END:DAYLIGHT
BEGIN:STANDARD
TZOFFSETFROM:+0200
TZOFFSETTO:+0100
TZNAME:CET
DTSTART:19701025T030000
RRULE:FREQ=YEARLY;INTERVAL=1;BYDAY=-1SU;BYMONTH=10
END:STANDARD
END:VTIMEZONE
BEGIN:VEVENT
DTSTAMP:20260421T130718
DTSTART;TZID=Europe/Berlin:20260914T183000
DTEND;TZID=Europe/Berlin:20260914T191500
UID:W34332018-20260914T183000@VHSBÖBLINGEN-SINDELFINGEN
SUMMARY:Pilates (W34332018) 
LOCATION:GR, Grundschule Dätzingen, Turnhalle, Döffinger Str. 55, 71120 Grafenau
END:VEVENT
BEGIN:VEVENT
DTSTAMP:20260421T130718
DTSTART;TZID=Europe/Berlin:20260921T183000
DTEND;TZID=Europe/Berlin:20260921T191500
UID:W34332018-20260921T183000@VHSBÖBLINGEN-SINDELFINGEN
SUMMARY:Pilates (W34332018) 
LOCATION:GR, Grundschule Dätzingen, Turnhalle, Döffinger Str. 55, 71120 Grafenau
END:VEVENT
BEGIN:VEVENT
DTSTAMP:20260421T130718
DTSTART;TZID=Europe/Berlin:20260928T183000
DTEND;TZID=Europe/Berlin:20260928T191500
UID:W34332018-20260928T183000@VHSBÖBLINGEN-SINDELFINGEN
SUMMARY:Pilates (W34332018) 
LOCATION:GR, Grundschule Dätzingen, Turnhalle, Döffinger Str. 55, 71120 Grafenau
END:VEVENT
BEGIN:VEVENT
DTSTAMP:20260421T130718
DTSTART;TZID=Europe/Berlin:20261005T183000
DTEND;TZID=Europe/Berlin:20261005T191500
UID:W34332018-20261005T183000@VHSBÖBLINGEN-SINDELFINGEN
SUMMARY:Pilates (W34332018) 
LOCATION:GR, Grundschule Dätzingen, Turnhalle, Döffinger Str. 55, 71120 Grafenau
END:VEVENT
BEGIN:VEVENT
DTSTAMP:20260421T130718
DTSTART;TZID=Europe/Berlin:20261012T183000
DTEND;TZID=Europe/Berlin:20261012T191500
UID:W34332018-20261012T183000@VHSBÖBLINGEN-SINDELFINGEN
SUMMARY:Pilates (W34332018) 
LOCATION:GR, Grundschule Dätzingen, Turnhalle, Döffinger Str. 55, 71120 Grafenau
END:VEVENT
BEGIN:VEVENT
DTSTAMP:20260421T130718
DTSTART;TZID=Europe/Berlin:20261019T183000
DTEND;TZID=Europe/Berlin:20261019T191500
UID:W34332018-20261019T183000@VHSBÖBLINGEN-SINDELFINGEN
SUMMARY:Pilates (W34332018) 
LOCATION:GR, Grundschule Dätzingen, Turnhalle, Döffinger Str. 55, 71120 Grafenau
END:VEVENT
BEGIN:VEVENT
DTSTAMP:20260421T130718
DTSTART;TZID=Europe/Berlin:20261102T183000
DTEND;TZID=Europe/Berlin:20261102T191500
UID:W34332018-20261102T183000@VHSBÖBLINGEN-SINDELFINGEN
SUMMARY:Pilates (W34332018) 
LOCATION:GR, Grundschule Dätzingen, Turnhalle, Döffinger Str. 55, 71120 Grafenau
END:VEVENT
BEGIN:VEVENT
DTSTAMP:20260421T130718
DTSTART;TZID=Europe/Berlin:20261109T183000
DTEND;TZID=Europe/Berlin:20261109T191500
UID:W34332018-20261109T183000@VHSBÖBLINGEN-SINDELFINGEN
SUMMARY:Pilates (W34332018) 
LOCATION:GR, Grundschule Dätzingen, Turnhalle, Döffinger Str. 55, 71120 Grafenau
END:VEVENT
BEGIN:VEVENT
DTSTAMP:20260421T130718
DTSTART;TZID=Europe/Berlin:20261116T183000
DTEND;TZID=Europe/Berlin:20261116T191500
UID:W34332018-20261116T183000@VHSBÖBLINGEN-SINDELFINGEN
SUMMARY:Pilates (W34332018) 
LOCATION:GR, Grundschule Dätzingen, Turnhalle, Döffinger Str. 55, 71120 Grafenau
END:VEVENT
BEGIN:VEVENT
DTSTAMP:20260421T130718
DTSTART;TZID=Europe/Berlin:20261123T183000
DTEND;TZID=Europe/Berlin:20261123T191500
UID:W34332018-20261123T183000@VHSBÖBLINGEN-SINDELFINGEN
SUMMARY:Pilates (W34332018) 
LOCATION:GR, Grundschule Dätzingen, Turnhalle, Döffinger Str. 55, 71120 Grafenau
END:VEVENT
BEGIN:VEVENT
DTSTAMP:20260421T130718
DTSTART;TZID=Europe/Berlin:20261130T183000
DTEND;TZID=Europe/Berlin:20261130T191500
UID:W34332018-20261130T183000@VHSBÖBLINGEN-SINDELFINGEN
SUMMARY:Pilates (W34332018) 
LOCATION:GR, Grundschule Dätzingen, Turnhalle, Döffinger Str. 55, 71120 Grafenau
END:VEVENT
BEGIN:VEVENT
DTSTAMP:20260421T130718
DTSTART;TZID=Europe/Berlin:20261207T183000
DTEND;TZID=Europe/Berlin:20261207T191500
UID:W34332018-20261207T183000@VHSBÖBLINGEN-SINDELFINGEN
SUMMARY:Pilates (W34332018) 
LOCATION:GR, Grundschule Dätzingen, Turnhalle, Döffinger Str. 55, 71120 Grafenau
END:VEVENT
BEGIN:VEVENT
DTSTAMP:20260421T130718
DTSTART;TZID=Europe/Berlin:20261214T183000
DTEND;TZID=Europe/Berlin:20261214T191500
UID:W34332018-20261214T183000@VHSBÖBLINGEN-SINDELFINGEN
SUMMARY:Pilates (W34332018) 
LOCATION:GR, Grundschule Dätzingen, Turnhalle, Döffinger Str. 55, 71120 Grafenau
END:VEVENT
BEGIN:VEVENT
DTSTAMP:20260421T130718
DTSTART;TZID=Europe/Berlin:20261221T183000
DTEND;TZID=Europe/Berlin:20261221T191500
UID:W34332018-20261221T183000@VHSBÖBLINGEN-SINDELFINGEN
SUMMARY:Pilates (W34332018) 
LOCATION:GR, Grundschule Dätzingen, Turnhalle, Döffinger Str. 55, 71120 Grafenau
END:VEVENT
BEGIN:VEVENT
DTSTAMP:20260421T130718
DTSTART;TZID=Europe/Berlin:20270111T183000
DTEND;TZID=Europe/Berlin:20270111T191500
UID:W34332018-20270111T183000@VHSBÖBLINGEN-SINDELFINGEN
SUMMARY:Pilates (W34332018) 
LOCATION:GR, Grundschule Dätzingen, Turnhalle, Döffinger Str. 55, 71120 Grafenau
END:VEVENT
BEGIN:VEVENT
DTSTAMP:20260421T130718
DTSTART;TZID=Europe/Berlin:20270118T183000
DTEND;TZID=Europe/Berlin:20270118T191500
UID:W34332018-20270118T183000@VHSBÖBLINGEN-SINDELFINGEN
SUMMARY:Pilates (W34332018) 
LOCATION:GR, Grundschule Dätzingen, Turnhalle, Döffinger Str. 55, 71120 Grafenau
END:VEVENT
BEGIN:VEVENT
DTSTAMP:20260421T130718
DTSTART;TZID=Europe/Berlin:20270125T183000
DTEND;TZID=Europe/Berlin:20270125T191500
UID:W34332018-20270125T183000@VHSBÖBLINGEN-SINDELFINGEN
SUMMARY:Pilates (W34332018) 
LOCATION:GR, Grundschule Dätzingen, Turnhalle, Döffinger Str. 55, 71120 Grafenau
END:VEVENT
BEGIN:VEVENT
DTSTAMP:20260421T130718
DTSTART;TZID=Europe/Berlin:20270201T183000
DTEND;TZID=Europe/Berlin:20270201T191500
UID:W34332018-20270201T183000@VHSBÖBLINGEN-SINDELFINGEN
SUMMARY:Pilates (W34332018) 
LOCATION:GR, Grundschule Dätzingen, Turnhalle, Döffinger Str. 55, 71120 Grafenau
END:VEVENT
END:VCALENDAR