BEGIN:VCALENDAR
VERSION:2.0
PRODID:https://www.kufer.de/kuferweb / DE
METHOD:PUBLISH
CALSCALE:GREGORIAN
X-WR-TIMEZONE:Europe/Berlin
BEGIN:VTIMEZONE
TZID:Europe/Berlin
X-LIC-LOCATION:Europe/Berlin
BEGIN:DAYLIGHT
TZOFFSETFROM:+0100
TZOFFSETTO:+0200
TZNAME:CEST
DTSTART:19700329T020000
RRULE:FREQ=YEARLY;INTERVAL=1;BYDAY=-1SU;BYMONTH=3
END:DAYLIGHT
BEGIN:STANDARD
TZOFFSETFROM:+0200
TZOFFSETTO:+0100
TZNAME:CET
DTSTART:19701025T030000
RRULE:FREQ=YEARLY;INTERVAL=1;BYDAY=-1SU;BYMONTH=10
END:STANDARD
END:VTIMEZONE
BEGIN:VEVENT
DTSTAMP:20260421T035307
DTSTART;TZID=Europe/Berlin:20260923T175000
DTEND;TZID=Europe/Berlin:20260923T185000
UID:W34331010-20260923T175000@VHSBÖBLINGEN-SINDELFINGEN
SUMMARY:Pilates (W34331010) 
LOCATION:vhs.Werk, Halle 2, Wurmbergstr. 5, 71063 Sindelfingen
END:VEVENT
BEGIN:VEVENT
DTSTAMP:20260421T035307
DTSTART;TZID=Europe/Berlin:20260930T175000
DTEND;TZID=Europe/Berlin:20260930T185000
UID:W34331010-20260930T175000@VHSBÖBLINGEN-SINDELFINGEN
SUMMARY:Pilates (W34331010) 
LOCATION:vhs.Werk, Halle 2, Wurmbergstr. 5, 71063 Sindelfingen
END:VEVENT
BEGIN:VEVENT
DTSTAMP:20260421T035307
DTSTART;TZID=Europe/Berlin:20261007T175000
DTEND;TZID=Europe/Berlin:20261007T185000
UID:W34331010-20261007T175000@VHSBÖBLINGEN-SINDELFINGEN
SUMMARY:Pilates (W34331010) 
LOCATION:vhs.Werk, Halle 2, Wurmbergstr. 5, 71063 Sindelfingen
END:VEVENT
BEGIN:VEVENT
DTSTAMP:20260421T035307
DTSTART;TZID=Europe/Berlin:20261014T175000
DTEND;TZID=Europe/Berlin:20261014T185000
UID:W34331010-20261014T175000@VHSBÖBLINGEN-SINDELFINGEN
SUMMARY:Pilates (W34331010) 
LOCATION:vhs.Werk, Halle 2, Wurmbergstr. 5, 71063 Sindelfingen
END:VEVENT
BEGIN:VEVENT
DTSTAMP:20260421T035307
DTSTART;TZID=Europe/Berlin:20261021T175000
DTEND;TZID=Europe/Berlin:20261021T185000
UID:W34331010-20261021T175000@VHSBÖBLINGEN-SINDELFINGEN
SUMMARY:Pilates (W34331010) 
LOCATION:vhs.Werk, Halle 2, Wurmbergstr. 5, 71063 Sindelfingen
END:VEVENT
BEGIN:VEVENT
DTSTAMP:20260421T035307
DTSTART;TZID=Europe/Berlin:20261104T175000
DTEND;TZID=Europe/Berlin:20261104T185000
UID:W34331010-20261104T175000@VHSBÖBLINGEN-SINDELFINGEN
SUMMARY:Pilates (W34331010) 
LOCATION:vhs.Werk, Halle 2, Wurmbergstr. 5, 71063 Sindelfingen
END:VEVENT
BEGIN:VEVENT
DTSTAMP:20260421T035307
DTSTART;TZID=Europe/Berlin:20261111T175000
DTEND;TZID=Europe/Berlin:20261111T185000
UID:W34331010-20261111T175000@VHSBÖBLINGEN-SINDELFINGEN
SUMMARY:Pilates (W34331010) 
LOCATION:vhs.Werk, Halle 2, Wurmbergstr. 5, 71063 Sindelfingen
END:VEVENT
BEGIN:VEVENT
DTSTAMP:20260421T035307
DTSTART;TZID=Europe/Berlin:20261118T175000
DTEND;TZID=Europe/Berlin:20261118T185000
UID:W34331010-20261118T175000@VHSBÖBLINGEN-SINDELFINGEN
SUMMARY:Pilates (W34331010) 
LOCATION:vhs.Werk, Halle 2, Wurmbergstr. 5, 71063 Sindelfingen
END:VEVENT
BEGIN:VEVENT
DTSTAMP:20260421T035307
DTSTART;TZID=Europe/Berlin:20261125T175000
DTEND;TZID=Europe/Berlin:20261125T185000
UID:W34331010-20261125T175000@VHSBÖBLINGEN-SINDELFINGEN
SUMMARY:Pilates (W34331010) 
LOCATION:vhs.Werk, Halle 2, Wurmbergstr. 5, 71063 Sindelfingen
END:VEVENT
BEGIN:VEVENT
DTSTAMP:20260421T035307
DTSTART;TZID=Europe/Berlin:20261202T175000
DTEND;TZID=Europe/Berlin:20261202T185000
UID:W34331010-20261202T175000@VHSBÖBLINGEN-SINDELFINGEN
SUMMARY:Pilates (W34331010) 
LOCATION:vhs.Werk, Halle 2, Wurmbergstr. 5, 71063 Sindelfingen
END:VEVENT
BEGIN:VEVENT
DTSTAMP:20260421T035307
DTSTART;TZID=Europe/Berlin:20261209T175000
DTEND;TZID=Europe/Berlin:20261209T185000
UID:W34331010-20261209T175000@VHSBÖBLINGEN-SINDELFINGEN
SUMMARY:Pilates (W34331010) 
LOCATION:vhs.Werk, Halle 2, Wurmbergstr. 5, 71063 Sindelfingen
END:VEVENT
BEGIN:VEVENT
DTSTAMP:20260421T035307
DTSTART;TZID=Europe/Berlin:20261216T175000
DTEND;TZID=Europe/Berlin:20261216T185000
UID:W34331010-20261216T175000@VHSBÖBLINGEN-SINDELFINGEN
SUMMARY:Pilates (W34331010) 
LOCATION:vhs.Werk, Halle 2, Wurmbergstr. 5, 71063 Sindelfingen
END:VEVENT
BEGIN:VEVENT
DTSTAMP:20260421T035307
DTSTART;TZID=Europe/Berlin:20270113T175000
DTEND;TZID=Europe/Berlin:20270113T185000
UID:W34331010-20270113T175000@VHSBÖBLINGEN-SINDELFINGEN
SUMMARY:Pilates (W34331010) 
LOCATION:vhs.Werk, Halle 2, Wurmbergstr. 5, 71063 Sindelfingen
END:VEVENT
BEGIN:VEVENT
DTSTAMP:20260421T035307
DTSTART;TZID=Europe/Berlin:20270120T175000
DTEND;TZID=Europe/Berlin:20270120T185000
UID:W34331010-20270120T175000@VHSBÖBLINGEN-SINDELFINGEN
SUMMARY:Pilates (W34331010) 
LOCATION:vhs.Werk, Halle 2, Wurmbergstr. 5, 71063 Sindelfingen
END:VEVENT
BEGIN:VEVENT
DTSTAMP:20260421T035307
DTSTART;TZID=Europe/Berlin:20270127T175000
DTEND;TZID=Europe/Berlin:20270127T185000
UID:W34331010-20270127T175000@VHSBÖBLINGEN-SINDELFINGEN
SUMMARY:Pilates (W34331010) 
LOCATION:vhs.Werk, Halle 2, Wurmbergstr. 5, 71063 Sindelfingen
END:VEVENT
BEGIN:VEVENT
DTSTAMP:20260421T035307
DTSTART;TZID=Europe/Berlin:20270203T175000
DTEND;TZID=Europe/Berlin:20270203T185000
UID:W34331010-20270203T175000@VHSBÖBLINGEN-SINDELFINGEN
SUMMARY:Pilates (W34331010) 
LOCATION:vhs.Werk, Halle 2, Wurmbergstr. 5, 71063 Sindelfingen
END:VEVENT
END:VCALENDAR