BEGIN:VCALENDAR
VERSION:2.0
PRODID:https://www.kufer.de/kuferweb / DE
METHOD:PUBLISH
CALSCALE:GREGORIAN
X-WR-TIMEZONE:Europe/Berlin
BEGIN:VTIMEZONE
TZID:Europe/Berlin
X-LIC-LOCATION:Europe/Berlin
BEGIN:DAYLIGHT
TZOFFSETFROM:+0100
TZOFFSETTO:+0200
TZNAME:CEST
DTSTART:19700329T020000
RRULE:FREQ=YEARLY;INTERVAL=1;BYDAY=-1SU;BYMONTH=3
END:DAYLIGHT
BEGIN:STANDARD
TZOFFSETFROM:+0200
TZOFFSETTO:+0100
TZNAME:CET
DTSTART:19701025T030000
RRULE:FREQ=YEARLY;INTERVAL=1;BYDAY=-1SU;BYMONTH=10
END:STANDARD
END:VTIMEZONE
BEGIN:VEVENT
DTSTAMP:20260421T004949
DTSTART;TZID=Europe/Berlin:20260914T191500
DTEND;TZID=Europe/Berlin:20260914T201500
UID:W34181012-20260914T191500@VHSBÖBLINGEN-SINDELFINGEN
SUMMARY:Bodystyling & Stretch Kraft & Ausstrahlung (W34181012) 
LOCATION:AL, Schönbuchschule, Schönbuchsaal, Im Sommerfeld 2, 71157 Hildrizhausen
END:VEVENT
BEGIN:VEVENT
DTSTAMP:20260421T004949
DTSTART;TZID=Europe/Berlin:20260921T191500
DTEND;TZID=Europe/Berlin:20260921T201500
UID:W34181012-20260921T191500@VHSBÖBLINGEN-SINDELFINGEN
SUMMARY:Bodystyling & Stretch Kraft & Ausstrahlung (W34181012) 
LOCATION:AL, Schönbuchschule, Schönbuchsaal, Im Sommerfeld 2, 71157 Hildrizhausen
END:VEVENT
BEGIN:VEVENT
DTSTAMP:20260421T004949
DTSTART;TZID=Europe/Berlin:20260928T191500
DTEND;TZID=Europe/Berlin:20260928T201500
UID:W34181012-20260928T191500@VHSBÖBLINGEN-SINDELFINGEN
SUMMARY:Bodystyling & Stretch Kraft & Ausstrahlung (W34181012) 
LOCATION:AL, Schönbuchschule, Schönbuchsaal, Im Sommerfeld 2, 71157 Hildrizhausen
END:VEVENT
BEGIN:VEVENT
DTSTAMP:20260421T004949
DTSTART;TZID=Europe/Berlin:20261005T191500
DTEND;TZID=Europe/Berlin:20261005T201500
UID:W34181012-20261005T191500@VHSBÖBLINGEN-SINDELFINGEN
SUMMARY:Bodystyling & Stretch Kraft & Ausstrahlung (W34181012) 
LOCATION:AL, Schönbuchschule, Schönbuchsaal, Im Sommerfeld 2, 71157 Hildrizhausen
END:VEVENT
BEGIN:VEVENT
DTSTAMP:20260421T004949
DTSTART;TZID=Europe/Berlin:20261012T191500
DTEND;TZID=Europe/Berlin:20261012T201500
UID:W34181012-20261012T191500@VHSBÖBLINGEN-SINDELFINGEN
SUMMARY:Bodystyling & Stretch Kraft & Ausstrahlung (W34181012) 
LOCATION:AL, Schönbuchschule, Schönbuchsaal, Im Sommerfeld 2, 71157 Hildrizhausen
END:VEVENT
BEGIN:VEVENT
DTSTAMP:20260421T004949
DTSTART;TZID=Europe/Berlin:20261019T191500
DTEND;TZID=Europe/Berlin:20261019T201500
UID:W34181012-20261019T191500@VHSBÖBLINGEN-SINDELFINGEN
SUMMARY:Bodystyling & Stretch Kraft & Ausstrahlung (W34181012) 
LOCATION:AL, Schönbuchschule, Schönbuchsaal, Im Sommerfeld 2, 71157 Hildrizhausen
END:VEVENT
BEGIN:VEVENT
DTSTAMP:20260421T004949
DTSTART;TZID=Europe/Berlin:20261102T191500
DTEND;TZID=Europe/Berlin:20261102T201500
UID:W34181012-20261102T191500@VHSBÖBLINGEN-SINDELFINGEN
SUMMARY:Bodystyling & Stretch Kraft & Ausstrahlung (W34181012) 
LOCATION:AL, Schönbuchschule, Schönbuchsaal, Im Sommerfeld 2, 71157 Hildrizhausen
END:VEVENT
BEGIN:VEVENT
DTSTAMP:20260421T004949
DTSTART;TZID=Europe/Berlin:20261109T191500
DTEND;TZID=Europe/Berlin:20261109T201500
UID:W34181012-20261109T191500@VHSBÖBLINGEN-SINDELFINGEN
SUMMARY:Bodystyling & Stretch Kraft & Ausstrahlung (W34181012) 
LOCATION:AL, Schönbuchschule, Schönbuchsaal, Im Sommerfeld 2, 71157 Hildrizhausen
END:VEVENT
BEGIN:VEVENT
DTSTAMP:20260421T004949
DTSTART;TZID=Europe/Berlin:20261116T191500
DTEND;TZID=Europe/Berlin:20261116T201500
UID:W34181012-20261116T191500@VHSBÖBLINGEN-SINDELFINGEN
SUMMARY:Bodystyling & Stretch Kraft & Ausstrahlung (W34181012) 
LOCATION:AL, Schönbuchschule, Schönbuchsaal, Im Sommerfeld 2, 71157 Hildrizhausen
END:VEVENT
BEGIN:VEVENT
DTSTAMP:20260421T004949
DTSTART;TZID=Europe/Berlin:20261123T191500
DTEND;TZID=Europe/Berlin:20261123T201500
UID:W34181012-20261123T191500@VHSBÖBLINGEN-SINDELFINGEN
SUMMARY:Bodystyling & Stretch Kraft & Ausstrahlung (W34181012) 
LOCATION:AL, Schönbuchschule, Schönbuchsaal, Im Sommerfeld 2, 71157 Hildrizhausen
END:VEVENT
BEGIN:VEVENT
DTSTAMP:20260421T004949
DTSTART;TZID=Europe/Berlin:20261130T191500
DTEND;TZID=Europe/Berlin:20261130T201500
UID:W34181012-20261130T191500@VHSBÖBLINGEN-SINDELFINGEN
SUMMARY:Bodystyling & Stretch Kraft & Ausstrahlung (W34181012) 
LOCATION:AL, Schönbuchschule, Schönbuchsaal, Im Sommerfeld 2, 71157 Hildrizhausen
END:VEVENT
BEGIN:VEVENT
DTSTAMP:20260421T004949
DTSTART;TZID=Europe/Berlin:20261207T191500
DTEND;TZID=Europe/Berlin:20261207T201500
UID:W34181012-20261207T191500@VHSBÖBLINGEN-SINDELFINGEN
SUMMARY:Bodystyling & Stretch Kraft & Ausstrahlung (W34181012) 
LOCATION:AL, Schönbuchschule, Schönbuchsaal, Im Sommerfeld 2, 71157 Hildrizhausen
END:VEVENT
BEGIN:VEVENT
DTSTAMP:20260421T004949
DTSTART;TZID=Europe/Berlin:20261214T191500
DTEND;TZID=Europe/Berlin:20261214T201500
UID:W34181012-20261214T191500@VHSBÖBLINGEN-SINDELFINGEN
SUMMARY:Bodystyling & Stretch Kraft & Ausstrahlung (W34181012) 
LOCATION:AL, Schönbuchschule, Schönbuchsaal, Im Sommerfeld 2, 71157 Hildrizhausen
END:VEVENT
BEGIN:VEVENT
DTSTAMP:20260421T004949
DTSTART;TZID=Europe/Berlin:20270111T191500
DTEND;TZID=Europe/Berlin:20270111T201500
UID:W34181012-20270111T191500@VHSBÖBLINGEN-SINDELFINGEN
SUMMARY:Bodystyling & Stretch Kraft & Ausstrahlung (W34181012) 
LOCATION:AL, Schönbuchschule, Schönbuchsaal, Im Sommerfeld 2, 71157 Hildrizhausen
END:VEVENT
BEGIN:VEVENT
DTSTAMP:20260421T004949
DTSTART;TZID=Europe/Berlin:20270118T191500
DTEND;TZID=Europe/Berlin:20270118T201500
UID:W34181012-20270118T191500@VHSBÖBLINGEN-SINDELFINGEN
SUMMARY:Bodystyling & Stretch Kraft & Ausstrahlung (W34181012) 
LOCATION:AL, Schönbuchschule, Schönbuchsaal, Im Sommerfeld 2, 71157 Hildrizhausen
END:VEVENT
BEGIN:VEVENT
DTSTAMP:20260421T004949
DTSTART;TZID=Europe/Berlin:20270125T191500
DTEND;TZID=Europe/Berlin:20270125T201500
UID:W34181012-20270125T191500@VHSBÖBLINGEN-SINDELFINGEN
SUMMARY:Bodystyling & Stretch Kraft & Ausstrahlung (W34181012) 
LOCATION:AL, Schönbuchschule, Schönbuchsaal, Im Sommerfeld 2, 71157 Hildrizhausen
END:VEVENT
BEGIN:VEVENT
DTSTAMP:20260421T004949
DTSTART;TZID=Europe/Berlin:20270201T191500
DTEND;TZID=Europe/Berlin:20270201T201500
UID:W34181012-20270201T191500@VHSBÖBLINGEN-SINDELFINGEN
SUMMARY:Bodystyling & Stretch Kraft & Ausstrahlung (W34181012) 
LOCATION:AL, Schönbuchschule, Schönbuchsaal, Im Sommerfeld 2, 71157 Hildrizhausen
END:VEVENT
END:VCALENDAR