BEGIN:VCALENDAR
VERSION:2.0
PRODID:https://www.kufer.de/kuferweb / DE
METHOD:PUBLISH
CALSCALE:GREGORIAN
X-WR-TIMEZONE:Europe/Berlin
BEGIN:VTIMEZONE
TZID:Europe/Berlin
X-LIC-LOCATION:Europe/Berlin
BEGIN:DAYLIGHT
TZOFFSETFROM:+0100
TZOFFSETTO:+0200
TZNAME:CEST
DTSTART:19700329T020000
RRULE:FREQ=YEARLY;INTERVAL=1;BYDAY=-1SU;BYMONTH=3
END:DAYLIGHT
BEGIN:STANDARD
TZOFFSETFROM:+0200
TZOFFSETTO:+0100
TZNAME:CET
DTSTART:19701025T030000
RRULE:FREQ=YEARLY;INTERVAL=1;BYDAY=-1SU;BYMONTH=10
END:STANDARD
END:VTIMEZONE
BEGIN:VEVENT
DTSTAMP:20260421T152131
DTSTART;TZID=Europe/Berlin:20260918T093000
DTEND;TZID=Europe/Berlin:20260918T103000
UID:W34165524-20260918T093000@VHSBÖBLINGEN-SINDELFINGEN
SUMMARY:Ganzheitliche Gymnastik (W34165524) 
LOCATION:Bürgerhaus Maichingen, Übungsraum 1, Sindelfinger Str. 44, 71069 Sindelfingen
END:VEVENT
BEGIN:VEVENT
DTSTAMP:20260421T152131
DTSTART;TZID=Europe/Berlin:20260925T093000
DTEND;TZID=Europe/Berlin:20260925T103000
UID:W34165524-20260925T093000@VHSBÖBLINGEN-SINDELFINGEN
SUMMARY:Ganzheitliche Gymnastik (W34165524) 
LOCATION:Bürgerhaus Maichingen, Übungsraum 1, Sindelfinger Str. 44, 71069 Sindelfingen
END:VEVENT
BEGIN:VEVENT
DTSTAMP:20260421T152131
DTSTART;TZID=Europe/Berlin:20261002T093000
DTEND;TZID=Europe/Berlin:20261002T103000
UID:W34165524-20261002T093000@VHSBÖBLINGEN-SINDELFINGEN
SUMMARY:Ganzheitliche Gymnastik (W34165524) 
LOCATION:Bürgerhaus Maichingen, Übungsraum 1, Sindelfinger Str. 44, 71069 Sindelfingen
END:VEVENT
BEGIN:VEVENT
DTSTAMP:20260421T152131
DTSTART;TZID=Europe/Berlin:20261009T093000
DTEND;TZID=Europe/Berlin:20261009T103000
UID:W34165524-20261009T093000@VHSBÖBLINGEN-SINDELFINGEN
SUMMARY:Ganzheitliche Gymnastik (W34165524) 
LOCATION:Bürgerhaus Maichingen, Übungsraum 1, Sindelfinger Str. 44, 71069 Sindelfingen
END:VEVENT
BEGIN:VEVENT
DTSTAMP:20260421T152131
DTSTART;TZID=Europe/Berlin:20261016T093000
DTEND;TZID=Europe/Berlin:20261016T103000
UID:W34165524-20261016T093000@VHSBÖBLINGEN-SINDELFINGEN
SUMMARY:Ganzheitliche Gymnastik (W34165524) 
LOCATION:Bürgerhaus Maichingen, Übungsraum 1, Sindelfinger Str. 44, 71069 Sindelfingen
END:VEVENT
BEGIN:VEVENT
DTSTAMP:20260421T152131
DTSTART;TZID=Europe/Berlin:20261023T093000
DTEND;TZID=Europe/Berlin:20261023T103000
UID:W34165524-20261023T093000@VHSBÖBLINGEN-SINDELFINGEN
SUMMARY:Ganzheitliche Gymnastik (W34165524) 
LOCATION:Bürgerhaus Maichingen, Übungsraum 1, Sindelfinger Str. 44, 71069 Sindelfingen
END:VEVENT
BEGIN:VEVENT
DTSTAMP:20260421T152131
DTSTART;TZID=Europe/Berlin:20261106T093000
DTEND;TZID=Europe/Berlin:20261106T103000
UID:W34165524-20261106T093000@VHSBÖBLINGEN-SINDELFINGEN
SUMMARY:Ganzheitliche Gymnastik (W34165524) 
LOCATION:Bürgerhaus Maichingen, Übungsraum 1, Sindelfinger Str. 44, 71069 Sindelfingen
END:VEVENT
BEGIN:VEVENT
DTSTAMP:20260421T152131
DTSTART;TZID=Europe/Berlin:20261113T093000
DTEND;TZID=Europe/Berlin:20261113T103000
UID:W34165524-20261113T093000@VHSBÖBLINGEN-SINDELFINGEN
SUMMARY:Ganzheitliche Gymnastik (W34165524) 
LOCATION:Bürgerhaus Maichingen, Übungsraum 1, Sindelfinger Str. 44, 71069 Sindelfingen
END:VEVENT
BEGIN:VEVENT
DTSTAMP:20260421T152131
DTSTART;TZID=Europe/Berlin:20261120T093000
DTEND;TZID=Europe/Berlin:20261120T103000
UID:W34165524-20261120T093000@VHSBÖBLINGEN-SINDELFINGEN
SUMMARY:Ganzheitliche Gymnastik (W34165524) 
LOCATION:Bürgerhaus Maichingen, Übungsraum 1, Sindelfinger Str. 44, 71069 Sindelfingen
END:VEVENT
BEGIN:VEVENT
DTSTAMP:20260421T152131
DTSTART;TZID=Europe/Berlin:20261127T093000
DTEND;TZID=Europe/Berlin:20261127T103000
UID:W34165524-20261127T093000@VHSBÖBLINGEN-SINDELFINGEN
SUMMARY:Ganzheitliche Gymnastik (W34165524) 
LOCATION:Bürgerhaus Maichingen, Übungsraum 1, Sindelfinger Str. 44, 71069 Sindelfingen
END:VEVENT
BEGIN:VEVENT
DTSTAMP:20260421T152131
DTSTART;TZID=Europe/Berlin:20261204T093000
DTEND;TZID=Europe/Berlin:20261204T103000
UID:W34165524-20261204T093000@VHSBÖBLINGEN-SINDELFINGEN
SUMMARY:Ganzheitliche Gymnastik (W34165524) 
LOCATION:Bürgerhaus Maichingen, Übungsraum 1, Sindelfinger Str. 44, 71069 Sindelfingen
END:VEVENT
BEGIN:VEVENT
DTSTAMP:20260421T152131
DTSTART;TZID=Europe/Berlin:20261211T093000
DTEND;TZID=Europe/Berlin:20261211T103000
UID:W34165524-20261211T093000@VHSBÖBLINGEN-SINDELFINGEN
SUMMARY:Ganzheitliche Gymnastik (W34165524) 
LOCATION:Bürgerhaus Maichingen, Übungsraum 1, Sindelfinger Str. 44, 71069 Sindelfingen
END:VEVENT
BEGIN:VEVENT
DTSTAMP:20260421T152131
DTSTART;TZID=Europe/Berlin:20261218T093000
DTEND;TZID=Europe/Berlin:20261218T103000
UID:W34165524-20261218T093000@VHSBÖBLINGEN-SINDELFINGEN
SUMMARY:Ganzheitliche Gymnastik (W34165524) 
LOCATION:Bürgerhaus Maichingen, Übungsraum 1, Sindelfinger Str. 44, 71069 Sindelfingen
END:VEVENT
BEGIN:VEVENT
DTSTAMP:20260421T152131
DTSTART;TZID=Europe/Berlin:20270115T093000
DTEND;TZID=Europe/Berlin:20270115T103000
UID:W34165524-20270115T093000@VHSBÖBLINGEN-SINDELFINGEN
SUMMARY:Ganzheitliche Gymnastik (W34165524) 
LOCATION:Bürgerhaus Maichingen, Übungsraum 1, Sindelfinger Str. 44, 71069 Sindelfingen
END:VEVENT
BEGIN:VEVENT
DTSTAMP:20260421T152131
DTSTART;TZID=Europe/Berlin:20270122T093000
DTEND;TZID=Europe/Berlin:20270122T103000
UID:W34165524-20270122T093000@VHSBÖBLINGEN-SINDELFINGEN
SUMMARY:Ganzheitliche Gymnastik (W34165524) 
LOCATION:Bürgerhaus Maichingen, Übungsraum 1, Sindelfinger Str. 44, 71069 Sindelfingen
END:VEVENT
BEGIN:VEVENT
DTSTAMP:20260421T152131
DTSTART;TZID=Europe/Berlin:20270129T093000
DTEND;TZID=Europe/Berlin:20270129T103000
UID:W34165524-20270129T093000@VHSBÖBLINGEN-SINDELFINGEN
SUMMARY:Ganzheitliche Gymnastik (W34165524) 
LOCATION:Bürgerhaus Maichingen, Übungsraum 1, Sindelfinger Str. 44, 71069 Sindelfingen
END:VEVENT
BEGIN:VEVENT
DTSTAMP:20260421T152131
DTSTART;TZID=Europe/Berlin:20270205T093000
DTEND;TZID=Europe/Berlin:20270205T103000
UID:W34165524-20270205T093000@VHSBÖBLINGEN-SINDELFINGEN
SUMMARY:Ganzheitliche Gymnastik (W34165524) 
LOCATION:Bürgerhaus Maichingen, Übungsraum 1, Sindelfinger Str. 44, 71069 Sindelfingen
END:VEVENT
END:VCALENDAR