BEGIN:VCALENDAR
VERSION:2.0
PRODID:https://www.kufer.de/kuferweb / DE
METHOD:PUBLISH
CALSCALE:GREGORIAN
X-WR-TIMEZONE:Europe/Berlin
BEGIN:VTIMEZONE
TZID:Europe/Berlin
X-LIC-LOCATION:Europe/Berlin
BEGIN:DAYLIGHT
TZOFFSETFROM:+0100
TZOFFSETTO:+0200
TZNAME:CEST
DTSTART:19700329T020000
RRULE:FREQ=YEARLY;INTERVAL=1;BYDAY=-1SU;BYMONTH=3
END:DAYLIGHT
BEGIN:STANDARD
TZOFFSETFROM:+0200
TZOFFSETTO:+0100
TZNAME:CET
DTSTART:19701025T030000
RRULE:FREQ=YEARLY;INTERVAL=1;BYDAY=-1SU;BYMONTH=10
END:STANDARD
END:VTIMEZONE
BEGIN:VEVENT
DTSTAMP:20260420T230130
DTSTART;TZID=Europe/Berlin:20260917T090000
DTEND;TZID=Europe/Berlin:20260917T100000
UID:W34165329-20260917T090000@VHSBÖBLINGEN-SINDELFINGEN
SUMMARY:Ganzheitliche Gymnastik ab 55 Jahre (W34165329) 
LOCATION:SC, Gemeindehalle, Kleiner Saal, Im Hasenbühl 7, 71101 Schönaich
END:VEVENT
BEGIN:VEVENT
DTSTAMP:20260420T230130
DTSTART;TZID=Europe/Berlin:20260924T090000
DTEND;TZID=Europe/Berlin:20260924T100000
UID:W34165329-20260924T090000@VHSBÖBLINGEN-SINDELFINGEN
SUMMARY:Ganzheitliche Gymnastik ab 55 Jahre (W34165329) 
LOCATION:SC, Gemeindehalle, Kleiner Saal, Im Hasenbühl 7, 71101 Schönaich
END:VEVENT
BEGIN:VEVENT
DTSTAMP:20260420T230130
DTSTART;TZID=Europe/Berlin:20261001T090000
DTEND;TZID=Europe/Berlin:20261001T100000
UID:W34165329-20261001T090000@VHSBÖBLINGEN-SINDELFINGEN
SUMMARY:Ganzheitliche Gymnastik ab 55 Jahre (W34165329) 
LOCATION:SC, Gemeindehalle, Kleiner Saal, Im Hasenbühl 7, 71101 Schönaich
END:VEVENT
BEGIN:VEVENT
DTSTAMP:20260420T230130
DTSTART;TZID=Europe/Berlin:20261008T090000
DTEND;TZID=Europe/Berlin:20261008T100000
UID:W34165329-20261008T090000@VHSBÖBLINGEN-SINDELFINGEN
SUMMARY:Ganzheitliche Gymnastik ab 55 Jahre (W34165329) 
LOCATION:SC, Gemeindehalle, Kleiner Saal, Im Hasenbühl 7, 71101 Schönaich
END:VEVENT
BEGIN:VEVENT
DTSTAMP:20260420T230130
DTSTART;TZID=Europe/Berlin:20261015T090000
DTEND;TZID=Europe/Berlin:20261015T100000
UID:W34165329-20261015T090000@VHSBÖBLINGEN-SINDELFINGEN
SUMMARY:Ganzheitliche Gymnastik ab 55 Jahre (W34165329) 
LOCATION:SC, Gemeindehalle, Kleiner Saal, Im Hasenbühl 7, 71101 Schönaich
END:VEVENT
BEGIN:VEVENT
DTSTAMP:20260420T230130
DTSTART;TZID=Europe/Berlin:20261022T090000
DTEND;TZID=Europe/Berlin:20261022T100000
UID:W34165329-20261022T090000@VHSBÖBLINGEN-SINDELFINGEN
SUMMARY:Ganzheitliche Gymnastik ab 55 Jahre (W34165329) 
LOCATION:SC, Gemeindehalle, Kleiner Saal, Im Hasenbühl 7, 71101 Schönaich
END:VEVENT
BEGIN:VEVENT
DTSTAMP:20260420T230130
DTSTART;TZID=Europe/Berlin:20261105T090000
DTEND;TZID=Europe/Berlin:20261105T100000
UID:W34165329-20261105T090000@VHSBÖBLINGEN-SINDELFINGEN
SUMMARY:Ganzheitliche Gymnastik ab 55 Jahre (W34165329) 
LOCATION:SC, Gemeindehalle, Kleiner Saal, Im Hasenbühl 7, 71101 Schönaich
END:VEVENT
BEGIN:VEVENT
DTSTAMP:20260420T230130
DTSTART;TZID=Europe/Berlin:20261112T090000
DTEND;TZID=Europe/Berlin:20261112T100000
UID:W34165329-20261112T090000@VHSBÖBLINGEN-SINDELFINGEN
SUMMARY:Ganzheitliche Gymnastik ab 55 Jahre (W34165329) 
LOCATION:SC, Gemeindehalle, Kleiner Saal, Im Hasenbühl 7, 71101 Schönaich
END:VEVENT
BEGIN:VEVENT
DTSTAMP:20260420T230130
DTSTART;TZID=Europe/Berlin:20261119T090000
DTEND;TZID=Europe/Berlin:20261119T100000
UID:W34165329-20261119T090000@VHSBÖBLINGEN-SINDELFINGEN
SUMMARY:Ganzheitliche Gymnastik ab 55 Jahre (W34165329) 
LOCATION:SC, Gemeindehalle, Kleiner Saal, Im Hasenbühl 7, 71101 Schönaich
END:VEVENT
BEGIN:VEVENT
DTSTAMP:20260420T230130
DTSTART;TZID=Europe/Berlin:20261126T090000
DTEND;TZID=Europe/Berlin:20261126T100000
UID:W34165329-20261126T090000@VHSBÖBLINGEN-SINDELFINGEN
SUMMARY:Ganzheitliche Gymnastik ab 55 Jahre (W34165329) 
LOCATION:SC, Gemeindehalle, Kleiner Saal, Im Hasenbühl 7, 71101 Schönaich
END:VEVENT
BEGIN:VEVENT
DTSTAMP:20260420T230130
DTSTART;TZID=Europe/Berlin:20261203T090000
DTEND;TZID=Europe/Berlin:20261203T100000
UID:W34165329-20261203T090000@VHSBÖBLINGEN-SINDELFINGEN
SUMMARY:Ganzheitliche Gymnastik ab 55 Jahre (W34165329) 
LOCATION:SC, Gemeindehalle, Kleiner Saal, Im Hasenbühl 7, 71101 Schönaich
END:VEVENT
BEGIN:VEVENT
DTSTAMP:20260420T230130
DTSTART;TZID=Europe/Berlin:20261210T090000
DTEND;TZID=Europe/Berlin:20261210T100000
UID:W34165329-20261210T090000@VHSBÖBLINGEN-SINDELFINGEN
SUMMARY:Ganzheitliche Gymnastik ab 55 Jahre (W34165329) 
LOCATION:SC, Gemeindehalle, Kleiner Saal, Im Hasenbühl 7, 71101 Schönaich
END:VEVENT
BEGIN:VEVENT
DTSTAMP:20260420T230130
DTSTART;TZID=Europe/Berlin:20261217T090000
DTEND;TZID=Europe/Berlin:20261217T100000
UID:W34165329-20261217T090000@VHSBÖBLINGEN-SINDELFINGEN
SUMMARY:Ganzheitliche Gymnastik ab 55 Jahre (W34165329) 
LOCATION:SC, Gemeindehalle, Kleiner Saal, Im Hasenbühl 7, 71101 Schönaich
END:VEVENT
BEGIN:VEVENT
DTSTAMP:20260420T230130
DTSTART;TZID=Europe/Berlin:20270114T090000
DTEND;TZID=Europe/Berlin:20270114T100000
UID:W34165329-20270114T090000@VHSBÖBLINGEN-SINDELFINGEN
SUMMARY:Ganzheitliche Gymnastik ab 55 Jahre (W34165329) 
LOCATION:SC, Gemeindehalle, Kleiner Saal, Im Hasenbühl 7, 71101 Schönaich
END:VEVENT
BEGIN:VEVENT
DTSTAMP:20260420T230130
DTSTART;TZID=Europe/Berlin:20270121T090000
DTEND;TZID=Europe/Berlin:20270121T100000
UID:W34165329-20270121T090000@VHSBÖBLINGEN-SINDELFINGEN
SUMMARY:Ganzheitliche Gymnastik ab 55 Jahre (W34165329) 
LOCATION:SC, Gemeindehalle, Kleiner Saal, Im Hasenbühl 7, 71101 Schönaich
END:VEVENT
BEGIN:VEVENT
DTSTAMP:20260420T230130
DTSTART;TZID=Europe/Berlin:20270128T090000
DTEND;TZID=Europe/Berlin:20270128T100000
UID:W34165329-20270128T090000@VHSBÖBLINGEN-SINDELFINGEN
SUMMARY:Ganzheitliche Gymnastik ab 55 Jahre (W34165329) 
LOCATION:SC, Gemeindehalle, Kleiner Saal, Im Hasenbühl 7, 71101 Schönaich
END:VEVENT
BEGIN:VEVENT
DTSTAMP:20260420T230130
DTSTART;TZID=Europe/Berlin:20270204T090000
DTEND;TZID=Europe/Berlin:20270204T100000
UID:W34165329-20270204T090000@VHSBÖBLINGEN-SINDELFINGEN
SUMMARY:Ganzheitliche Gymnastik ab 55 Jahre (W34165329) 
LOCATION:SC, Gemeindehalle, Kleiner Saal, Im Hasenbühl 7, 71101 Schönaich
END:VEVENT
END:VCALENDAR