BEGIN:VCALENDAR
VERSION:2.0
PRODID:https://www.kufer.de/kuferweb / DE
METHOD:PUBLISH
CALSCALE:GREGORIAN
X-WR-TIMEZONE:Europe/Berlin
BEGIN:VTIMEZONE
TZID:Europe/Berlin
X-LIC-LOCATION:Europe/Berlin
BEGIN:DAYLIGHT
TZOFFSETFROM:+0100
TZOFFSETTO:+0200
TZNAME:CEST
DTSTART:19700329T020000
RRULE:FREQ=YEARLY;INTERVAL=1;BYDAY=-1SU;BYMONTH=3
END:DAYLIGHT
BEGIN:STANDARD
TZOFFSETFROM:+0200
TZOFFSETTO:+0100
TZNAME:CET
DTSTART:19701025T030000
RRULE:FREQ=YEARLY;INTERVAL=1;BYDAY=-1SU;BYMONTH=10
END:STANDARD
END:VTIMEZONE
BEGIN:VEVENT
DTSTAMP:20260421T142122
DTSTART;TZID=Europe/Berlin:20260924T170000
DTEND;TZID=Europe/Berlin:20260924T180000
UID:W34161261-20260924T170000@VHSBÖBLINGEN-SINDELFINGEN
SUMMARY:NEU! Bewegungsangebot für Menschen in der 2. Lebenshälfte (W34161261) 
LOCATION:WE, Halle Neuweiler, ___, Hennersdorfer Straße, 71093 Weil im Schönbuch
END:VEVENT
BEGIN:VEVENT
DTSTAMP:20260421T142122
DTSTART;TZID=Europe/Berlin:20261001T170000
DTEND;TZID=Europe/Berlin:20261001T180000
UID:W34161261-20261001T170000@VHSBÖBLINGEN-SINDELFINGEN
SUMMARY:NEU! Bewegungsangebot für Menschen in der 2. Lebenshälfte (W34161261) 
LOCATION:WE, Halle Neuweiler, ___, Hennersdorfer Straße, 71093 Weil im Schönbuch
END:VEVENT
BEGIN:VEVENT
DTSTAMP:20260421T142122
DTSTART;TZID=Europe/Berlin:20261008T170000
DTEND;TZID=Europe/Berlin:20261008T180000
UID:W34161261-20261008T170000@VHSBÖBLINGEN-SINDELFINGEN
SUMMARY:NEU! Bewegungsangebot für Menschen in der 2. Lebenshälfte (W34161261) 
LOCATION:WE, Halle Neuweiler, ___, Hennersdorfer Straße, 71093 Weil im Schönbuch
END:VEVENT
BEGIN:VEVENT
DTSTAMP:20260421T142122
DTSTART;TZID=Europe/Berlin:20261015T170000
DTEND;TZID=Europe/Berlin:20261015T180000
UID:W34161261-20261015T170000@VHSBÖBLINGEN-SINDELFINGEN
SUMMARY:NEU! Bewegungsangebot für Menschen in der 2. Lebenshälfte (W34161261) 
LOCATION:WE, Halle Neuweiler, ___, Hennersdorfer Straße, 71093 Weil im Schönbuch
END:VEVENT
BEGIN:VEVENT
DTSTAMP:20260421T142122
DTSTART;TZID=Europe/Berlin:20261022T170000
DTEND;TZID=Europe/Berlin:20261022T180000
UID:W34161261-20261022T170000@VHSBÖBLINGEN-SINDELFINGEN
SUMMARY:NEU! Bewegungsangebot für Menschen in der 2. Lebenshälfte (W34161261) 
LOCATION:WE, Halle Neuweiler, ___, Hennersdorfer Straße, 71093 Weil im Schönbuch
END:VEVENT
BEGIN:VEVENT
DTSTAMP:20260421T142122
DTSTART;TZID=Europe/Berlin:20261105T170000
DTEND;TZID=Europe/Berlin:20261105T180000
UID:W34161261-20261105T170000@VHSBÖBLINGEN-SINDELFINGEN
SUMMARY:NEU! Bewegungsangebot für Menschen in der 2. Lebenshälfte (W34161261) 
LOCATION:WE, Halle Neuweiler, ___, Hennersdorfer Straße, 71093 Weil im Schönbuch
END:VEVENT
BEGIN:VEVENT
DTSTAMP:20260421T142122
DTSTART;TZID=Europe/Berlin:20261112T170000
DTEND;TZID=Europe/Berlin:20261112T180000
UID:W34161261-20261112T170000@VHSBÖBLINGEN-SINDELFINGEN
SUMMARY:NEU! Bewegungsangebot für Menschen in der 2. Lebenshälfte (W34161261) 
LOCATION:WE, Halle Neuweiler, ___, Hennersdorfer Straße, 71093 Weil im Schönbuch
END:VEVENT
BEGIN:VEVENT
DTSTAMP:20260421T142122
DTSTART;TZID=Europe/Berlin:20261119T170000
DTEND;TZID=Europe/Berlin:20261119T180000
UID:W34161261-20261119T170000@VHSBÖBLINGEN-SINDELFINGEN
SUMMARY:NEU! Bewegungsangebot für Menschen in der 2. Lebenshälfte (W34161261) 
LOCATION:WE, Halle Neuweiler, ___, Hennersdorfer Straße, 71093 Weil im Schönbuch
END:VEVENT
BEGIN:VEVENT
DTSTAMP:20260421T142122
DTSTART;TZID=Europe/Berlin:20261126T170000
DTEND;TZID=Europe/Berlin:20261126T180000
UID:W34161261-20261126T170000@VHSBÖBLINGEN-SINDELFINGEN
SUMMARY:NEU! Bewegungsangebot für Menschen in der 2. Lebenshälfte (W34161261) 
LOCATION:WE, Halle Neuweiler, ___, Hennersdorfer Straße, 71093 Weil im Schönbuch
END:VEVENT
BEGIN:VEVENT
DTSTAMP:20260421T142122
DTSTART;TZID=Europe/Berlin:20261203T170000
DTEND;TZID=Europe/Berlin:20261203T180000
UID:W34161261-20261203T170000@VHSBÖBLINGEN-SINDELFINGEN
SUMMARY:NEU! Bewegungsangebot für Menschen in der 2. Lebenshälfte (W34161261) 
LOCATION:WE, Halle Neuweiler, ___, Hennersdorfer Straße, 71093 Weil im Schönbuch
END:VEVENT
BEGIN:VEVENT
DTSTAMP:20260421T142122
DTSTART;TZID=Europe/Berlin:20261210T170000
DTEND;TZID=Europe/Berlin:20261210T180000
UID:W34161261-20261210T170000@VHSBÖBLINGEN-SINDELFINGEN
SUMMARY:NEU! Bewegungsangebot für Menschen in der 2. Lebenshälfte (W34161261) 
LOCATION:WE, Halle Neuweiler, ___, Hennersdorfer Straße, 71093 Weil im Schönbuch
END:VEVENT
BEGIN:VEVENT
DTSTAMP:20260421T142122
DTSTART;TZID=Europe/Berlin:20261217T170000
DTEND;TZID=Europe/Berlin:20261217T180000
UID:W34161261-20261217T170000@VHSBÖBLINGEN-SINDELFINGEN
SUMMARY:NEU! Bewegungsangebot für Menschen in der 2. Lebenshälfte (W34161261) 
LOCATION:WE, Halle Neuweiler, ___, Hennersdorfer Straße, 71093 Weil im Schönbuch
END:VEVENT
BEGIN:VEVENT
DTSTAMP:20260421T142122
DTSTART;TZID=Europe/Berlin:20270114T170000
DTEND;TZID=Europe/Berlin:20270114T180000
UID:W34161261-20270114T170000@VHSBÖBLINGEN-SINDELFINGEN
SUMMARY:NEU! Bewegungsangebot für Menschen in der 2. Lebenshälfte (W34161261) 
LOCATION:WE, Halle Neuweiler, ___, Hennersdorfer Straße, 71093 Weil im Schönbuch
END:VEVENT
BEGIN:VEVENT
DTSTAMP:20260421T142122
DTSTART;TZID=Europe/Berlin:20270121T170000
DTEND;TZID=Europe/Berlin:20270121T180000
UID:W34161261-20270121T170000@VHSBÖBLINGEN-SINDELFINGEN
SUMMARY:NEU! Bewegungsangebot für Menschen in der 2. Lebenshälfte (W34161261) 
LOCATION:WE, Halle Neuweiler, ___, Hennersdorfer Straße, 71093 Weil im Schönbuch
END:VEVENT
BEGIN:VEVENT
DTSTAMP:20260421T142122
DTSTART;TZID=Europe/Berlin:20270128T170000
DTEND;TZID=Europe/Berlin:20270128T180000
UID:W34161261-20270128T170000@VHSBÖBLINGEN-SINDELFINGEN
SUMMARY:NEU! Bewegungsangebot für Menschen in der 2. Lebenshälfte (W34161261) 
LOCATION:WE, Halle Neuweiler, ___, Hennersdorfer Straße, 71093 Weil im Schönbuch
END:VEVENT
BEGIN:VEVENT
DTSTAMP:20260421T142122
DTSTART;TZID=Europe/Berlin:20270204T170000
DTEND;TZID=Europe/Berlin:20270204T180000
UID:W34161261-20270204T170000@VHSBÖBLINGEN-SINDELFINGEN
SUMMARY:NEU! Bewegungsangebot für Menschen in der 2. Lebenshälfte (W34161261) 
LOCATION:WE, Halle Neuweiler, ___, Hennersdorfer Straße, 71093 Weil im Schönbuch
END:VEVENT
END:VCALENDAR