BEGIN:VCALENDAR
VERSION:2.0
PRODID:https://www.kufer.de/kuferweb / DE
METHOD:PUBLISH
CALSCALE:GREGORIAN
X-WR-TIMEZONE:Europe/Berlin
BEGIN:VTIMEZONE
TZID:Europe/Berlin
X-LIC-LOCATION:Europe/Berlin
BEGIN:DAYLIGHT
TZOFFSETFROM:+0100
TZOFFSETTO:+0200
TZNAME:CEST
DTSTART:19700329T020000
RRULE:FREQ=YEARLY;INTERVAL=1;BYDAY=-1SU;BYMONTH=3
END:DAYLIGHT
BEGIN:STANDARD
TZOFFSETFROM:+0200
TZOFFSETTO:+0100
TZNAME:CET
DTSTART:19701025T030000
RRULE:FREQ=YEARLY;INTERVAL=1;BYDAY=-1SU;BYMONTH=10
END:STANDARD
END:VTIMEZONE
BEGIN:VEVENT
DTSTAMP:20260421T043310
DTSTART;TZID=Europe/Berlin:20260922T152500
DTEND;TZID=Europe/Berlin:20260922T162500
UID:W34161161-20260922T152500@VHSBÖBLINGEN-SINDELFINGEN
SUMMARY:Sport in der Prävention - ein umfassendes Ganzkörpertraining. (W34161161) 
LOCATION:WE, Halle Neuweiler, ___, Hennersdorfer Straße, 71093 Weil im Schönbuch
END:VEVENT
BEGIN:VEVENT
DTSTAMP:20260421T043310
DTSTART;TZID=Europe/Berlin:20260929T152500
DTEND;TZID=Europe/Berlin:20260929T162500
UID:W34161161-20260929T152500@VHSBÖBLINGEN-SINDELFINGEN
SUMMARY:Sport in der Prävention - ein umfassendes Ganzkörpertraining. (W34161161) 
LOCATION:WE, Halle Neuweiler, ___, Hennersdorfer Straße, 71093 Weil im Schönbuch
END:VEVENT
BEGIN:VEVENT
DTSTAMP:20260421T043310
DTSTART;TZID=Europe/Berlin:20261006T152500
DTEND;TZID=Europe/Berlin:20261006T162500
UID:W34161161-20261006T152500@VHSBÖBLINGEN-SINDELFINGEN
SUMMARY:Sport in der Prävention - ein umfassendes Ganzkörpertraining. (W34161161) 
LOCATION:WE, Halle Neuweiler, ___, Hennersdorfer Straße, 71093 Weil im Schönbuch
END:VEVENT
BEGIN:VEVENT
DTSTAMP:20260421T043310
DTSTART;TZID=Europe/Berlin:20261013T152500
DTEND;TZID=Europe/Berlin:20261013T162500
UID:W34161161-20261013T152500@VHSBÖBLINGEN-SINDELFINGEN
SUMMARY:Sport in der Prävention - ein umfassendes Ganzkörpertraining. (W34161161) 
LOCATION:WE, Halle Neuweiler, ___, Hennersdorfer Straße, 71093 Weil im Schönbuch
END:VEVENT
BEGIN:VEVENT
DTSTAMP:20260421T043310
DTSTART;TZID=Europe/Berlin:20261020T152500
DTEND;TZID=Europe/Berlin:20261020T162500
UID:W34161161-20261020T152500@VHSBÖBLINGEN-SINDELFINGEN
SUMMARY:Sport in der Prävention - ein umfassendes Ganzkörpertraining. (W34161161) 
LOCATION:WE, Halle Neuweiler, ___, Hennersdorfer Straße, 71093 Weil im Schönbuch
END:VEVENT
BEGIN:VEVENT
DTSTAMP:20260421T043310
DTSTART;TZID=Europe/Berlin:20261103T152500
DTEND;TZID=Europe/Berlin:20261103T162500
UID:W34161161-20261103T152500@VHSBÖBLINGEN-SINDELFINGEN
SUMMARY:Sport in der Prävention - ein umfassendes Ganzkörpertraining. (W34161161) 
LOCATION:WE, Halle Neuweiler, ___, Hennersdorfer Straße, 71093 Weil im Schönbuch
END:VEVENT
BEGIN:VEVENT
DTSTAMP:20260421T043310
DTSTART;TZID=Europe/Berlin:20261110T152500
DTEND;TZID=Europe/Berlin:20261110T162500
UID:W34161161-20261110T152500@VHSBÖBLINGEN-SINDELFINGEN
SUMMARY:Sport in der Prävention - ein umfassendes Ganzkörpertraining. (W34161161) 
LOCATION:WE, Halle Neuweiler, ___, Hennersdorfer Straße, 71093 Weil im Schönbuch
END:VEVENT
BEGIN:VEVENT
DTSTAMP:20260421T043310
DTSTART;TZID=Europe/Berlin:20261117T152500
DTEND;TZID=Europe/Berlin:20261117T162500
UID:W34161161-20261117T152500@VHSBÖBLINGEN-SINDELFINGEN
SUMMARY:Sport in der Prävention - ein umfassendes Ganzkörpertraining. (W34161161) 
LOCATION:WE, Halle Neuweiler, ___, Hennersdorfer Straße, 71093 Weil im Schönbuch
END:VEVENT
BEGIN:VEVENT
DTSTAMP:20260421T043310
DTSTART;TZID=Europe/Berlin:20261124T152500
DTEND;TZID=Europe/Berlin:20261124T162500
UID:W34161161-20261124T152500@VHSBÖBLINGEN-SINDELFINGEN
SUMMARY:Sport in der Prävention - ein umfassendes Ganzkörpertraining. (W34161161) 
LOCATION:WE, Halle Neuweiler, ___, Hennersdorfer Straße, 71093 Weil im Schönbuch
END:VEVENT
BEGIN:VEVENT
DTSTAMP:20260421T043310
DTSTART;TZID=Europe/Berlin:20261201T152500
DTEND;TZID=Europe/Berlin:20261201T162500
UID:W34161161-20261201T152500@VHSBÖBLINGEN-SINDELFINGEN
SUMMARY:Sport in der Prävention - ein umfassendes Ganzkörpertraining. (W34161161) 
LOCATION:WE, Halle Neuweiler, ___, Hennersdorfer Straße, 71093 Weil im Schönbuch
END:VEVENT
BEGIN:VEVENT
DTSTAMP:20260421T043310
DTSTART;TZID=Europe/Berlin:20261208T152500
DTEND;TZID=Europe/Berlin:20261208T162500
UID:W34161161-20261208T152500@VHSBÖBLINGEN-SINDELFINGEN
SUMMARY:Sport in der Prävention - ein umfassendes Ganzkörpertraining. (W34161161) 
LOCATION:WE, Halle Neuweiler, ___, Hennersdorfer Straße, 71093 Weil im Schönbuch
END:VEVENT
BEGIN:VEVENT
DTSTAMP:20260421T043310
DTSTART;TZID=Europe/Berlin:20261215T152500
DTEND;TZID=Europe/Berlin:20261215T162500
UID:W34161161-20261215T152500@VHSBÖBLINGEN-SINDELFINGEN
SUMMARY:Sport in der Prävention - ein umfassendes Ganzkörpertraining. (W34161161) 
LOCATION:WE, Halle Neuweiler, ___, Hennersdorfer Straße, 71093 Weil im Schönbuch
END:VEVENT
BEGIN:VEVENT
DTSTAMP:20260421T043310
DTSTART;TZID=Europe/Berlin:20261222T152500
DTEND;TZID=Europe/Berlin:20261222T162500
UID:W34161161-20261222T152500@VHSBÖBLINGEN-SINDELFINGEN
SUMMARY:Sport in der Prävention - ein umfassendes Ganzkörpertraining. (W34161161) 
LOCATION:WE, Halle Neuweiler, ___, Hennersdorfer Straße, 71093 Weil im Schönbuch
END:VEVENT
BEGIN:VEVENT
DTSTAMP:20260421T043310
DTSTART;TZID=Europe/Berlin:20270112T152500
DTEND;TZID=Europe/Berlin:20270112T162500
UID:W34161161-20270112T152500@VHSBÖBLINGEN-SINDELFINGEN
SUMMARY:Sport in der Prävention - ein umfassendes Ganzkörpertraining. (W34161161) 
LOCATION:WE, Halle Neuweiler, ___, Hennersdorfer Straße, 71093 Weil im Schönbuch
END:VEVENT
BEGIN:VEVENT
DTSTAMP:20260421T043310
DTSTART;TZID=Europe/Berlin:20270119T152500
DTEND;TZID=Europe/Berlin:20270119T162500
UID:W34161161-20270119T152500@VHSBÖBLINGEN-SINDELFINGEN
SUMMARY:Sport in der Prävention - ein umfassendes Ganzkörpertraining. (W34161161) 
LOCATION:WE, Halle Neuweiler, ___, Hennersdorfer Straße, 71093 Weil im Schönbuch
END:VEVENT
BEGIN:VEVENT
DTSTAMP:20260421T043310
DTSTART;TZID=Europe/Berlin:20270126T152500
DTEND;TZID=Europe/Berlin:20270126T162500
UID:W34161161-20270126T152500@VHSBÖBLINGEN-SINDELFINGEN
SUMMARY:Sport in der Prävention - ein umfassendes Ganzkörpertraining. (W34161161) 
LOCATION:WE, Halle Neuweiler, ___, Hennersdorfer Straße, 71093 Weil im Schönbuch
END:VEVENT
BEGIN:VEVENT
DTSTAMP:20260421T043310
DTSTART;TZID=Europe/Berlin:20270202T152500
DTEND;TZID=Europe/Berlin:20270202T162500
UID:W34161161-20270202T152500@VHSBÖBLINGEN-SINDELFINGEN
SUMMARY:Sport in der Prävention - ein umfassendes Ganzkörpertraining. (W34161161) 
LOCATION:WE, Halle Neuweiler, ___, Hennersdorfer Straße, 71093 Weil im Schönbuch
END:VEVENT
END:VCALENDAR