BEGIN:VCALENDAR
VERSION:2.0
PRODID:https://www.kufer.de/kuferweb / DE
METHOD:PUBLISH
CALSCALE:GREGORIAN
X-WR-TIMEZONE:Europe/Berlin
BEGIN:VTIMEZONE
TZID:Europe/Berlin
X-LIC-LOCATION:Europe/Berlin
BEGIN:DAYLIGHT
TZOFFSETFROM:+0100
TZOFFSETTO:+0200
TZNAME:CEST
DTSTART:19700329T020000
RRULE:FREQ=YEARLY;INTERVAL=1;BYDAY=-1SU;BYMONTH=3
END:DAYLIGHT
BEGIN:STANDARD
TZOFFSETFROM:+0200
TZOFFSETTO:+0100
TZNAME:CET
DTSTART:19701025T030000
RRULE:FREQ=YEARLY;INTERVAL=1;BYDAY=-1SU;BYMONTH=10
END:STANDARD
END:VTIMEZONE
BEGIN:VEVENT
DTSTAMP:20260421T200313
DTSTART;TZID=Europe/Berlin:20260921T094500
DTEND;TZID=Europe/Berlin:20260921T104500
UID:W34161012-20260921T094500@VHSBÖBLINGEN-SINDELFINGEN
SUMMARY:Sport in der Prävention - ein umfassendes Ganzkörpertraining. (W34161012) 
LOCATION:AL, Feuerwehr-Gerätehaus Hi., Gemeinschaftsr., 1. OG, Hofäckerstraße 9, 71157 Hildrizhausen
END:VEVENT
BEGIN:VEVENT
DTSTAMP:20260421T200313
DTSTART;TZID=Europe/Berlin:20260928T094500
DTEND;TZID=Europe/Berlin:20260928T104500
UID:W34161012-20260928T094500@VHSBÖBLINGEN-SINDELFINGEN
SUMMARY:Sport in der Prävention - ein umfassendes Ganzkörpertraining. (W34161012) 
LOCATION:AL, Feuerwehr-Gerätehaus Hi., Gemeinschaftsr., 1. OG, Hofäckerstraße 9, 71157 Hildrizhausen
END:VEVENT
BEGIN:VEVENT
DTSTAMP:20260421T200313
DTSTART;TZID=Europe/Berlin:20261005T094500
DTEND;TZID=Europe/Berlin:20261005T104500
UID:W34161012-20261005T094500@VHSBÖBLINGEN-SINDELFINGEN
SUMMARY:Sport in der Prävention - ein umfassendes Ganzkörpertraining. (W34161012) 
LOCATION:AL, Feuerwehr-Gerätehaus Hi., Gemeinschaftsr., 1. OG, Hofäckerstraße 9, 71157 Hildrizhausen
END:VEVENT
BEGIN:VEVENT
DTSTAMP:20260421T200313
DTSTART;TZID=Europe/Berlin:20261012T094500
DTEND;TZID=Europe/Berlin:20261012T104500
UID:W34161012-20261012T094500@VHSBÖBLINGEN-SINDELFINGEN
SUMMARY:Sport in der Prävention - ein umfassendes Ganzkörpertraining. (W34161012) 
LOCATION:AL, Feuerwehr-Gerätehaus Hi., Gemeinschaftsr., 1. OG, Hofäckerstraße 9, 71157 Hildrizhausen
END:VEVENT
BEGIN:VEVENT
DTSTAMP:20260421T200313
DTSTART;TZID=Europe/Berlin:20261019T094500
DTEND;TZID=Europe/Berlin:20261019T104500
UID:W34161012-20261019T094500@VHSBÖBLINGEN-SINDELFINGEN
SUMMARY:Sport in der Prävention - ein umfassendes Ganzkörpertraining. (W34161012) 
LOCATION:AL, Feuerwehr-Gerätehaus Hi., Gemeinschaftsr., 1. OG, Hofäckerstraße 9, 71157 Hildrizhausen
END:VEVENT
BEGIN:VEVENT
DTSTAMP:20260421T200313
DTSTART;TZID=Europe/Berlin:20261102T094500
DTEND;TZID=Europe/Berlin:20261102T104500
UID:W34161012-20261102T094500@VHSBÖBLINGEN-SINDELFINGEN
SUMMARY:Sport in der Prävention - ein umfassendes Ganzkörpertraining. (W34161012) 
LOCATION:AL, Feuerwehr-Gerätehaus Hi., Gemeinschaftsr., 1. OG, Hofäckerstraße 9, 71157 Hildrizhausen
END:VEVENT
BEGIN:VEVENT
DTSTAMP:20260421T200313
DTSTART;TZID=Europe/Berlin:20261109T094500
DTEND;TZID=Europe/Berlin:20261109T104500
UID:W34161012-20261109T094500@VHSBÖBLINGEN-SINDELFINGEN
SUMMARY:Sport in der Prävention - ein umfassendes Ganzkörpertraining. (W34161012) 
LOCATION:AL, Feuerwehr-Gerätehaus Hi., Gemeinschaftsr., 1. OG, Hofäckerstraße 9, 71157 Hildrizhausen
END:VEVENT
BEGIN:VEVENT
DTSTAMP:20260421T200313
DTSTART;TZID=Europe/Berlin:20261116T094500
DTEND;TZID=Europe/Berlin:20261116T104500
UID:W34161012-20261116T094500@VHSBÖBLINGEN-SINDELFINGEN
SUMMARY:Sport in der Prävention - ein umfassendes Ganzkörpertraining. (W34161012) 
LOCATION:AL, Feuerwehr-Gerätehaus Hi., Gemeinschaftsr., 1. OG, Hofäckerstraße 9, 71157 Hildrizhausen
END:VEVENT
BEGIN:VEVENT
DTSTAMP:20260421T200313
DTSTART;TZID=Europe/Berlin:20261123T094500
DTEND;TZID=Europe/Berlin:20261123T104500
UID:W34161012-20261123T094500@VHSBÖBLINGEN-SINDELFINGEN
SUMMARY:Sport in der Prävention - ein umfassendes Ganzkörpertraining. (W34161012) 
LOCATION:AL, Feuerwehr-Gerätehaus Hi., Gemeinschaftsr., 1. OG, Hofäckerstraße 9, 71157 Hildrizhausen
END:VEVENT
BEGIN:VEVENT
DTSTAMP:20260421T200313
DTSTART;TZID=Europe/Berlin:20261130T094500
DTEND;TZID=Europe/Berlin:20261130T104500
UID:W34161012-20261130T094500@VHSBÖBLINGEN-SINDELFINGEN
SUMMARY:Sport in der Prävention - ein umfassendes Ganzkörpertraining. (W34161012) 
LOCATION:AL, Feuerwehr-Gerätehaus Hi., Gemeinschaftsr., 1. OG, Hofäckerstraße 9, 71157 Hildrizhausen
END:VEVENT
BEGIN:VEVENT
DTSTAMP:20260421T200313
DTSTART;TZID=Europe/Berlin:20261207T094500
DTEND;TZID=Europe/Berlin:20261207T104500
UID:W34161012-20261207T094500@VHSBÖBLINGEN-SINDELFINGEN
SUMMARY:Sport in der Prävention - ein umfassendes Ganzkörpertraining. (W34161012) 
LOCATION:AL, Feuerwehr-Gerätehaus Hi., Gemeinschaftsr., 1. OG, Hofäckerstraße 9, 71157 Hildrizhausen
END:VEVENT
BEGIN:VEVENT
DTSTAMP:20260421T200313
DTSTART;TZID=Europe/Berlin:20261214T094500
DTEND;TZID=Europe/Berlin:20261214T104500
UID:W34161012-20261214T094500@VHSBÖBLINGEN-SINDELFINGEN
SUMMARY:Sport in der Prävention - ein umfassendes Ganzkörpertraining. (W34161012) 
LOCATION:AL, Feuerwehr-Gerätehaus Hi., Gemeinschaftsr., 1. OG, Hofäckerstraße 9, 71157 Hildrizhausen
END:VEVENT
BEGIN:VEVENT
DTSTAMP:20260421T200313
DTSTART;TZID=Europe/Berlin:20261221T094500
DTEND;TZID=Europe/Berlin:20261221T104500
UID:W34161012-20261221T094500@VHSBÖBLINGEN-SINDELFINGEN
SUMMARY:Sport in der Prävention - ein umfassendes Ganzkörpertraining. (W34161012) 
LOCATION:AL, Feuerwehr-Gerätehaus Hi., Gemeinschaftsr., 1. OG, Hofäckerstraße 9, 71157 Hildrizhausen
END:VEVENT
BEGIN:VEVENT
DTSTAMP:20260421T200313
DTSTART;TZID=Europe/Berlin:20270111T094500
DTEND;TZID=Europe/Berlin:20270111T104500
UID:W34161012-20270111T094500@VHSBÖBLINGEN-SINDELFINGEN
SUMMARY:Sport in der Prävention - ein umfassendes Ganzkörpertraining. (W34161012) 
LOCATION:AL, Feuerwehr-Gerätehaus Hi., Gemeinschaftsr., 1. OG, Hofäckerstraße 9, 71157 Hildrizhausen
END:VEVENT
BEGIN:VEVENT
DTSTAMP:20260421T200313
DTSTART;TZID=Europe/Berlin:20270118T094500
DTEND;TZID=Europe/Berlin:20270118T104500
UID:W34161012-20270118T094500@VHSBÖBLINGEN-SINDELFINGEN
SUMMARY:Sport in der Prävention - ein umfassendes Ganzkörpertraining. (W34161012) 
LOCATION:AL, Feuerwehr-Gerätehaus Hi., Gemeinschaftsr., 1. OG, Hofäckerstraße 9, 71157 Hildrizhausen
END:VEVENT
BEGIN:VEVENT
DTSTAMP:20260421T200313
DTSTART;TZID=Europe/Berlin:20270125T094500
DTEND;TZID=Europe/Berlin:20270125T104500
UID:W34161012-20270125T094500@VHSBÖBLINGEN-SINDELFINGEN
SUMMARY:Sport in der Prävention - ein umfassendes Ganzkörpertraining. (W34161012) 
LOCATION:AL, Feuerwehr-Gerätehaus Hi., Gemeinschaftsr., 1. OG, Hofäckerstraße 9, 71157 Hildrizhausen
END:VEVENT
BEGIN:VEVENT
DTSTAMP:20260421T200313
DTSTART;TZID=Europe/Berlin:20270201T094500
DTEND;TZID=Europe/Berlin:20270201T104500
UID:W34161012-20270201T094500@VHSBÖBLINGEN-SINDELFINGEN
SUMMARY:Sport in der Prävention - ein umfassendes Ganzkörpertraining. (W34161012) 
LOCATION:AL, Feuerwehr-Gerätehaus Hi., Gemeinschaftsr., 1. OG, Hofäckerstraße 9, 71157 Hildrizhausen
END:VEVENT
END:VCALENDAR