BEGIN:VCALENDAR
VERSION:2.0
PRODID:https://www.kufer.de/kuferweb / DE
METHOD:PUBLISH
CALSCALE:GREGORIAN
X-WR-TIMEZONE:Europe/Berlin
BEGIN:VTIMEZONE
TZID:Europe/Berlin
X-LIC-LOCATION:Europe/Berlin
BEGIN:DAYLIGHT
TZOFFSETFROM:+0100
TZOFFSETTO:+0200
TZNAME:CEST
DTSTART:19700329T020000
RRULE:FREQ=YEARLY;INTERVAL=1;BYDAY=-1SU;BYMONTH=3
END:DAYLIGHT
BEGIN:STANDARD
TZOFFSETFROM:+0200
TZOFFSETTO:+0100
TZNAME:CET
DTSTART:19701025T030000
RRULE:FREQ=YEARLY;INTERVAL=1;BYDAY=-1SU;BYMONTH=10
END:STANDARD
END:VTIMEZONE
BEGIN:VEVENT
DTSTAMP:20260421T043245
DTSTART;TZID=Europe/Berlin:20260914T100000
DTEND;TZID=Europe/Berlin:20260914T110000
UID:W34152215-20260914T100000@VHSBÖBLINGEN-SINDELFINGEN
SUMMARY:Rückenfitness und Ganzkörpertraining (W34152215) 
LOCATION:EH, Sportzentrum Schalkwiese Halle 2, G1, Hildrizhauser Str. 80, 71139 Ehningen
END:VEVENT
BEGIN:VEVENT
DTSTAMP:20260421T043245
DTSTART;TZID=Europe/Berlin:20260921T100000
DTEND;TZID=Europe/Berlin:20260921T110000
UID:W34152215-20260921T100000@VHSBÖBLINGEN-SINDELFINGEN
SUMMARY:Rückenfitness und Ganzkörpertraining (W34152215) 
LOCATION:EH, Sportzentrum Schalkwiese Halle 2, G1, Hildrizhauser Str. 80, 71139 Ehningen
END:VEVENT
BEGIN:VEVENT
DTSTAMP:20260421T043245
DTSTART;TZID=Europe/Berlin:20260928T100000
DTEND;TZID=Europe/Berlin:20260928T110000
UID:W34152215-20260928T100000@VHSBÖBLINGEN-SINDELFINGEN
SUMMARY:Rückenfitness und Ganzkörpertraining (W34152215) 
LOCATION:EH, Sportzentrum Schalkwiese Halle 2, G1, Hildrizhauser Str. 80, 71139 Ehningen
END:VEVENT
BEGIN:VEVENT
DTSTAMP:20260421T043245
DTSTART;TZID=Europe/Berlin:20261005T100000
DTEND;TZID=Europe/Berlin:20261005T110000
UID:W34152215-20261005T100000@VHSBÖBLINGEN-SINDELFINGEN
SUMMARY:Rückenfitness und Ganzkörpertraining (W34152215) 
LOCATION:EH, Sportzentrum Schalkwiese Halle 2, G1, Hildrizhauser Str. 80, 71139 Ehningen
END:VEVENT
BEGIN:VEVENT
DTSTAMP:20260421T043245
DTSTART;TZID=Europe/Berlin:20261012T100000
DTEND;TZID=Europe/Berlin:20261012T110000
UID:W34152215-20261012T100000@VHSBÖBLINGEN-SINDELFINGEN
SUMMARY:Rückenfitness und Ganzkörpertraining (W34152215) 
LOCATION:EH, Sportzentrum Schalkwiese Halle 2, G1, Hildrizhauser Str. 80, 71139 Ehningen
END:VEVENT
BEGIN:VEVENT
DTSTAMP:20260421T043245
DTSTART;TZID=Europe/Berlin:20261019T100000
DTEND;TZID=Europe/Berlin:20261019T110000
UID:W34152215-20261019T100000@VHSBÖBLINGEN-SINDELFINGEN
SUMMARY:Rückenfitness und Ganzkörpertraining (W34152215) 
LOCATION:EH, Sportzentrum Schalkwiese Halle 2, G1, Hildrizhauser Str. 80, 71139 Ehningen
END:VEVENT
BEGIN:VEVENT
DTSTAMP:20260421T043245
DTSTART;TZID=Europe/Berlin:20261102T100000
DTEND;TZID=Europe/Berlin:20261102T110000
UID:W34152215-20261102T100000@VHSBÖBLINGEN-SINDELFINGEN
SUMMARY:Rückenfitness und Ganzkörpertraining (W34152215) 
LOCATION:EH, Sportzentrum Schalkwiese Halle 2, G1, Hildrizhauser Str. 80, 71139 Ehningen
END:VEVENT
BEGIN:VEVENT
DTSTAMP:20260421T043245
DTSTART;TZID=Europe/Berlin:20261109T100000
DTEND;TZID=Europe/Berlin:20261109T110000
UID:W34152215-20261109T100000@VHSBÖBLINGEN-SINDELFINGEN
SUMMARY:Rückenfitness und Ganzkörpertraining (W34152215) 
LOCATION:EH, Sportzentrum Schalkwiese Halle 2, G1, Hildrizhauser Str. 80, 71139 Ehningen
END:VEVENT
BEGIN:VEVENT
DTSTAMP:20260421T043245
DTSTART;TZID=Europe/Berlin:20261116T100000
DTEND;TZID=Europe/Berlin:20261116T110000
UID:W34152215-20261116T100000@VHSBÖBLINGEN-SINDELFINGEN
SUMMARY:Rückenfitness und Ganzkörpertraining (W34152215) 
LOCATION:EH, Sportzentrum Schalkwiese Halle 2, G1, Hildrizhauser Str. 80, 71139 Ehningen
END:VEVENT
BEGIN:VEVENT
DTSTAMP:20260421T043245
DTSTART;TZID=Europe/Berlin:20261123T100000
DTEND;TZID=Europe/Berlin:20261123T110000
UID:W34152215-20261123T100000@VHSBÖBLINGEN-SINDELFINGEN
SUMMARY:Rückenfitness und Ganzkörpertraining (W34152215) 
LOCATION:EH, Sportzentrum Schalkwiese Halle 2, G1, Hildrizhauser Str. 80, 71139 Ehningen
END:VEVENT
BEGIN:VEVENT
DTSTAMP:20260421T043245
DTSTART;TZID=Europe/Berlin:20261130T100000
DTEND;TZID=Europe/Berlin:20261130T110000
UID:W34152215-20261130T100000@VHSBÖBLINGEN-SINDELFINGEN
SUMMARY:Rückenfitness und Ganzkörpertraining (W34152215) 
LOCATION:EH, Sportzentrum Schalkwiese Halle 2, G1, Hildrizhauser Str. 80, 71139 Ehningen
END:VEVENT
BEGIN:VEVENT
DTSTAMP:20260421T043245
DTSTART;TZID=Europe/Berlin:20261207T100000
DTEND;TZID=Europe/Berlin:20261207T110000
UID:W34152215-20261207T100000@VHSBÖBLINGEN-SINDELFINGEN
SUMMARY:Rückenfitness und Ganzkörpertraining (W34152215) 
LOCATION:EH, Sportzentrum Schalkwiese Halle 2, G1, Hildrizhauser Str. 80, 71139 Ehningen
END:VEVENT
BEGIN:VEVENT
DTSTAMP:20260421T043245
DTSTART;TZID=Europe/Berlin:20261214T100000
DTEND;TZID=Europe/Berlin:20261214T110000
UID:W34152215-20261214T100000@VHSBÖBLINGEN-SINDELFINGEN
SUMMARY:Rückenfitness und Ganzkörpertraining (W34152215) 
LOCATION:EH, Sportzentrum Schalkwiese Halle 2, G1, Hildrizhauser Str. 80, 71139 Ehningen
END:VEVENT
BEGIN:VEVENT
DTSTAMP:20260421T043245
DTSTART;TZID=Europe/Berlin:20261221T100000
DTEND;TZID=Europe/Berlin:20261221T110000
UID:W34152215-20261221T100000@VHSBÖBLINGEN-SINDELFINGEN
SUMMARY:Rückenfitness und Ganzkörpertraining (W34152215) 
LOCATION:EH, Sportzentrum Schalkwiese Halle 2, G1, Hildrizhauser Str. 80, 71139 Ehningen
END:VEVENT
BEGIN:VEVENT
DTSTAMP:20260421T043245
DTSTART;TZID=Europe/Berlin:20270111T100000
DTEND;TZID=Europe/Berlin:20270111T110000
UID:W34152215-20270111T100000@VHSBÖBLINGEN-SINDELFINGEN
SUMMARY:Rückenfitness und Ganzkörpertraining (W34152215) 
LOCATION:EH, Sportzentrum Schalkwiese Halle 2, G1, Hildrizhauser Str. 80, 71139 Ehningen
END:VEVENT
BEGIN:VEVENT
DTSTAMP:20260421T043245
DTSTART;TZID=Europe/Berlin:20270118T100000
DTEND;TZID=Europe/Berlin:20270118T110000
UID:W34152215-20270118T100000@VHSBÖBLINGEN-SINDELFINGEN
SUMMARY:Rückenfitness und Ganzkörpertraining (W34152215) 
LOCATION:EH, Sportzentrum Schalkwiese Halle 2, G1, Hildrizhauser Str. 80, 71139 Ehningen
END:VEVENT
BEGIN:VEVENT
DTSTAMP:20260421T043245
DTSTART;TZID=Europe/Berlin:20270125T100000
DTEND;TZID=Europe/Berlin:20270125T110000
UID:W34152215-20270125T100000@VHSBÖBLINGEN-SINDELFINGEN
SUMMARY:Rückenfitness und Ganzkörpertraining (W34152215) 
LOCATION:EH, Sportzentrum Schalkwiese Halle 2, G1, Hildrizhauser Str. 80, 71139 Ehningen
END:VEVENT
BEGIN:VEVENT
DTSTAMP:20260421T043245
DTSTART;TZID=Europe/Berlin:20270201T100000
DTEND;TZID=Europe/Berlin:20270201T110000
UID:W34152215-20270201T100000@VHSBÖBLINGEN-SINDELFINGEN
SUMMARY:Rückenfitness und Ganzkörpertraining (W34152215) 
LOCATION:EH, Sportzentrum Schalkwiese Halle 2, G1, Hildrizhauser Str. 80, 71139 Ehningen
END:VEVENT
END:VCALENDAR