BEGIN:VCALENDAR
VERSION:2.0
PRODID:https://www.kufer.de/kuferweb / DE
METHOD:PUBLISH
CALSCALE:GREGORIAN
X-WR-TIMEZONE:Europe/Berlin
BEGIN:VTIMEZONE
TZID:Europe/Berlin
X-LIC-LOCATION:Europe/Berlin
BEGIN:DAYLIGHT
TZOFFSETFROM:+0100
TZOFFSETTO:+0200
TZNAME:CEST
DTSTART:19700329T020000
RRULE:FREQ=YEARLY;INTERVAL=1;BYDAY=-1SU;BYMONTH=3
END:DAYLIGHT
BEGIN:STANDARD
TZOFFSETFROM:+0200
TZOFFSETTO:+0100
TZNAME:CET
DTSTART:19701025T030000
RRULE:FREQ=YEARLY;INTERVAL=1;BYDAY=-1SU;BYMONTH=10
END:STANDARD
END:VTIMEZONE
BEGIN:VEVENT
DTSTAMP:20260421T152457
DTSTART;TZID=Europe/Berlin:20260915T100000
DTEND;TZID=Europe/Berlin:20260915T110000
UID:W34151211-20260915T100000@VHSBÖBLINGEN-SINDELFINGEN
SUMMARY:Starker Rücken - starke Mitte Beckenbodenübungen für Frauen (W34151211) 
LOCATION:AI, Sonnenberghalle, Restaurant, Feldbergstr. 26, 71134 Aidlingen
END:VEVENT
BEGIN:VEVENT
DTSTAMP:20260421T152457
DTSTART;TZID=Europe/Berlin:20260922T100000
DTEND;TZID=Europe/Berlin:20260922T110000
UID:W34151211-20260922T100000@VHSBÖBLINGEN-SINDELFINGEN
SUMMARY:Starker Rücken - starke Mitte Beckenbodenübungen für Frauen (W34151211) 
LOCATION:AI, Sonnenberghalle, Restaurant, Feldbergstr. 26, 71134 Aidlingen
END:VEVENT
BEGIN:VEVENT
DTSTAMP:20260421T152457
DTSTART;TZID=Europe/Berlin:20260929T100000
DTEND;TZID=Europe/Berlin:20260929T110000
UID:W34151211-20260929T100000@VHSBÖBLINGEN-SINDELFINGEN
SUMMARY:Starker Rücken - starke Mitte Beckenbodenübungen für Frauen (W34151211) 
LOCATION:AI, Sonnenberghalle, Restaurant, Feldbergstr. 26, 71134 Aidlingen
END:VEVENT
BEGIN:VEVENT
DTSTAMP:20260421T152457
DTSTART;TZID=Europe/Berlin:20261006T100000
DTEND;TZID=Europe/Berlin:20261006T110000
UID:W34151211-20261006T100000@VHSBÖBLINGEN-SINDELFINGEN
SUMMARY:Starker Rücken - starke Mitte Beckenbodenübungen für Frauen (W34151211) 
LOCATION:AI, Sonnenberghalle, Restaurant, Feldbergstr. 26, 71134 Aidlingen
END:VEVENT
BEGIN:VEVENT
DTSTAMP:20260421T152457
DTSTART;TZID=Europe/Berlin:20261013T100000
DTEND;TZID=Europe/Berlin:20261013T110000
UID:W34151211-20261013T100000@VHSBÖBLINGEN-SINDELFINGEN
SUMMARY:Starker Rücken - starke Mitte Beckenbodenübungen für Frauen (W34151211) 
LOCATION:AI, Sonnenberghalle, Restaurant, Feldbergstr. 26, 71134 Aidlingen
END:VEVENT
BEGIN:VEVENT
DTSTAMP:20260421T152457
DTSTART;TZID=Europe/Berlin:20261020T100000
DTEND;TZID=Europe/Berlin:20261020T110000
UID:W34151211-20261020T100000@VHSBÖBLINGEN-SINDELFINGEN
SUMMARY:Starker Rücken - starke Mitte Beckenbodenübungen für Frauen (W34151211) 
LOCATION:AI, Sonnenberghalle, Restaurant, Feldbergstr. 26, 71134 Aidlingen
END:VEVENT
BEGIN:VEVENT
DTSTAMP:20260421T152457
DTSTART;TZID=Europe/Berlin:20261103T100000
DTEND;TZID=Europe/Berlin:20261103T110000
UID:W34151211-20261103T100000@VHSBÖBLINGEN-SINDELFINGEN
SUMMARY:Starker Rücken - starke Mitte Beckenbodenübungen für Frauen (W34151211) 
LOCATION:AI, Sonnenberghalle, Restaurant, Feldbergstr. 26, 71134 Aidlingen
END:VEVENT
BEGIN:VEVENT
DTSTAMP:20260421T152457
DTSTART;TZID=Europe/Berlin:20261110T100000
DTEND;TZID=Europe/Berlin:20261110T110000
UID:W34151211-20261110T100000@VHSBÖBLINGEN-SINDELFINGEN
SUMMARY:Starker Rücken - starke Mitte Beckenbodenübungen für Frauen (W34151211) 
LOCATION:AI, Sonnenberghalle, Restaurant, Feldbergstr. 26, 71134 Aidlingen
END:VEVENT
BEGIN:VEVENT
DTSTAMP:20260421T152457
DTSTART;TZID=Europe/Berlin:20261117T100000
DTEND;TZID=Europe/Berlin:20261117T110000
UID:W34151211-20261117T100000@VHSBÖBLINGEN-SINDELFINGEN
SUMMARY:Starker Rücken - starke Mitte Beckenbodenübungen für Frauen (W34151211) 
LOCATION:AI, Sonnenberghalle, Restaurant, Feldbergstr. 26, 71134 Aidlingen
END:VEVENT
BEGIN:VEVENT
DTSTAMP:20260421T152457
DTSTART;TZID=Europe/Berlin:20261124T100000
DTEND;TZID=Europe/Berlin:20261124T110000
UID:W34151211-20261124T100000@VHSBÖBLINGEN-SINDELFINGEN
SUMMARY:Starker Rücken - starke Mitte Beckenbodenübungen für Frauen (W34151211) 
LOCATION:AI, Sonnenberghalle, Restaurant, Feldbergstr. 26, 71134 Aidlingen
END:VEVENT
BEGIN:VEVENT
DTSTAMP:20260421T152457
DTSTART;TZID=Europe/Berlin:20261201T100000
DTEND;TZID=Europe/Berlin:20261201T110000
UID:W34151211-20261201T100000@VHSBÖBLINGEN-SINDELFINGEN
SUMMARY:Starker Rücken - starke Mitte Beckenbodenübungen für Frauen (W34151211) 
LOCATION:AI, Sonnenberghalle, Restaurant, Feldbergstr. 26, 71134 Aidlingen
END:VEVENT
BEGIN:VEVENT
DTSTAMP:20260421T152457
DTSTART;TZID=Europe/Berlin:20261208T100000
DTEND;TZID=Europe/Berlin:20261208T110000
UID:W34151211-20261208T100000@VHSBÖBLINGEN-SINDELFINGEN
SUMMARY:Starker Rücken - starke Mitte Beckenbodenübungen für Frauen (W34151211) 
LOCATION:AI, Sonnenberghalle, Restaurant, Feldbergstr. 26, 71134 Aidlingen
END:VEVENT
BEGIN:VEVENT
DTSTAMP:20260421T152457
DTSTART;TZID=Europe/Berlin:20261215T100000
DTEND;TZID=Europe/Berlin:20261215T110000
UID:W34151211-20261215T100000@VHSBÖBLINGEN-SINDELFINGEN
SUMMARY:Starker Rücken - starke Mitte Beckenbodenübungen für Frauen (W34151211) 
LOCATION:AI, Sonnenberghalle, Restaurant, Feldbergstr. 26, 71134 Aidlingen
END:VEVENT
BEGIN:VEVENT
DTSTAMP:20260421T152457
DTSTART;TZID=Europe/Berlin:20261222T100000
DTEND;TZID=Europe/Berlin:20261222T110000
UID:W34151211-20261222T100000@VHSBÖBLINGEN-SINDELFINGEN
SUMMARY:Starker Rücken - starke Mitte Beckenbodenübungen für Frauen (W34151211) 
LOCATION:AI, Sonnenberghalle, Restaurant, Feldbergstr. 26, 71134 Aidlingen
END:VEVENT
BEGIN:VEVENT
DTSTAMP:20260421T152457
DTSTART;TZID=Europe/Berlin:20270112T100000
DTEND;TZID=Europe/Berlin:20270112T110000
UID:W34151211-20270112T100000@VHSBÖBLINGEN-SINDELFINGEN
SUMMARY:Starker Rücken - starke Mitte Beckenbodenübungen für Frauen (W34151211) 
LOCATION:AI, Sonnenberghalle, Restaurant, Feldbergstr. 26, 71134 Aidlingen
END:VEVENT
BEGIN:VEVENT
DTSTAMP:20260421T152457
DTSTART;TZID=Europe/Berlin:20270119T100000
DTEND;TZID=Europe/Berlin:20270119T110000
UID:W34151211-20270119T100000@VHSBÖBLINGEN-SINDELFINGEN
SUMMARY:Starker Rücken - starke Mitte Beckenbodenübungen für Frauen (W34151211) 
LOCATION:AI, Sonnenberghalle, Restaurant, Feldbergstr. 26, 71134 Aidlingen
END:VEVENT
BEGIN:VEVENT
DTSTAMP:20260421T152457
DTSTART;TZID=Europe/Berlin:20270126T100000
DTEND;TZID=Europe/Berlin:20270126T110000
UID:W34151211-20270126T100000@VHSBÖBLINGEN-SINDELFINGEN
SUMMARY:Starker Rücken - starke Mitte Beckenbodenübungen für Frauen (W34151211) 
LOCATION:AI, Sonnenberghalle, Restaurant, Feldbergstr. 26, 71134 Aidlingen
END:VEVENT
BEGIN:VEVENT
DTSTAMP:20260421T152457
DTSTART;TZID=Europe/Berlin:20270202T100000
DTEND;TZID=Europe/Berlin:20270202T110000
UID:W34151211-20270202T100000@VHSBÖBLINGEN-SINDELFINGEN
SUMMARY:Starker Rücken - starke Mitte Beckenbodenübungen für Frauen (W34151211) 
LOCATION:AI, Sonnenberghalle, Restaurant, Feldbergstr. 26, 71134 Aidlingen
END:VEVENT
END:VCALENDAR