BEGIN:VCALENDAR
VERSION:2.0
PRODID:https://www.kufer.de/kuferweb / DE
METHOD:PUBLISH
CALSCALE:GREGORIAN
X-WR-TIMEZONE:Europe/Berlin
BEGIN:VTIMEZONE
TZID:Europe/Berlin
X-LIC-LOCATION:Europe/Berlin
BEGIN:DAYLIGHT
TZOFFSETFROM:+0100
TZOFFSETTO:+0200
TZNAME:CEST
DTSTART:19700329T020000
RRULE:FREQ=YEARLY;INTERVAL=1;BYDAY=-1SU;BYMONTH=3
END:DAYLIGHT
BEGIN:STANDARD
TZOFFSETFROM:+0200
TZOFFSETTO:+0100
TZNAME:CET
DTSTART:19701025T030000
RRULE:FREQ=YEARLY;INTERVAL=1;BYDAY=-1SU;BYMONTH=10
END:STANDARD
END:VTIMEZONE
BEGIN:VEVENT
DTSTAMP:20260421T005606
DTSTART;TZID=Europe/Berlin:20260915T080000
DTEND;TZID=Europe/Berlin:20260915T090000
UID:W34151011-20260915T080000@VHSBÖBLINGEN-SINDELFINGEN
SUMMARY:Gesunder Rücken & mehr (W34151011) 
LOCATION:AI, Sonnenberghalle, Restaurant, Feldbergstr. 26, 71134 Aidlingen
END:VEVENT
BEGIN:VEVENT
DTSTAMP:20260421T005606
DTSTART;TZID=Europe/Berlin:20260922T080000
DTEND;TZID=Europe/Berlin:20260922T090000
UID:W34151011-20260922T080000@VHSBÖBLINGEN-SINDELFINGEN
SUMMARY:Gesunder Rücken & mehr (W34151011) 
LOCATION:AI, Sonnenberghalle, Restaurant, Feldbergstr. 26, 71134 Aidlingen
END:VEVENT
BEGIN:VEVENT
DTSTAMP:20260421T005606
DTSTART;TZID=Europe/Berlin:20260929T080000
DTEND;TZID=Europe/Berlin:20260929T090000
UID:W34151011-20260929T080000@VHSBÖBLINGEN-SINDELFINGEN
SUMMARY:Gesunder Rücken & mehr (W34151011) 
LOCATION:AI, Sonnenberghalle, Restaurant, Feldbergstr. 26, 71134 Aidlingen
END:VEVENT
BEGIN:VEVENT
DTSTAMP:20260421T005606
DTSTART;TZID=Europe/Berlin:20261006T080000
DTEND;TZID=Europe/Berlin:20261006T090000
UID:W34151011-20261006T080000@VHSBÖBLINGEN-SINDELFINGEN
SUMMARY:Gesunder Rücken & mehr (W34151011) 
LOCATION:AI, Sonnenberghalle, Restaurant, Feldbergstr. 26, 71134 Aidlingen
END:VEVENT
BEGIN:VEVENT
DTSTAMP:20260421T005606
DTSTART;TZID=Europe/Berlin:20261013T080000
DTEND;TZID=Europe/Berlin:20261013T090000
UID:W34151011-20261013T080000@VHSBÖBLINGEN-SINDELFINGEN
SUMMARY:Gesunder Rücken & mehr (W34151011) 
LOCATION:AI, Sonnenberghalle, Restaurant, Feldbergstr. 26, 71134 Aidlingen
END:VEVENT
BEGIN:VEVENT
DTSTAMP:20260421T005606
DTSTART;TZID=Europe/Berlin:20261020T080000
DTEND;TZID=Europe/Berlin:20261020T090000
UID:W34151011-20261020T080000@VHSBÖBLINGEN-SINDELFINGEN
SUMMARY:Gesunder Rücken & mehr (W34151011) 
LOCATION:AI, Sonnenberghalle, Restaurant, Feldbergstr. 26, 71134 Aidlingen
END:VEVENT
BEGIN:VEVENT
DTSTAMP:20260421T005606
DTSTART;TZID=Europe/Berlin:20261103T080000
DTEND;TZID=Europe/Berlin:20261103T090000
UID:W34151011-20261103T080000@VHSBÖBLINGEN-SINDELFINGEN
SUMMARY:Gesunder Rücken & mehr (W34151011) 
LOCATION:AI, Sonnenberghalle, Restaurant, Feldbergstr. 26, 71134 Aidlingen
END:VEVENT
BEGIN:VEVENT
DTSTAMP:20260421T005606
DTSTART;TZID=Europe/Berlin:20261110T080000
DTEND;TZID=Europe/Berlin:20261110T090000
UID:W34151011-20261110T080000@VHSBÖBLINGEN-SINDELFINGEN
SUMMARY:Gesunder Rücken & mehr (W34151011) 
LOCATION:AI, Sonnenberghalle, Restaurant, Feldbergstr. 26, 71134 Aidlingen
END:VEVENT
BEGIN:VEVENT
DTSTAMP:20260421T005606
DTSTART;TZID=Europe/Berlin:20261117T080000
DTEND;TZID=Europe/Berlin:20261117T090000
UID:W34151011-20261117T080000@VHSBÖBLINGEN-SINDELFINGEN
SUMMARY:Gesunder Rücken & mehr (W34151011) 
LOCATION:AI, Sonnenberghalle, Restaurant, Feldbergstr. 26, 71134 Aidlingen
END:VEVENT
BEGIN:VEVENT
DTSTAMP:20260421T005606
DTSTART;TZID=Europe/Berlin:20261124T080000
DTEND;TZID=Europe/Berlin:20261124T090000
UID:W34151011-20261124T080000@VHSBÖBLINGEN-SINDELFINGEN
SUMMARY:Gesunder Rücken & mehr (W34151011) 
LOCATION:AI, Sonnenberghalle, Restaurant, Feldbergstr. 26, 71134 Aidlingen
END:VEVENT
BEGIN:VEVENT
DTSTAMP:20260421T005606
DTSTART;TZID=Europe/Berlin:20261201T080000
DTEND;TZID=Europe/Berlin:20261201T090000
UID:W34151011-20261201T080000@VHSBÖBLINGEN-SINDELFINGEN
SUMMARY:Gesunder Rücken & mehr (W34151011) 
LOCATION:AI, Sonnenberghalle, Restaurant, Feldbergstr. 26, 71134 Aidlingen
END:VEVENT
BEGIN:VEVENT
DTSTAMP:20260421T005606
DTSTART;TZID=Europe/Berlin:20261208T080000
DTEND;TZID=Europe/Berlin:20261208T090000
UID:W34151011-20261208T080000@VHSBÖBLINGEN-SINDELFINGEN
SUMMARY:Gesunder Rücken & mehr (W34151011) 
LOCATION:AI, Sonnenberghalle, Restaurant, Feldbergstr. 26, 71134 Aidlingen
END:VEVENT
BEGIN:VEVENT
DTSTAMP:20260421T005606
DTSTART;TZID=Europe/Berlin:20261215T080000
DTEND;TZID=Europe/Berlin:20261215T090000
UID:W34151011-20261215T080000@VHSBÖBLINGEN-SINDELFINGEN
SUMMARY:Gesunder Rücken & mehr (W34151011) 
LOCATION:AI, Sonnenberghalle, Restaurant, Feldbergstr. 26, 71134 Aidlingen
END:VEVENT
BEGIN:VEVENT
DTSTAMP:20260421T005606
DTSTART;TZID=Europe/Berlin:20261222T080000
DTEND;TZID=Europe/Berlin:20261222T090000
UID:W34151011-20261222T080000@VHSBÖBLINGEN-SINDELFINGEN
SUMMARY:Gesunder Rücken & mehr (W34151011) 
LOCATION:AI, Sonnenberghalle, Restaurant, Feldbergstr. 26, 71134 Aidlingen
END:VEVENT
BEGIN:VEVENT
DTSTAMP:20260421T005606
DTSTART;TZID=Europe/Berlin:20270112T080000
DTEND;TZID=Europe/Berlin:20270112T090000
UID:W34151011-20270112T080000@VHSBÖBLINGEN-SINDELFINGEN
SUMMARY:Gesunder Rücken & mehr (W34151011) 
LOCATION:AI, Sonnenberghalle, Restaurant, Feldbergstr. 26, 71134 Aidlingen
END:VEVENT
BEGIN:VEVENT
DTSTAMP:20260421T005606
DTSTART;TZID=Europe/Berlin:20270119T080000
DTEND;TZID=Europe/Berlin:20270119T090000
UID:W34151011-20270119T080000@VHSBÖBLINGEN-SINDELFINGEN
SUMMARY:Gesunder Rücken & mehr (W34151011) 
LOCATION:AI, Sonnenberghalle, Restaurant, Feldbergstr. 26, 71134 Aidlingen
END:VEVENT
BEGIN:VEVENT
DTSTAMP:20260421T005606
DTSTART;TZID=Europe/Berlin:20270126T080000
DTEND;TZID=Europe/Berlin:20270126T090000
UID:W34151011-20270126T080000@VHSBÖBLINGEN-SINDELFINGEN
SUMMARY:Gesunder Rücken & mehr (W34151011) 
LOCATION:AI, Sonnenberghalle, Restaurant, Feldbergstr. 26, 71134 Aidlingen
END:VEVENT
BEGIN:VEVENT
DTSTAMP:20260421T005606
DTSTART;TZID=Europe/Berlin:20270202T080000
DTEND;TZID=Europe/Berlin:20270202T090000
UID:W34151011-20270202T080000@VHSBÖBLINGEN-SINDELFINGEN
SUMMARY:Gesunder Rücken & mehr (W34151011) 
LOCATION:AI, Sonnenberghalle, Restaurant, Feldbergstr. 26, 71134 Aidlingen
END:VEVENT
END:VCALENDAR