BEGIN:VCALENDAR
VERSION:2.0
PRODID:https://www.kufer.de/kuferweb / DE
METHOD:PUBLISH
CALSCALE:GREGORIAN
X-WR-TIMEZONE:Europe/Berlin
BEGIN:VTIMEZONE
TZID:Europe/Berlin
X-LIC-LOCATION:Europe/Berlin
BEGIN:DAYLIGHT
TZOFFSETFROM:+0100
TZOFFSETTO:+0200
TZNAME:CEST
DTSTART:19700329T020000
RRULE:FREQ=YEARLY;INTERVAL=1;BYDAY=-1SU;BYMONTH=3
END:DAYLIGHT
BEGIN:STANDARD
TZOFFSETFROM:+0200
TZOFFSETTO:+0100
TZNAME:CET
DTSTART:19701025T030000
RRULE:FREQ=YEARLY;INTERVAL=1;BYDAY=-1SU;BYMONTH=10
END:STANDARD
END:VTIMEZONE
BEGIN:VEVENT
DTSTAMP:20260421T041355
DTSTART;TZID=Europe/Berlin:20260922T183000
DTEND;TZID=Europe/Berlin:20260922T193000
UID:W34150511-20260922T183000@VHSBÖBLINGEN-SINDELFINGEN
SUMMARY:Medical Fitness mit den Bewegungsformen nach Liebscher & Bracht (W34150511) 
LOCATION:AI, Sonnenberghalle, Restaurant, Feldbergstr. 26, 71134 Aidlingen
END:VEVENT
BEGIN:VEVENT
DTSTAMP:20260421T041355
DTSTART;TZID=Europe/Berlin:20260929T183000
DTEND;TZID=Europe/Berlin:20260929T193000
UID:W34150511-20260929T183000@VHSBÖBLINGEN-SINDELFINGEN
SUMMARY:Medical Fitness mit den Bewegungsformen nach Liebscher & Bracht (W34150511) 
LOCATION:AI, Sonnenberghalle, Restaurant, Feldbergstr. 26, 71134 Aidlingen
END:VEVENT
BEGIN:VEVENT
DTSTAMP:20260421T041355
DTSTART;TZID=Europe/Berlin:20261006T183000
DTEND;TZID=Europe/Berlin:20261006T193000
UID:W34150511-20261006T183000@VHSBÖBLINGEN-SINDELFINGEN
SUMMARY:Medical Fitness mit den Bewegungsformen nach Liebscher & Bracht (W34150511) 
LOCATION:AI, Sonnenberghalle, Restaurant, Feldbergstr. 26, 71134 Aidlingen
END:VEVENT
BEGIN:VEVENT
DTSTAMP:20260421T041355
DTSTART;TZID=Europe/Berlin:20261013T183000
DTEND;TZID=Europe/Berlin:20261013T193000
UID:W34150511-20261013T183000@VHSBÖBLINGEN-SINDELFINGEN
SUMMARY:Medical Fitness mit den Bewegungsformen nach Liebscher & Bracht (W34150511) 
LOCATION:AI, Sonnenberghalle, Restaurant, Feldbergstr. 26, 71134 Aidlingen
END:VEVENT
BEGIN:VEVENT
DTSTAMP:20260421T041355
DTSTART;TZID=Europe/Berlin:20261020T183000
DTEND;TZID=Europe/Berlin:20261020T193000
UID:W34150511-20261020T183000@VHSBÖBLINGEN-SINDELFINGEN
SUMMARY:Medical Fitness mit den Bewegungsformen nach Liebscher & Bracht (W34150511) 
LOCATION:AI, Sonnenberghalle, Restaurant, Feldbergstr. 26, 71134 Aidlingen
END:VEVENT
BEGIN:VEVENT
DTSTAMP:20260421T041355
DTSTART;TZID=Europe/Berlin:20261103T183000
DTEND;TZID=Europe/Berlin:20261103T193000
UID:W34150511-20261103T183000@VHSBÖBLINGEN-SINDELFINGEN
SUMMARY:Medical Fitness mit den Bewegungsformen nach Liebscher & Bracht (W34150511) 
LOCATION:AI, Sonnenberghalle, Restaurant, Feldbergstr. 26, 71134 Aidlingen
END:VEVENT
BEGIN:VEVENT
DTSTAMP:20260421T041355
DTSTART;TZID=Europe/Berlin:20261110T183000
DTEND;TZID=Europe/Berlin:20261110T193000
UID:W34150511-20261110T183000@VHSBÖBLINGEN-SINDELFINGEN
SUMMARY:Medical Fitness mit den Bewegungsformen nach Liebscher & Bracht (W34150511) 
LOCATION:AI, Sonnenberghalle, Restaurant, Feldbergstr. 26, 71134 Aidlingen
END:VEVENT
BEGIN:VEVENT
DTSTAMP:20260421T041355
DTSTART;TZID=Europe/Berlin:20261117T183000
DTEND;TZID=Europe/Berlin:20261117T193000
UID:W34150511-20261117T183000@VHSBÖBLINGEN-SINDELFINGEN
SUMMARY:Medical Fitness mit den Bewegungsformen nach Liebscher & Bracht (W34150511) 
LOCATION:AI, Sonnenberghalle, Restaurant, Feldbergstr. 26, 71134 Aidlingen
END:VEVENT
BEGIN:VEVENT
DTSTAMP:20260421T041355
DTSTART;TZID=Europe/Berlin:20261124T183000
DTEND;TZID=Europe/Berlin:20261124T193000
UID:W34150511-20261124T183000@VHSBÖBLINGEN-SINDELFINGEN
SUMMARY:Medical Fitness mit den Bewegungsformen nach Liebscher & Bracht (W34150511) 
LOCATION:AI, Sonnenberghalle, Restaurant, Feldbergstr. 26, 71134 Aidlingen
END:VEVENT
BEGIN:VEVENT
DTSTAMP:20260421T041355
DTSTART;TZID=Europe/Berlin:20261201T183000
DTEND;TZID=Europe/Berlin:20261201T193000
UID:W34150511-20261201T183000@VHSBÖBLINGEN-SINDELFINGEN
SUMMARY:Medical Fitness mit den Bewegungsformen nach Liebscher & Bracht (W34150511) 
LOCATION:AI, Sonnenberghalle, Restaurant, Feldbergstr. 26, 71134 Aidlingen
END:VEVENT
BEGIN:VEVENT
DTSTAMP:20260421T041355
DTSTART;TZID=Europe/Berlin:20261208T183000
DTEND;TZID=Europe/Berlin:20261208T193000
UID:W34150511-20261208T183000@VHSBÖBLINGEN-SINDELFINGEN
SUMMARY:Medical Fitness mit den Bewegungsformen nach Liebscher & Bracht (W34150511) 
LOCATION:AI, Sonnenberghalle, Restaurant, Feldbergstr. 26, 71134 Aidlingen
END:VEVENT
BEGIN:VEVENT
DTSTAMP:20260421T041355
DTSTART;TZID=Europe/Berlin:20261215T183000
DTEND;TZID=Europe/Berlin:20261215T193000
UID:W34150511-20261215T183000@VHSBÖBLINGEN-SINDELFINGEN
SUMMARY:Medical Fitness mit den Bewegungsformen nach Liebscher & Bracht (W34150511) 
LOCATION:AI, Sonnenberghalle, Restaurant, Feldbergstr. 26, 71134 Aidlingen
END:VEVENT
BEGIN:VEVENT
DTSTAMP:20260421T041355
DTSTART;TZID=Europe/Berlin:20261222T183000
DTEND;TZID=Europe/Berlin:20261222T193000
UID:W34150511-20261222T183000@VHSBÖBLINGEN-SINDELFINGEN
SUMMARY:Medical Fitness mit den Bewegungsformen nach Liebscher & Bracht (W34150511) 
LOCATION:AI, Sonnenberghalle, Restaurant, Feldbergstr. 26, 71134 Aidlingen
END:VEVENT
BEGIN:VEVENT
DTSTAMP:20260421T041355
DTSTART;TZID=Europe/Berlin:20270112T183000
DTEND;TZID=Europe/Berlin:20270112T193000
UID:W34150511-20270112T183000@VHSBÖBLINGEN-SINDELFINGEN
SUMMARY:Medical Fitness mit den Bewegungsformen nach Liebscher & Bracht (W34150511) 
LOCATION:AI, Sonnenberghalle, Restaurant, Feldbergstr. 26, 71134 Aidlingen
END:VEVENT
BEGIN:VEVENT
DTSTAMP:20260421T041355
DTSTART;TZID=Europe/Berlin:20270119T183000
DTEND;TZID=Europe/Berlin:20270119T193000
UID:W34150511-20270119T183000@VHSBÖBLINGEN-SINDELFINGEN
SUMMARY:Medical Fitness mit den Bewegungsformen nach Liebscher & Bracht (W34150511) 
LOCATION:AI, Sonnenberghalle, Restaurant, Feldbergstr. 26, 71134 Aidlingen
END:VEVENT
END:VCALENDAR