BEGIN:VCALENDAR
VERSION:2.0
PRODID:https://www.kufer.de/kuferweb / DE
METHOD:PUBLISH
CALSCALE:GREGORIAN
X-WR-TIMEZONE:Europe/Berlin
BEGIN:VTIMEZONE
TZID:Europe/Berlin
X-LIC-LOCATION:Europe/Berlin
BEGIN:DAYLIGHT
TZOFFSETFROM:+0100
TZOFFSETTO:+0200
TZNAME:CEST
DTSTART:19700329T020000
RRULE:FREQ=YEARLY;INTERVAL=1;BYDAY=-1SU;BYMONTH=3
END:DAYLIGHT
BEGIN:STANDARD
TZOFFSETFROM:+0200
TZOFFSETTO:+0100
TZNAME:CET
DTSTART:19701025T030000
RRULE:FREQ=YEARLY;INTERVAL=1;BYDAY=-1SU;BYMONTH=10
END:STANDARD
END:VTIMEZONE
BEGIN:VEVENT
DTSTAMP:20260421T122554
DTSTART;TZID=Europe/Berlin:20260915T090000
DTEND;TZID=Europe/Berlin:20260915T100000
UID:W34141615-20260915T090000@VHSBÖBLINGEN-SINDELFINGEN
SUMMARY:Ganzheitliche Gymnastik (W34141615) 
LOCATION:EH, Sportzentrum Schalkwiese Halle 2, G2, Hildrizhauser Str. 80, 71139 Ehningen
END:VEVENT
BEGIN:VEVENT
DTSTAMP:20260421T122554
DTSTART;TZID=Europe/Berlin:20260922T090000
DTEND;TZID=Europe/Berlin:20260922T100000
UID:W34141615-20260922T090000@VHSBÖBLINGEN-SINDELFINGEN
SUMMARY:Ganzheitliche Gymnastik (W34141615) 
LOCATION:EH, Sportzentrum Schalkwiese Halle 2, G2, Hildrizhauser Str. 80, 71139 Ehningen
END:VEVENT
BEGIN:VEVENT
DTSTAMP:20260421T122554
DTSTART;TZID=Europe/Berlin:20260929T090000
DTEND;TZID=Europe/Berlin:20260929T100000
UID:W34141615-20260929T090000@VHSBÖBLINGEN-SINDELFINGEN
SUMMARY:Ganzheitliche Gymnastik (W34141615) 
LOCATION:EH, Sportzentrum Schalkwiese Halle 2, G2, Hildrizhauser Str. 80, 71139 Ehningen
END:VEVENT
BEGIN:VEVENT
DTSTAMP:20260421T122554
DTSTART;TZID=Europe/Berlin:20261006T090000
DTEND;TZID=Europe/Berlin:20261006T100000
UID:W34141615-20261006T090000@VHSBÖBLINGEN-SINDELFINGEN
SUMMARY:Ganzheitliche Gymnastik (W34141615) 
LOCATION:EH, Sportzentrum Schalkwiese Halle 2, G2, Hildrizhauser Str. 80, 71139 Ehningen
END:VEVENT
BEGIN:VEVENT
DTSTAMP:20260421T122554
DTSTART;TZID=Europe/Berlin:20261013T090000
DTEND;TZID=Europe/Berlin:20261013T100000
UID:W34141615-20261013T090000@VHSBÖBLINGEN-SINDELFINGEN
SUMMARY:Ganzheitliche Gymnastik (W34141615) 
LOCATION:EH, Sportzentrum Schalkwiese Halle 2, G2, Hildrizhauser Str. 80, 71139 Ehningen
END:VEVENT
BEGIN:VEVENT
DTSTAMP:20260421T122554
DTSTART;TZID=Europe/Berlin:20261020T090000
DTEND;TZID=Europe/Berlin:20261020T100000
UID:W34141615-20261020T090000@VHSBÖBLINGEN-SINDELFINGEN
SUMMARY:Ganzheitliche Gymnastik (W34141615) 
LOCATION:EH, Sportzentrum Schalkwiese Halle 2, G2, Hildrizhauser Str. 80, 71139 Ehningen
END:VEVENT
BEGIN:VEVENT
DTSTAMP:20260421T122554
DTSTART;TZID=Europe/Berlin:20261103T090000
DTEND;TZID=Europe/Berlin:20261103T100000
UID:W34141615-20261103T090000@VHSBÖBLINGEN-SINDELFINGEN
SUMMARY:Ganzheitliche Gymnastik (W34141615) 
LOCATION:EH, Sportzentrum Schalkwiese Halle 2, G2, Hildrizhauser Str. 80, 71139 Ehningen
END:VEVENT
BEGIN:VEVENT
DTSTAMP:20260421T122554
DTSTART;TZID=Europe/Berlin:20261110T090000
DTEND;TZID=Europe/Berlin:20261110T100000
UID:W34141615-20261110T090000@VHSBÖBLINGEN-SINDELFINGEN
SUMMARY:Ganzheitliche Gymnastik (W34141615) 
LOCATION:EH, Sportzentrum Schalkwiese Halle 2, G2, Hildrizhauser Str. 80, 71139 Ehningen
END:VEVENT
BEGIN:VEVENT
DTSTAMP:20260421T122554
DTSTART;TZID=Europe/Berlin:20261117T090000
DTEND;TZID=Europe/Berlin:20261117T100000
UID:W34141615-20261117T090000@VHSBÖBLINGEN-SINDELFINGEN
SUMMARY:Ganzheitliche Gymnastik (W34141615) 
LOCATION:EH, Sportzentrum Schalkwiese Halle 2, G2, Hildrizhauser Str. 80, 71139 Ehningen
END:VEVENT
BEGIN:VEVENT
DTSTAMP:20260421T122554
DTSTART;TZID=Europe/Berlin:20261124T090000
DTEND;TZID=Europe/Berlin:20261124T100000
UID:W34141615-20261124T090000@VHSBÖBLINGEN-SINDELFINGEN
SUMMARY:Ganzheitliche Gymnastik (W34141615) 
LOCATION:EH, Sportzentrum Schalkwiese Halle 2, G2, Hildrizhauser Str. 80, 71139 Ehningen
END:VEVENT
BEGIN:VEVENT
DTSTAMP:20260421T122554
DTSTART;TZID=Europe/Berlin:20261201T090000
DTEND;TZID=Europe/Berlin:20261201T100000
UID:W34141615-20261201T090000@VHSBÖBLINGEN-SINDELFINGEN
SUMMARY:Ganzheitliche Gymnastik (W34141615) 
LOCATION:EH, Sportzentrum Schalkwiese Halle 2, G2, Hildrizhauser Str. 80, 71139 Ehningen
END:VEVENT
BEGIN:VEVENT
DTSTAMP:20260421T122554
DTSTART;TZID=Europe/Berlin:20261208T090000
DTEND;TZID=Europe/Berlin:20261208T100000
UID:W34141615-20261208T090000@VHSBÖBLINGEN-SINDELFINGEN
SUMMARY:Ganzheitliche Gymnastik (W34141615) 
LOCATION:EH, Sportzentrum Schalkwiese Halle 2, G2, Hildrizhauser Str. 80, 71139 Ehningen
END:VEVENT
BEGIN:VEVENT
DTSTAMP:20260421T122554
DTSTART;TZID=Europe/Berlin:20261215T090000
DTEND;TZID=Europe/Berlin:20261215T100000
UID:W34141615-20261215T090000@VHSBÖBLINGEN-SINDELFINGEN
SUMMARY:Ganzheitliche Gymnastik (W34141615) 
LOCATION:EH, Sportzentrum Schalkwiese Halle 2, G2, Hildrizhauser Str. 80, 71139 Ehningen
END:VEVENT
BEGIN:VEVENT
DTSTAMP:20260421T122554
DTSTART;TZID=Europe/Berlin:20261222T090000
DTEND;TZID=Europe/Berlin:20261222T100000
UID:W34141615-20261222T090000@VHSBÖBLINGEN-SINDELFINGEN
SUMMARY:Ganzheitliche Gymnastik (W34141615) 
LOCATION:EH, Sportzentrum Schalkwiese Halle 2, G2, Hildrizhauser Str. 80, 71139 Ehningen
END:VEVENT
BEGIN:VEVENT
DTSTAMP:20260421T122554
DTSTART;TZID=Europe/Berlin:20270112T090000
DTEND;TZID=Europe/Berlin:20270112T100000
UID:W34141615-20270112T090000@VHSBÖBLINGEN-SINDELFINGEN
SUMMARY:Ganzheitliche Gymnastik (W34141615) 
LOCATION:EH, Sportzentrum Schalkwiese Halle 2, G2, Hildrizhauser Str. 80, 71139 Ehningen
END:VEVENT
BEGIN:VEVENT
DTSTAMP:20260421T122554
DTSTART;TZID=Europe/Berlin:20270119T090000
DTEND;TZID=Europe/Berlin:20270119T100000
UID:W34141615-20270119T090000@VHSBÖBLINGEN-SINDELFINGEN
SUMMARY:Ganzheitliche Gymnastik (W34141615) 
LOCATION:EH, Sportzentrum Schalkwiese Halle 2, G2, Hildrizhauser Str. 80, 71139 Ehningen
END:VEVENT
BEGIN:VEVENT
DTSTAMP:20260421T122554
DTSTART;TZID=Europe/Berlin:20270126T090000
DTEND;TZID=Europe/Berlin:20270126T100000
UID:W34141615-20270126T090000@VHSBÖBLINGEN-SINDELFINGEN
SUMMARY:Ganzheitliche Gymnastik (W34141615) 
LOCATION:EH, Sportzentrum Schalkwiese Halle 2, G2, Hildrizhauser Str. 80, 71139 Ehningen
END:VEVENT
BEGIN:VEVENT
DTSTAMP:20260421T122554
DTSTART;TZID=Europe/Berlin:20270202T090000
DTEND;TZID=Europe/Berlin:20270202T100000
UID:W34141615-20270202T090000@VHSBÖBLINGEN-SINDELFINGEN
SUMMARY:Ganzheitliche Gymnastik (W34141615) 
LOCATION:EH, Sportzentrum Schalkwiese Halle 2, G2, Hildrizhauser Str. 80, 71139 Ehningen
END:VEVENT
END:VCALENDAR