BEGIN:VCALENDAR
VERSION:2.0
PRODID:https://www.kufer.de/kuferweb / DE
METHOD:PUBLISH
CALSCALE:GREGORIAN
X-WR-TIMEZONE:Europe/Berlin
BEGIN:VTIMEZONE
TZID:Europe/Berlin
X-LIC-LOCATION:Europe/Berlin
BEGIN:DAYLIGHT
TZOFFSETFROM:+0100
TZOFFSETTO:+0200
TZNAME:CEST
DTSTART:19700329T020000
RRULE:FREQ=YEARLY;INTERVAL=1;BYDAY=-1SU;BYMONTH=3
END:DAYLIGHT
BEGIN:STANDARD
TZOFFSETFROM:+0200
TZOFFSETTO:+0100
TZNAME:CET
DTSTART:19701025T030000
RRULE:FREQ=YEARLY;INTERVAL=1;BYDAY=-1SU;BYMONTH=10
END:STANDARD
END:VTIMEZONE
BEGIN:VEVENT
DTSTAMP:20260421T004140
DTSTART;TZID=Europe/Berlin:20261002T101500
DTEND;TZID=Europe/Berlin:20261002T111500
UID:W34136529-20261002T101500@VHSBÖBLINGEN-SINDELFINGEN
SUMMARY:TriloChi® - Harmonie in Bewegung (W34136529) 
LOCATION:SC_Bürgerhaus, Bürgersaal, Schulstr. 2, 71101 Schönaich
END:VEVENT
BEGIN:VEVENT
DTSTAMP:20260421T004140
DTSTART;TZID=Europe/Berlin:20261009T101500
DTEND;TZID=Europe/Berlin:20261009T111500
UID:W34136529-20261009T101500@VHSBÖBLINGEN-SINDELFINGEN
SUMMARY:TriloChi® - Harmonie in Bewegung (W34136529) 
LOCATION:SC_Bürgerhaus, Bürgersaal, Schulstr. 2, 71101 Schönaich
END:VEVENT
BEGIN:VEVENT
DTSTAMP:20260421T004140
DTSTART;TZID=Europe/Berlin:20261016T101500
DTEND;TZID=Europe/Berlin:20261016T111500
UID:W34136529-20261016T101500@VHSBÖBLINGEN-SINDELFINGEN
SUMMARY:TriloChi® - Harmonie in Bewegung (W34136529) 
LOCATION:SC_Bürgerhaus, Bürgersaal, Schulstr. 2, 71101 Schönaich
END:VEVENT
BEGIN:VEVENT
DTSTAMP:20260421T004140
DTSTART;TZID=Europe/Berlin:20261023T101500
DTEND;TZID=Europe/Berlin:20261023T111500
UID:W34136529-20261023T101500@VHSBÖBLINGEN-SINDELFINGEN
SUMMARY:TriloChi® - Harmonie in Bewegung (W34136529) 
LOCATION:SC_Bürgerhaus, Bürgersaal, Schulstr. 2, 71101 Schönaich
END:VEVENT
BEGIN:VEVENT
DTSTAMP:20260421T004140
DTSTART;TZID=Europe/Berlin:20261106T101500
DTEND;TZID=Europe/Berlin:20261106T111500
UID:W34136529-20261106T101500@VHSBÖBLINGEN-SINDELFINGEN
SUMMARY:TriloChi® - Harmonie in Bewegung (W34136529) 
LOCATION:SC_Bürgerhaus, Bürgersaal, Schulstr. 2, 71101 Schönaich
END:VEVENT
BEGIN:VEVENT
DTSTAMP:20260421T004140
DTSTART;TZID=Europe/Berlin:20261113T101500
DTEND;TZID=Europe/Berlin:20261113T111500
UID:W34136529-20261113T101500@VHSBÖBLINGEN-SINDELFINGEN
SUMMARY:TriloChi® - Harmonie in Bewegung (W34136529) 
LOCATION:SC_Bürgerhaus, Bürgersaal, Schulstr. 2, 71101 Schönaich
END:VEVENT
BEGIN:VEVENT
DTSTAMP:20260421T004140
DTSTART;TZID=Europe/Berlin:20261120T101500
DTEND;TZID=Europe/Berlin:20261120T111500
UID:W34136529-20261120T101500@VHSBÖBLINGEN-SINDELFINGEN
SUMMARY:TriloChi® - Harmonie in Bewegung (W34136529) 
LOCATION:SC_Bürgerhaus, Bürgersaal, Schulstr. 2, 71101 Schönaich
END:VEVENT
BEGIN:VEVENT
DTSTAMP:20260421T004140
DTSTART;TZID=Europe/Berlin:20261127T101500
DTEND;TZID=Europe/Berlin:20261127T111500
UID:W34136529-20261127T101500@VHSBÖBLINGEN-SINDELFINGEN
SUMMARY:TriloChi® - Harmonie in Bewegung (W34136529) 
LOCATION:SC_Bürgerhaus, Bürgersaal, Schulstr. 2, 71101 Schönaich
END:VEVENT
BEGIN:VEVENT
DTSTAMP:20260421T004140
DTSTART;TZID=Europe/Berlin:20261204T101500
DTEND;TZID=Europe/Berlin:20261204T111500
UID:W34136529-20261204T101500@VHSBÖBLINGEN-SINDELFINGEN
SUMMARY:TriloChi® - Harmonie in Bewegung (W34136529) 
LOCATION:SC_Bürgerhaus, Bürgersaal, Schulstr. 2, 71101 Schönaich
END:VEVENT
BEGIN:VEVENT
DTSTAMP:20260421T004140
DTSTART;TZID=Europe/Berlin:20261211T101500
DTEND;TZID=Europe/Berlin:20261211T111500
UID:W34136529-20261211T101500@VHSBÖBLINGEN-SINDELFINGEN
SUMMARY:TriloChi® - Harmonie in Bewegung (W34136529) 
LOCATION:SC_Bürgerhaus, Bürgersaal, Schulstr. 2, 71101 Schönaich
END:VEVENT
BEGIN:VEVENT
DTSTAMP:20260421T004140
DTSTART;TZID=Europe/Berlin:20261218T101500
DTEND;TZID=Europe/Berlin:20261218T111500
UID:W34136529-20261218T101500@VHSBÖBLINGEN-SINDELFINGEN
SUMMARY:TriloChi® - Harmonie in Bewegung (W34136529) 
LOCATION:SC_Bürgerhaus, Bürgersaal, Schulstr. 2, 71101 Schönaich
END:VEVENT
BEGIN:VEVENT
DTSTAMP:20260421T004140
DTSTART;TZID=Europe/Berlin:20270115T101500
DTEND;TZID=Europe/Berlin:20270115T111500
UID:W34136529-20270115T101500@VHSBÖBLINGEN-SINDELFINGEN
SUMMARY:TriloChi® - Harmonie in Bewegung (W34136529) 
LOCATION:SC_Bürgerhaus, Bürgersaal, Schulstr. 2, 71101 Schönaich
END:VEVENT
BEGIN:VEVENT
DTSTAMP:20260421T004140
DTSTART;TZID=Europe/Berlin:20270122T101500
DTEND;TZID=Europe/Berlin:20270122T111500
UID:W34136529-20270122T101500@VHSBÖBLINGEN-SINDELFINGEN
SUMMARY:TriloChi® - Harmonie in Bewegung (W34136529) 
LOCATION:SC_Bürgerhaus, Bürgersaal, Schulstr. 2, 71101 Schönaich
END:VEVENT
BEGIN:VEVENT
DTSTAMP:20260421T004140
DTSTART;TZID=Europe/Berlin:20270129T101500
DTEND;TZID=Europe/Berlin:20270129T111500
UID:W34136529-20270129T101500@VHSBÖBLINGEN-SINDELFINGEN
SUMMARY:TriloChi® - Harmonie in Bewegung (W34136529) 
LOCATION:SC_Bürgerhaus, Bürgersaal, Schulstr. 2, 71101 Schönaich
END:VEVENT
BEGIN:VEVENT
DTSTAMP:20260421T004140
DTSTART;TZID=Europe/Berlin:20270205T101500
DTEND;TZID=Europe/Berlin:20270205T111500
UID:W34136529-20270205T101500@VHSBÖBLINGEN-SINDELFINGEN
SUMMARY:TriloChi® - Harmonie in Bewegung (W34136529) 
LOCATION:SC_Bürgerhaus, Bürgersaal, Schulstr. 2, 71101 Schönaich
END:VEVENT
END:VCALENDAR