BEGIN:VCALENDAR
VERSION:2.0
PRODID:https://www.kufer.de/kuferweb / DE
METHOD:PUBLISH
CALSCALE:GREGORIAN
X-WR-TIMEZONE:Europe/Berlin
BEGIN:VTIMEZONE
TZID:Europe/Berlin
X-LIC-LOCATION:Europe/Berlin
BEGIN:DAYLIGHT
TZOFFSETFROM:+0100
TZOFFSETTO:+0200
TZNAME:CEST
DTSTART:19700329T020000
RRULE:FREQ=YEARLY;INTERVAL=1;BYDAY=-1SU;BYMONTH=3
END:DAYLIGHT
BEGIN:STANDARD
TZOFFSETFROM:+0200
TZOFFSETTO:+0100
TZNAME:CET
DTSTART:19701025T030000
RRULE:FREQ=YEARLY;INTERVAL=1;BYDAY=-1SU;BYMONTH=10
END:STANDARD
END:VTIMEZONE
BEGIN:VEVENT
DTSTAMP:20260421T041447
DTSTART;TZID=Europe/Berlin:20260915T193000
DTEND;TZID=Europe/Berlin:20260915T203000
UID:W33735829-20260915T193000@VHSBÖBLINGEN-SINDELFINGEN
SUMMARY:Gymnastik für Gesundheit und Fitness für Frauen ab 60 Jahre (W33735829) 
LOCATION:SC, Gemeindehalle, Kleiner Saal, Im Hasenbühl 7, 71101 Schönaich
END:VEVENT
BEGIN:VEVENT
DTSTAMP:20260421T041447
DTSTART;TZID=Europe/Berlin:20260922T193000
DTEND;TZID=Europe/Berlin:20260922T203000
UID:W33735829-20260922T193000@VHSBÖBLINGEN-SINDELFINGEN
SUMMARY:Gymnastik für Gesundheit und Fitness für Frauen ab 60 Jahre (W33735829) 
LOCATION:SC, Gemeindehalle, Kleiner Saal, Im Hasenbühl 7, 71101 Schönaich
END:VEVENT
BEGIN:VEVENT
DTSTAMP:20260421T041447
DTSTART;TZID=Europe/Berlin:20260929T193000
DTEND;TZID=Europe/Berlin:20260929T203000
UID:W33735829-20260929T193000@VHSBÖBLINGEN-SINDELFINGEN
SUMMARY:Gymnastik für Gesundheit und Fitness für Frauen ab 60 Jahre (W33735829) 
LOCATION:SC, Gemeindehalle, Kleiner Saal, Im Hasenbühl 7, 71101 Schönaich
END:VEVENT
BEGIN:VEVENT
DTSTAMP:20260421T041447
DTSTART;TZID=Europe/Berlin:20261006T193000
DTEND;TZID=Europe/Berlin:20261006T203000
UID:W33735829-20261006T193000@VHSBÖBLINGEN-SINDELFINGEN
SUMMARY:Gymnastik für Gesundheit und Fitness für Frauen ab 60 Jahre (W33735829) 
LOCATION:SC, Gemeindehalle, Kleiner Saal, Im Hasenbühl 7, 71101 Schönaich
END:VEVENT
BEGIN:VEVENT
DTSTAMP:20260421T041447
DTSTART;TZID=Europe/Berlin:20261013T193000
DTEND;TZID=Europe/Berlin:20261013T203000
UID:W33735829-20261013T193000@VHSBÖBLINGEN-SINDELFINGEN
SUMMARY:Gymnastik für Gesundheit und Fitness für Frauen ab 60 Jahre (W33735829) 
LOCATION:SC, Gemeindehalle, Kleiner Saal, Im Hasenbühl 7, 71101 Schönaich
END:VEVENT
BEGIN:VEVENT
DTSTAMP:20260421T041447
DTSTART;TZID=Europe/Berlin:20261020T193000
DTEND;TZID=Europe/Berlin:20261020T203000
UID:W33735829-20261020T193000@VHSBÖBLINGEN-SINDELFINGEN
SUMMARY:Gymnastik für Gesundheit und Fitness für Frauen ab 60 Jahre (W33735829) 
LOCATION:SC, Gemeindehalle, Kleiner Saal, Im Hasenbühl 7, 71101 Schönaich
END:VEVENT
BEGIN:VEVENT
DTSTAMP:20260421T041447
DTSTART;TZID=Europe/Berlin:20261103T193000
DTEND;TZID=Europe/Berlin:20261103T203000
UID:W33735829-20261103T193000@VHSBÖBLINGEN-SINDELFINGEN
SUMMARY:Gymnastik für Gesundheit und Fitness für Frauen ab 60 Jahre (W33735829) 
LOCATION:SC, Gemeindehalle, Kleiner Saal, Im Hasenbühl 7, 71101 Schönaich
END:VEVENT
BEGIN:VEVENT
DTSTAMP:20260421T041447
DTSTART;TZID=Europe/Berlin:20261110T193000
DTEND;TZID=Europe/Berlin:20261110T203000
UID:W33735829-20261110T193000@VHSBÖBLINGEN-SINDELFINGEN
SUMMARY:Gymnastik für Gesundheit und Fitness für Frauen ab 60 Jahre (W33735829) 
LOCATION:SC, Gemeindehalle, Kleiner Saal, Im Hasenbühl 7, 71101 Schönaich
END:VEVENT
BEGIN:VEVENT
DTSTAMP:20260421T041447
DTSTART;TZID=Europe/Berlin:20261117T193000
DTEND;TZID=Europe/Berlin:20261117T203000
UID:W33735829-20261117T193000@VHSBÖBLINGEN-SINDELFINGEN
SUMMARY:Gymnastik für Gesundheit und Fitness für Frauen ab 60 Jahre (W33735829) 
LOCATION:SC, Gemeindehalle, Kleiner Saal, Im Hasenbühl 7, 71101 Schönaich
END:VEVENT
BEGIN:VEVENT
DTSTAMP:20260421T041447
DTSTART;TZID=Europe/Berlin:20261124T193000
DTEND;TZID=Europe/Berlin:20261124T203000
UID:W33735829-20261124T193000@VHSBÖBLINGEN-SINDELFINGEN
SUMMARY:Gymnastik für Gesundheit und Fitness für Frauen ab 60 Jahre (W33735829) 
LOCATION:SC, Gemeindehalle, Kleiner Saal, Im Hasenbühl 7, 71101 Schönaich
END:VEVENT
BEGIN:VEVENT
DTSTAMP:20260421T041447
DTSTART;TZID=Europe/Berlin:20261201T193000
DTEND;TZID=Europe/Berlin:20261201T203000
UID:W33735829-20261201T193000@VHSBÖBLINGEN-SINDELFINGEN
SUMMARY:Gymnastik für Gesundheit und Fitness für Frauen ab 60 Jahre (W33735829) 
LOCATION:SC, Gemeindehalle, Kleiner Saal, Im Hasenbühl 7, 71101 Schönaich
END:VEVENT
BEGIN:VEVENT
DTSTAMP:20260421T041447
DTSTART;TZID=Europe/Berlin:20261208T193000
DTEND;TZID=Europe/Berlin:20261208T203000
UID:W33735829-20261208T193000@VHSBÖBLINGEN-SINDELFINGEN
SUMMARY:Gymnastik für Gesundheit und Fitness für Frauen ab 60 Jahre (W33735829) 
LOCATION:SC, Gemeindehalle, Kleiner Saal, Im Hasenbühl 7, 71101 Schönaich
END:VEVENT
BEGIN:VEVENT
DTSTAMP:20260421T041447
DTSTART;TZID=Europe/Berlin:20261215T193000
DTEND;TZID=Europe/Berlin:20261215T203000
UID:W33735829-20261215T193000@VHSBÖBLINGEN-SINDELFINGEN
SUMMARY:Gymnastik für Gesundheit und Fitness für Frauen ab 60 Jahre (W33735829) 
LOCATION:SC, Gemeindehalle, Kleiner Saal, Im Hasenbühl 7, 71101 Schönaich
END:VEVENT
BEGIN:VEVENT
DTSTAMP:20260421T041447
DTSTART;TZID=Europe/Berlin:20270112T193000
DTEND;TZID=Europe/Berlin:20270112T203000
UID:W33735829-20270112T193000@VHSBÖBLINGEN-SINDELFINGEN
SUMMARY:Gymnastik für Gesundheit und Fitness für Frauen ab 60 Jahre (W33735829) 
LOCATION:SC, Gemeindehalle, Kleiner Saal, Im Hasenbühl 7, 71101 Schönaich
END:VEVENT
BEGIN:VEVENT
DTSTAMP:20260421T041447
DTSTART;TZID=Europe/Berlin:20270119T193000
DTEND;TZID=Europe/Berlin:20270119T203000
UID:W33735829-20270119T193000@VHSBÖBLINGEN-SINDELFINGEN
SUMMARY:Gymnastik für Gesundheit und Fitness für Frauen ab 60 Jahre (W33735829) 
LOCATION:SC, Gemeindehalle, Kleiner Saal, Im Hasenbühl 7, 71101 Schönaich
END:VEVENT
BEGIN:VEVENT
DTSTAMP:20260421T041447
DTSTART;TZID=Europe/Berlin:20270126T193000
DTEND;TZID=Europe/Berlin:20270126T203000
UID:W33735829-20270126T193000@VHSBÖBLINGEN-SINDELFINGEN
SUMMARY:Gymnastik für Gesundheit und Fitness für Frauen ab 60 Jahre (W33735829) 
LOCATION:SC, Gemeindehalle, Kleiner Saal, Im Hasenbühl 7, 71101 Schönaich
END:VEVENT
BEGIN:VEVENT
DTSTAMP:20260421T041447
DTSTART;TZID=Europe/Berlin:20270202T193000
DTEND;TZID=Europe/Berlin:20270202T203000
UID:W33735829-20270202T193000@VHSBÖBLINGEN-SINDELFINGEN
SUMMARY:Gymnastik für Gesundheit und Fitness für Frauen ab 60 Jahre (W33735829) 
LOCATION:SC, Gemeindehalle, Kleiner Saal, Im Hasenbühl 7, 71101 Schönaich
END:VEVENT
END:VCALENDAR