BEGIN:VCALENDAR
VERSION:2.0
PRODID:https://www.kufer.de/kuferweb / DE
METHOD:PUBLISH
CALSCALE:GREGORIAN
X-WR-TIMEZONE:Europe/Berlin
BEGIN:VTIMEZONE
TZID:Europe/Berlin
X-LIC-LOCATION:Europe/Berlin
BEGIN:DAYLIGHT
TZOFFSETFROM:+0100
TZOFFSETTO:+0200
TZNAME:CEST
DTSTART:19700329T020000
RRULE:FREQ=YEARLY;INTERVAL=1;BYDAY=-1SU;BYMONTH=3
END:DAYLIGHT
BEGIN:STANDARD
TZOFFSETFROM:+0200
TZOFFSETTO:+0100
TZNAME:CET
DTSTART:19701025T030000
RRULE:FREQ=YEARLY;INTERVAL=1;BYDAY=-1SU;BYMONTH=10
END:STANDARD
END:VTIMEZONE
BEGIN:VEVENT
DTSTAMP:20260420T220509
DTSTART;TZID=Europe/Berlin:20260916T185500
DTEND;TZID=Europe/Berlin:20260916T195500
UID:W33657010-20260916T185500@VHSBÖBLINGEN-SINDELFINGEN
SUMMARY:Rücken- und Beckenbodengymnastik mit Stärkung der inneren Stabilität (W33657010) 
LOCATION:vhs.Werk, Halle 2, Wurmbergstr. 5, 71063 Sindelfingen
END:VEVENT
BEGIN:VEVENT
DTSTAMP:20260420T220509
DTSTART;TZID=Europe/Berlin:20260923T185500
DTEND;TZID=Europe/Berlin:20260923T195500
UID:W33657010-20260923T185500@VHSBÖBLINGEN-SINDELFINGEN
SUMMARY:Rücken- und Beckenbodengymnastik mit Stärkung der inneren Stabilität (W33657010) 
LOCATION:vhs.Werk, Halle 2, Wurmbergstr. 5, 71063 Sindelfingen
END:VEVENT
BEGIN:VEVENT
DTSTAMP:20260420T220509
DTSTART;TZID=Europe/Berlin:20260930T185500
DTEND;TZID=Europe/Berlin:20260930T195500
UID:W33657010-20260930T185500@VHSBÖBLINGEN-SINDELFINGEN
SUMMARY:Rücken- und Beckenbodengymnastik mit Stärkung der inneren Stabilität (W33657010) 
LOCATION:vhs.Werk, Halle 2, Wurmbergstr. 5, 71063 Sindelfingen
END:VEVENT
BEGIN:VEVENT
DTSTAMP:20260420T220509
DTSTART;TZID=Europe/Berlin:20261007T185500
DTEND;TZID=Europe/Berlin:20261007T195500
UID:W33657010-20261007T185500@VHSBÖBLINGEN-SINDELFINGEN
SUMMARY:Rücken- und Beckenbodengymnastik mit Stärkung der inneren Stabilität (W33657010) 
LOCATION:vhs.Werk, Halle 2, Wurmbergstr. 5, 71063 Sindelfingen
END:VEVENT
BEGIN:VEVENT
DTSTAMP:20260420T220509
DTSTART;TZID=Europe/Berlin:20261014T185500
DTEND;TZID=Europe/Berlin:20261014T195500
UID:W33657010-20261014T185500@VHSBÖBLINGEN-SINDELFINGEN
SUMMARY:Rücken- und Beckenbodengymnastik mit Stärkung der inneren Stabilität (W33657010) 
LOCATION:vhs.Werk, Halle 2, Wurmbergstr. 5, 71063 Sindelfingen
END:VEVENT
BEGIN:VEVENT
DTSTAMP:20260420T220509
DTSTART;TZID=Europe/Berlin:20261021T185500
DTEND;TZID=Europe/Berlin:20261021T195500
UID:W33657010-20261021T185500@VHSBÖBLINGEN-SINDELFINGEN
SUMMARY:Rücken- und Beckenbodengymnastik mit Stärkung der inneren Stabilität (W33657010) 
LOCATION:vhs.Werk, Halle 2, Wurmbergstr. 5, 71063 Sindelfingen
END:VEVENT
BEGIN:VEVENT
DTSTAMP:20260420T220509
DTSTART;TZID=Europe/Berlin:20261104T185500
DTEND;TZID=Europe/Berlin:20261104T195500
UID:W33657010-20261104T185500@VHSBÖBLINGEN-SINDELFINGEN
SUMMARY:Rücken- und Beckenbodengymnastik mit Stärkung der inneren Stabilität (W33657010) 
LOCATION:vhs.Werk, Halle 2, Wurmbergstr. 5, 71063 Sindelfingen
END:VEVENT
BEGIN:VEVENT
DTSTAMP:20260420T220509
DTSTART;TZID=Europe/Berlin:20261111T185500
DTEND;TZID=Europe/Berlin:20261111T195500
UID:W33657010-20261111T185500@VHSBÖBLINGEN-SINDELFINGEN
SUMMARY:Rücken- und Beckenbodengymnastik mit Stärkung der inneren Stabilität (W33657010) 
LOCATION:vhs.Werk, Halle 2, Wurmbergstr. 5, 71063 Sindelfingen
END:VEVENT
BEGIN:VEVENT
DTSTAMP:20260420T220509
DTSTART;TZID=Europe/Berlin:20261118T185500
DTEND;TZID=Europe/Berlin:20261118T195500
UID:W33657010-20261118T185500@VHSBÖBLINGEN-SINDELFINGEN
SUMMARY:Rücken- und Beckenbodengymnastik mit Stärkung der inneren Stabilität (W33657010) 
LOCATION:vhs.Werk, Halle 2, Wurmbergstr. 5, 71063 Sindelfingen
END:VEVENT
BEGIN:VEVENT
DTSTAMP:20260420T220509
DTSTART;TZID=Europe/Berlin:20261125T185500
DTEND;TZID=Europe/Berlin:20261125T195500
UID:W33657010-20261125T185500@VHSBÖBLINGEN-SINDELFINGEN
SUMMARY:Rücken- und Beckenbodengymnastik mit Stärkung der inneren Stabilität (W33657010) 
LOCATION:vhs.Werk, Halle 2, Wurmbergstr. 5, 71063 Sindelfingen
END:VEVENT
BEGIN:VEVENT
DTSTAMP:20260420T220509
DTSTART;TZID=Europe/Berlin:20261202T185500
DTEND;TZID=Europe/Berlin:20261202T195500
UID:W33657010-20261202T185500@VHSBÖBLINGEN-SINDELFINGEN
SUMMARY:Rücken- und Beckenbodengymnastik mit Stärkung der inneren Stabilität (W33657010) 
LOCATION:vhs.Werk, Halle 2, Wurmbergstr. 5, 71063 Sindelfingen
END:VEVENT
BEGIN:VEVENT
DTSTAMP:20260420T220509
DTSTART;TZID=Europe/Berlin:20261209T185500
DTEND;TZID=Europe/Berlin:20261209T195500
UID:W33657010-20261209T185500@VHSBÖBLINGEN-SINDELFINGEN
SUMMARY:Rücken- und Beckenbodengymnastik mit Stärkung der inneren Stabilität (W33657010) 
LOCATION:vhs.Werk, Halle 2, Wurmbergstr. 5, 71063 Sindelfingen
END:VEVENT
BEGIN:VEVENT
DTSTAMP:20260420T220509
DTSTART;TZID=Europe/Berlin:20261216T185500
DTEND;TZID=Europe/Berlin:20261216T195500
UID:W33657010-20261216T185500@VHSBÖBLINGEN-SINDELFINGEN
SUMMARY:Rücken- und Beckenbodengymnastik mit Stärkung der inneren Stabilität (W33657010) 
LOCATION:vhs.Werk, Halle 2, Wurmbergstr. 5, 71063 Sindelfingen
END:VEVENT
BEGIN:VEVENT
DTSTAMP:20260420T220509
DTSTART;TZID=Europe/Berlin:20270113T185500
DTEND;TZID=Europe/Berlin:20270113T195500
UID:W33657010-20270113T185500@VHSBÖBLINGEN-SINDELFINGEN
SUMMARY:Rücken- und Beckenbodengymnastik mit Stärkung der inneren Stabilität (W33657010) 
LOCATION:vhs.Werk, Halle 2, Wurmbergstr. 5, 71063 Sindelfingen
END:VEVENT
BEGIN:VEVENT
DTSTAMP:20260420T220509
DTSTART;TZID=Europe/Berlin:20270120T185500
DTEND;TZID=Europe/Berlin:20270120T195500
UID:W33657010-20270120T185500@VHSBÖBLINGEN-SINDELFINGEN
SUMMARY:Rücken- und Beckenbodengymnastik mit Stärkung der inneren Stabilität (W33657010) 
LOCATION:vhs.Werk, Halle 2, Wurmbergstr. 5, 71063 Sindelfingen
END:VEVENT
BEGIN:VEVENT
DTSTAMP:20260420T220509
DTSTART;TZID=Europe/Berlin:20270127T185500
DTEND;TZID=Europe/Berlin:20270127T195500
UID:W33657010-20270127T185500@VHSBÖBLINGEN-SINDELFINGEN
SUMMARY:Rücken- und Beckenbodengymnastik mit Stärkung der inneren Stabilität (W33657010) 
LOCATION:vhs.Werk, Halle 2, Wurmbergstr. 5, 71063 Sindelfingen
END:VEVENT
BEGIN:VEVENT
DTSTAMP:20260420T220509
DTSTART;TZID=Europe/Berlin:20270203T185500
DTEND;TZID=Europe/Berlin:20270203T195500
UID:W33657010-20270203T185500@VHSBÖBLINGEN-SINDELFINGEN
SUMMARY:Rücken- und Beckenbodengymnastik mit Stärkung der inneren Stabilität (W33657010) 
LOCATION:vhs.Werk, Halle 2, Wurmbergstr. 5, 71063 Sindelfingen
END:VEVENT
END:VCALENDAR