BEGIN:VCALENDAR
VERSION:2.0
PRODID:https://www.kufer.de/kuferweb / DE
METHOD:PUBLISH
CALSCALE:GREGORIAN
X-WR-TIMEZONE:Europe/Berlin
BEGIN:VTIMEZONE
TZID:Europe/Berlin
X-LIC-LOCATION:Europe/Berlin
BEGIN:DAYLIGHT
TZOFFSETFROM:+0100
TZOFFSETTO:+0200
TZNAME:CEST
DTSTART:19700329T020000
RRULE:FREQ=YEARLY;INTERVAL=1;BYDAY=-1SU;BYMONTH=3
END:DAYLIGHT
BEGIN:STANDARD
TZOFFSETFROM:+0200
TZOFFSETTO:+0100
TZNAME:CET
DTSTART:19701025T030000
RRULE:FREQ=YEARLY;INTERVAL=1;BYDAY=-1SU;BYMONTH=10
END:STANDARD
END:VTIMEZONE
BEGIN:VEVENT
DTSTAMP:20260421T074349
DTSTART;TZID=Europe/Berlin:20261007T101500
DTEND;TZID=Europe/Berlin:20261007T111500
UID:W33644221-20261007T101500@VHSBÖBLINGEN-SINDELFINGEN
SUMMARY:Rund um den Beckenboden - ganzheitliches Beckenbodentraining (W33644221) 
LOCATION:HO, Rektor-Franke-Haus, Saal, Böblinger Str. 28, 71088 Holzgerlingen
END:VEVENT
BEGIN:VEVENT
DTSTAMP:20260421T074349
DTSTART;TZID=Europe/Berlin:20261014T101500
DTEND;TZID=Europe/Berlin:20261014T111500
UID:W33644221-20261014T101500@VHSBÖBLINGEN-SINDELFINGEN
SUMMARY:Rund um den Beckenboden - ganzheitliches Beckenbodentraining (W33644221) 
LOCATION:HO, Rektor-Franke-Haus, Saal, Böblinger Str. 28, 71088 Holzgerlingen
END:VEVENT
BEGIN:VEVENT
DTSTAMP:20260421T074349
DTSTART;TZID=Europe/Berlin:20261021T101500
DTEND;TZID=Europe/Berlin:20261021T111500
UID:W33644221-20261021T101500@VHSBÖBLINGEN-SINDELFINGEN
SUMMARY:Rund um den Beckenboden - ganzheitliches Beckenbodentraining (W33644221) 
LOCATION:HO, Rektor-Franke-Haus, Saal, Böblinger Str. 28, 71088 Holzgerlingen
END:VEVENT
BEGIN:VEVENT
DTSTAMP:20260421T074349
DTSTART;TZID=Europe/Berlin:20261104T101500
DTEND;TZID=Europe/Berlin:20261104T111500
UID:W33644221-20261104T101500@VHSBÖBLINGEN-SINDELFINGEN
SUMMARY:Rund um den Beckenboden - ganzheitliches Beckenbodentraining (W33644221) 
LOCATION:HO, Rektor-Franke-Haus, Saal, Böblinger Str. 28, 71088 Holzgerlingen
END:VEVENT
BEGIN:VEVENT
DTSTAMP:20260421T074349
DTSTART;TZID=Europe/Berlin:20261111T101500
DTEND;TZID=Europe/Berlin:20261111T111500
UID:W33644221-20261111T101500@VHSBÖBLINGEN-SINDELFINGEN
SUMMARY:Rund um den Beckenboden - ganzheitliches Beckenbodentraining (W33644221) 
LOCATION:HO, Rektor-Franke-Haus, Saal, Böblinger Str. 28, 71088 Holzgerlingen
END:VEVENT
BEGIN:VEVENT
DTSTAMP:20260421T074349
DTSTART;TZID=Europe/Berlin:20261118T101500
DTEND;TZID=Europe/Berlin:20261118T111500
UID:W33644221-20261118T101500@VHSBÖBLINGEN-SINDELFINGEN
SUMMARY:Rund um den Beckenboden - ganzheitliches Beckenbodentraining (W33644221) 
LOCATION:HO, Rektor-Franke-Haus, Saal, Böblinger Str. 28, 71088 Holzgerlingen
END:VEVENT
BEGIN:VEVENT
DTSTAMP:20260421T074349
DTSTART;TZID=Europe/Berlin:20261125T101500
DTEND;TZID=Europe/Berlin:20261125T111500
UID:W33644221-20261125T101500@VHSBÖBLINGEN-SINDELFINGEN
SUMMARY:Rund um den Beckenboden - ganzheitliches Beckenbodentraining (W33644221) 
LOCATION:HO, Rektor-Franke-Haus, Saal, Böblinger Str. 28, 71088 Holzgerlingen
END:VEVENT
BEGIN:VEVENT
DTSTAMP:20260421T074349
DTSTART;TZID=Europe/Berlin:20261202T101500
DTEND;TZID=Europe/Berlin:20261202T111500
UID:W33644221-20261202T101500@VHSBÖBLINGEN-SINDELFINGEN
SUMMARY:Rund um den Beckenboden - ganzheitliches Beckenbodentraining (W33644221) 
LOCATION:HO, Rektor-Franke-Haus, Saal, Böblinger Str. 28, 71088 Holzgerlingen
END:VEVENT
BEGIN:VEVENT
DTSTAMP:20260421T074349
DTSTART;TZID=Europe/Berlin:20261209T101500
DTEND;TZID=Europe/Berlin:20261209T111500
UID:W33644221-20261209T101500@VHSBÖBLINGEN-SINDELFINGEN
SUMMARY:Rund um den Beckenboden - ganzheitliches Beckenbodentraining (W33644221) 
LOCATION:HO, Rektor-Franke-Haus, Saal, Böblinger Str. 28, 71088 Holzgerlingen
END:VEVENT
BEGIN:VEVENT
DTSTAMP:20260421T074349
DTSTART;TZID=Europe/Berlin:20261216T101500
DTEND;TZID=Europe/Berlin:20261216T111500
UID:W33644221-20261216T101500@VHSBÖBLINGEN-SINDELFINGEN
SUMMARY:Rund um den Beckenboden - ganzheitliches Beckenbodentraining (W33644221) 
LOCATION:HO, Rektor-Franke-Haus, Saal, Böblinger Str. 28, 71088 Holzgerlingen
END:VEVENT
END:VCALENDAR