BEGIN:VCALENDAR
VERSION:2.0
PRODID:https://www.kufer.de/kuferweb / DE
METHOD:PUBLISH
CALSCALE:GREGORIAN
X-WR-TIMEZONE:Europe/Berlin
BEGIN:VTIMEZONE
TZID:Europe/Berlin
X-LIC-LOCATION:Europe/Berlin
BEGIN:DAYLIGHT
TZOFFSETFROM:+0100
TZOFFSETTO:+0200
TZNAME:CEST
DTSTART:19700329T020000
RRULE:FREQ=YEARLY;INTERVAL=1;BYDAY=-1SU;BYMONTH=3
END:DAYLIGHT
BEGIN:STANDARD
TZOFFSETFROM:+0200
TZOFFSETTO:+0100
TZNAME:CET
DTSTART:19701025T030000
RRULE:FREQ=YEARLY;INTERVAL=1;BYDAY=-1SU;BYMONTH=10
END:STANDARD
END:VTIMEZONE
BEGIN:VEVENT
DTSTAMP:20260421T074403
DTSTART;TZID=Europe/Berlin:20261007T155000
DTEND;TZID=Europe/Berlin:20261007T165000
UID:W33644121-20261007T155000@VHSBÖBLINGEN-SINDELFINGEN
SUMMARY:Rund um den Beckenboden - ganzheitliches Beckenbodentraining (W33644121) 
LOCATION:HO, Rektor-Franke-Haus, Saal, Böblinger Str. 28, 71088 Holzgerlingen
END:VEVENT
BEGIN:VEVENT
DTSTAMP:20260421T074403
DTSTART;TZID=Europe/Berlin:20261014T155000
DTEND;TZID=Europe/Berlin:20261014T165000
UID:W33644121-20261014T155000@VHSBÖBLINGEN-SINDELFINGEN
SUMMARY:Rund um den Beckenboden - ganzheitliches Beckenbodentraining (W33644121) 
LOCATION:HO, Rektor-Franke-Haus, Saal, Böblinger Str. 28, 71088 Holzgerlingen
END:VEVENT
BEGIN:VEVENT
DTSTAMP:20260421T074403
DTSTART;TZID=Europe/Berlin:20261021T155000
DTEND;TZID=Europe/Berlin:20261021T165000
UID:W33644121-20261021T155000@VHSBÖBLINGEN-SINDELFINGEN
SUMMARY:Rund um den Beckenboden - ganzheitliches Beckenbodentraining (W33644121) 
LOCATION:HO, Rektor-Franke-Haus, Saal, Böblinger Str. 28, 71088 Holzgerlingen
END:VEVENT
BEGIN:VEVENT
DTSTAMP:20260421T074403
DTSTART;TZID=Europe/Berlin:20261104T155000
DTEND;TZID=Europe/Berlin:20261104T165000
UID:W33644121-20261104T155000@VHSBÖBLINGEN-SINDELFINGEN
SUMMARY:Rund um den Beckenboden - ganzheitliches Beckenbodentraining (W33644121) 
LOCATION:HO, Rektor-Franke-Haus, Saal, Böblinger Str. 28, 71088 Holzgerlingen
END:VEVENT
BEGIN:VEVENT
DTSTAMP:20260421T074403
DTSTART;TZID=Europe/Berlin:20261111T155000
DTEND;TZID=Europe/Berlin:20261111T165000
UID:W33644121-20261111T155000@VHSBÖBLINGEN-SINDELFINGEN
SUMMARY:Rund um den Beckenboden - ganzheitliches Beckenbodentraining (W33644121) 
LOCATION:HO, Rektor-Franke-Haus, Saal, Böblinger Str. 28, 71088 Holzgerlingen
END:VEVENT
BEGIN:VEVENT
DTSTAMP:20260421T074403
DTSTART;TZID=Europe/Berlin:20261118T155000
DTEND;TZID=Europe/Berlin:20261118T165000
UID:W33644121-20261118T155000@VHSBÖBLINGEN-SINDELFINGEN
SUMMARY:Rund um den Beckenboden - ganzheitliches Beckenbodentraining (W33644121) 
LOCATION:HO, Rektor-Franke-Haus, Saal, Böblinger Str. 28, 71088 Holzgerlingen
END:VEVENT
BEGIN:VEVENT
DTSTAMP:20260421T074403
DTSTART;TZID=Europe/Berlin:20261125T155000
DTEND;TZID=Europe/Berlin:20261125T165000
UID:W33644121-20261125T155000@VHSBÖBLINGEN-SINDELFINGEN
SUMMARY:Rund um den Beckenboden - ganzheitliches Beckenbodentraining (W33644121) 
LOCATION:HO, Rektor-Franke-Haus, Saal, Böblinger Str. 28, 71088 Holzgerlingen
END:VEVENT
BEGIN:VEVENT
DTSTAMP:20260421T074403
DTSTART;TZID=Europe/Berlin:20261202T155000
DTEND;TZID=Europe/Berlin:20261202T165000
UID:W33644121-20261202T155000@VHSBÖBLINGEN-SINDELFINGEN
SUMMARY:Rund um den Beckenboden - ganzheitliches Beckenbodentraining (W33644121) 
LOCATION:HO, Rektor-Franke-Haus, Saal, Böblinger Str. 28, 71088 Holzgerlingen
END:VEVENT
BEGIN:VEVENT
DTSTAMP:20260421T074403
DTSTART;TZID=Europe/Berlin:20261209T155000
DTEND;TZID=Europe/Berlin:20261209T165000
UID:W33644121-20261209T155000@VHSBÖBLINGEN-SINDELFINGEN
SUMMARY:Rund um den Beckenboden - ganzheitliches Beckenbodentraining (W33644121) 
LOCATION:HO, Rektor-Franke-Haus, Saal, Böblinger Str. 28, 71088 Holzgerlingen
END:VEVENT
BEGIN:VEVENT
DTSTAMP:20260421T074403
DTSTART;TZID=Europe/Berlin:20261216T155000
DTEND;TZID=Europe/Berlin:20261216T165000
UID:W33644121-20261216T155000@VHSBÖBLINGEN-SINDELFINGEN
SUMMARY:Rund um den Beckenboden - ganzheitliches Beckenbodentraining (W33644121) 
LOCATION:HO, Rektor-Franke-Haus, Saal, Böblinger Str. 28, 71088 Holzgerlingen
END:VEVENT
END:VCALENDAR