BEGIN:VCALENDAR
VERSION:2.0
PRODID:https://www.kufer.de/kuferweb / DE
METHOD:PUBLISH
CALSCALE:GREGORIAN
X-WR-TIMEZONE:Europe/Berlin
BEGIN:VTIMEZONE
TZID:Europe/Berlin
X-LIC-LOCATION:Europe/Berlin
BEGIN:DAYLIGHT
TZOFFSETFROM:+0100
TZOFFSETTO:+0200
TZNAME:CEST
DTSTART:19700329T020000
RRULE:FREQ=YEARLY;INTERVAL=1;BYDAY=-1SU;BYMONTH=3
END:DAYLIGHT
BEGIN:STANDARD
TZOFFSETFROM:+0200
TZOFFSETTO:+0100
TZNAME:CET
DTSTART:19701025T030000
RRULE:FREQ=YEARLY;INTERVAL=1;BYDAY=-1SU;BYMONTH=10
END:STANDARD
END:VTIMEZONE
BEGIN:VEVENT
DTSTAMP:20260420T221501
DTSTART;TZID=Europe/Berlin:20260921T173000
DTEND;TZID=Europe/Berlin:20260921T190000
UID:W33643121-20260921T173000@VHSBÖBLINGEN-SINDELFINGEN
SUMMARY:Rund um den Beckenboden - ganzheitliches Beckenbodentraining (W33643121) 
LOCATION:HO, Haus am Ziegelhof, Begegnungsstätte, Gymnastikraum, Eberhardstr. 21, 71088 Holzgerlingen
END:VEVENT
BEGIN:VEVENT
DTSTAMP:20260420T221501
DTSTART;TZID=Europe/Berlin:20260928T173000
DTEND;TZID=Europe/Berlin:20260928T190000
UID:W33643121-20260928T173000@VHSBÖBLINGEN-SINDELFINGEN
SUMMARY:Rund um den Beckenboden - ganzheitliches Beckenbodentraining (W33643121) 
LOCATION:HO, Haus am Ziegelhof, Begegnungsstätte, Gymnastikraum, Eberhardstr. 21, 71088 Holzgerlingen
END:VEVENT
BEGIN:VEVENT
DTSTAMP:20260420T221501
DTSTART;TZID=Europe/Berlin:20261005T173000
DTEND;TZID=Europe/Berlin:20261005T190000
UID:W33643121-20261005T173000@VHSBÖBLINGEN-SINDELFINGEN
SUMMARY:Rund um den Beckenboden - ganzheitliches Beckenbodentraining (W33643121) 
LOCATION:HO, Haus am Ziegelhof, Begegnungsstätte, Gymnastikraum, Eberhardstr. 21, 71088 Holzgerlingen
END:VEVENT
BEGIN:VEVENT
DTSTAMP:20260420T221501
DTSTART;TZID=Europe/Berlin:20261012T173000
DTEND;TZID=Europe/Berlin:20261012T190000
UID:W33643121-20261012T173000@VHSBÖBLINGEN-SINDELFINGEN
SUMMARY:Rund um den Beckenboden - ganzheitliches Beckenbodentraining (W33643121) 
LOCATION:HO, Haus am Ziegelhof, Begegnungsstätte, Gymnastikraum, Eberhardstr. 21, 71088 Holzgerlingen
END:VEVENT
BEGIN:VEVENT
DTSTAMP:20260420T221501
DTSTART;TZID=Europe/Berlin:20261019T173000
DTEND;TZID=Europe/Berlin:20261019T190000
UID:W33643121-20261019T173000@VHSBÖBLINGEN-SINDELFINGEN
SUMMARY:Rund um den Beckenboden - ganzheitliches Beckenbodentraining (W33643121) 
LOCATION:HO, Haus am Ziegelhof, Begegnungsstätte, Gymnastikraum, Eberhardstr. 21, 71088 Holzgerlingen
END:VEVENT
END:VCALENDAR