BEGIN:VCALENDAR
VERSION:2.0
PRODID:https://www.kufer.de/kuferweb / DE
METHOD:PUBLISH
CALSCALE:GREGORIAN
X-WR-TIMEZONE:Europe/Berlin
BEGIN:VTIMEZONE
TZID:Europe/Berlin
X-LIC-LOCATION:Europe/Berlin
BEGIN:DAYLIGHT
TZOFFSETFROM:+0100
TZOFFSETTO:+0200
TZNAME:CEST
DTSTART:19700329T020000
RRULE:FREQ=YEARLY;INTERVAL=1;BYDAY=-1SU;BYMONTH=3
END:DAYLIGHT
BEGIN:STANDARD
TZOFFSETFROM:+0200
TZOFFSETTO:+0100
TZNAME:CET
DTSTART:19701025T030000
RRULE:FREQ=YEARLY;INTERVAL=1;BYDAY=-1SU;BYMONTH=10
END:STANDARD
END:VTIMEZONE
BEGIN:VEVENT
DTSTAMP:20260421T003807
DTSTART;TZID=Europe/Berlin:20260915T181500
DTEND;TZID=Europe/Berlin:20260915T191500
UID:W33565024-20260915T181500@VHSBÖBLINGEN-SINDELFINGEN
SUMMARY:Rückenfit - Wirbelsäulengymnastik (W33565024) 
LOCATION:Bürgerhaus Maichingen, Übungsraum 1, Sindelfinger Str. 44, 71069 Sindelfingen
END:VEVENT
BEGIN:VEVENT
DTSTAMP:20260421T003807
DTSTART;TZID=Europe/Berlin:20260922T181500
DTEND;TZID=Europe/Berlin:20260922T191500
UID:W33565024-20260922T181500@VHSBÖBLINGEN-SINDELFINGEN
SUMMARY:Rückenfit - Wirbelsäulengymnastik (W33565024) 
LOCATION:Bürgerhaus Maichingen, Übungsraum 1, Sindelfinger Str. 44, 71069 Sindelfingen
END:VEVENT
BEGIN:VEVENT
DTSTAMP:20260421T003807
DTSTART;TZID=Europe/Berlin:20260929T181500
DTEND;TZID=Europe/Berlin:20260929T191500
UID:W33565024-20260929T181500@VHSBÖBLINGEN-SINDELFINGEN
SUMMARY:Rückenfit - Wirbelsäulengymnastik (W33565024) 
LOCATION:Bürgerhaus Maichingen, Übungsraum 1, Sindelfinger Str. 44, 71069 Sindelfingen
END:VEVENT
BEGIN:VEVENT
DTSTAMP:20260421T003807
DTSTART;TZID=Europe/Berlin:20261006T181500
DTEND;TZID=Europe/Berlin:20261006T191500
UID:W33565024-20261006T181500@VHSBÖBLINGEN-SINDELFINGEN
SUMMARY:Rückenfit - Wirbelsäulengymnastik (W33565024) 
LOCATION:Bürgerhaus Maichingen, Übungsraum 1, Sindelfinger Str. 44, 71069 Sindelfingen
END:VEVENT
BEGIN:VEVENT
DTSTAMP:20260421T003807
DTSTART;TZID=Europe/Berlin:20261013T181500
DTEND;TZID=Europe/Berlin:20261013T191500
UID:W33565024-20261013T181500@VHSBÖBLINGEN-SINDELFINGEN
SUMMARY:Rückenfit - Wirbelsäulengymnastik (W33565024) 
LOCATION:Bürgerhaus Maichingen, Übungsraum 1, Sindelfinger Str. 44, 71069 Sindelfingen
END:VEVENT
BEGIN:VEVENT
DTSTAMP:20260421T003807
DTSTART;TZID=Europe/Berlin:20261020T181500
DTEND;TZID=Europe/Berlin:20261020T191500
UID:W33565024-20261020T181500@VHSBÖBLINGEN-SINDELFINGEN
SUMMARY:Rückenfit - Wirbelsäulengymnastik (W33565024) 
LOCATION:Bürgerhaus Maichingen, Übungsraum 1, Sindelfinger Str. 44, 71069 Sindelfingen
END:VEVENT
BEGIN:VEVENT
DTSTAMP:20260421T003807
DTSTART;TZID=Europe/Berlin:20261103T181500
DTEND;TZID=Europe/Berlin:20261103T191500
UID:W33565024-20261103T181500@VHSBÖBLINGEN-SINDELFINGEN
SUMMARY:Rückenfit - Wirbelsäulengymnastik (W33565024) 
LOCATION:Bürgerhaus Maichingen, Übungsraum 1, Sindelfinger Str. 44, 71069 Sindelfingen
END:VEVENT
BEGIN:VEVENT
DTSTAMP:20260421T003807
DTSTART;TZID=Europe/Berlin:20261110T181500
DTEND;TZID=Europe/Berlin:20261110T191500
UID:W33565024-20261110T181500@VHSBÖBLINGEN-SINDELFINGEN
SUMMARY:Rückenfit - Wirbelsäulengymnastik (W33565024) 
LOCATION:Bürgerhaus Maichingen, Übungsraum 1, Sindelfinger Str. 44, 71069 Sindelfingen
END:VEVENT
BEGIN:VEVENT
DTSTAMP:20260421T003807
DTSTART;TZID=Europe/Berlin:20261117T181500
DTEND;TZID=Europe/Berlin:20261117T191500
UID:W33565024-20261117T181500@VHSBÖBLINGEN-SINDELFINGEN
SUMMARY:Rückenfit - Wirbelsäulengymnastik (W33565024) 
LOCATION:Bürgerhaus Maichingen, Übungsraum 1, Sindelfinger Str. 44, 71069 Sindelfingen
END:VEVENT
BEGIN:VEVENT
DTSTAMP:20260421T003807
DTSTART;TZID=Europe/Berlin:20261124T181500
DTEND;TZID=Europe/Berlin:20261124T191500
UID:W33565024-20261124T181500@VHSBÖBLINGEN-SINDELFINGEN
SUMMARY:Rückenfit - Wirbelsäulengymnastik (W33565024) 
LOCATION:Bürgerhaus Maichingen, Übungsraum 1, Sindelfinger Str. 44, 71069 Sindelfingen
END:VEVENT
BEGIN:VEVENT
DTSTAMP:20260421T003807
DTSTART;TZID=Europe/Berlin:20261201T181500
DTEND;TZID=Europe/Berlin:20261201T191500
UID:W33565024-20261201T181500@VHSBÖBLINGEN-SINDELFINGEN
SUMMARY:Rückenfit - Wirbelsäulengymnastik (W33565024) 
LOCATION:Bürgerhaus Maichingen, Übungsraum 1, Sindelfinger Str. 44, 71069 Sindelfingen
END:VEVENT
BEGIN:VEVENT
DTSTAMP:20260421T003807
DTSTART;TZID=Europe/Berlin:20261208T181500
DTEND;TZID=Europe/Berlin:20261208T191500
UID:W33565024-20261208T181500@VHSBÖBLINGEN-SINDELFINGEN
SUMMARY:Rückenfit - Wirbelsäulengymnastik (W33565024) 
LOCATION:Bürgerhaus Maichingen, Übungsraum 1, Sindelfinger Str. 44, 71069 Sindelfingen
END:VEVENT
BEGIN:VEVENT
DTSTAMP:20260421T003807
DTSTART;TZID=Europe/Berlin:20261215T181500
DTEND;TZID=Europe/Berlin:20261215T191500
UID:W33565024-20261215T181500@VHSBÖBLINGEN-SINDELFINGEN
SUMMARY:Rückenfit - Wirbelsäulengymnastik (W33565024) 
LOCATION:Bürgerhaus Maichingen, Übungsraum 1, Sindelfinger Str. 44, 71069 Sindelfingen
END:VEVENT
BEGIN:VEVENT
DTSTAMP:20260421T003807
DTSTART;TZID=Europe/Berlin:20261222T181500
DTEND;TZID=Europe/Berlin:20261222T191500
UID:W33565024-20261222T181500@VHSBÖBLINGEN-SINDELFINGEN
SUMMARY:Rückenfit - Wirbelsäulengymnastik (W33565024) 
LOCATION:Bürgerhaus Maichingen, Übungsraum 1, Sindelfinger Str. 44, 71069 Sindelfingen
END:VEVENT
BEGIN:VEVENT
DTSTAMP:20260421T003807
DTSTART;TZID=Europe/Berlin:20270112T181500
DTEND;TZID=Europe/Berlin:20270112T191500
UID:W33565024-20270112T181500@VHSBÖBLINGEN-SINDELFINGEN
SUMMARY:Rückenfit - Wirbelsäulengymnastik (W33565024) 
LOCATION:Bürgerhaus Maichingen, Übungsraum 1, Sindelfinger Str. 44, 71069 Sindelfingen
END:VEVENT
BEGIN:VEVENT
DTSTAMP:20260421T003807
DTSTART;TZID=Europe/Berlin:20270119T181500
DTEND;TZID=Europe/Berlin:20270119T191500
UID:W33565024-20270119T181500@VHSBÖBLINGEN-SINDELFINGEN
SUMMARY:Rückenfit - Wirbelsäulengymnastik (W33565024) 
LOCATION:Bürgerhaus Maichingen, Übungsraum 1, Sindelfinger Str. 44, 71069 Sindelfingen
END:VEVENT
BEGIN:VEVENT
DTSTAMP:20260421T003807
DTSTART;TZID=Europe/Berlin:20270126T181500
DTEND;TZID=Europe/Berlin:20270126T191500
UID:W33565024-20270126T181500@VHSBÖBLINGEN-SINDELFINGEN
SUMMARY:Rückenfit - Wirbelsäulengymnastik (W33565024) 
LOCATION:Bürgerhaus Maichingen, Übungsraum 1, Sindelfinger Str. 44, 71069 Sindelfingen
END:VEVENT
BEGIN:VEVENT
DTSTAMP:20260421T003807
DTSTART;TZID=Europe/Berlin:20270202T181500
DTEND;TZID=Europe/Berlin:20270202T191500
UID:W33565024-20270202T181500@VHSBÖBLINGEN-SINDELFINGEN
SUMMARY:Rückenfit - Wirbelsäulengymnastik (W33565024) 
LOCATION:Bürgerhaus Maichingen, Übungsraum 1, Sindelfinger Str. 44, 71069 Sindelfingen
END:VEVENT
END:VCALENDAR