BEGIN:VCALENDAR
VERSION:2.0
PRODID:https://www.kufer.de/kuferweb / DE
METHOD:PUBLISH
CALSCALE:GREGORIAN
X-WR-TIMEZONE:Europe/Berlin
BEGIN:VTIMEZONE
TZID:Europe/Berlin
X-LIC-LOCATION:Europe/Berlin
BEGIN:DAYLIGHT
TZOFFSETFROM:+0100
TZOFFSETTO:+0200
TZNAME:CEST
DTSTART:19700329T020000
RRULE:FREQ=YEARLY;INTERVAL=1;BYDAY=-1SU;BYMONTH=3
END:DAYLIGHT
BEGIN:STANDARD
TZOFFSETFROM:+0200
TZOFFSETTO:+0100
TZNAME:CET
DTSTART:19701025T030000
RRULE:FREQ=YEARLY;INTERVAL=1;BYDAY=-1SU;BYMONTH=10
END:STANDARD
END:VTIMEZONE
BEGIN:VEVENT
DTSTAMP:20260421T022733
DTSTART;TZID=Europe/Berlin:20260922T172000
DTEND;TZID=Europe/Berlin:20260922T182000
UID:W33560722-20260922T172000@VHSBÖBLINGEN-SINDELFINGEN
SUMMARY: Rückenfit - Wirbelsäulengymnastik (W33560722) 
LOCATION:MA, Neues Schulhaus, Gymnastikraum, EG, Neue Stuttgarter Str. 1, 71106 Magstadt
END:VEVENT
BEGIN:VEVENT
DTSTAMP:20260421T022733
DTSTART;TZID=Europe/Berlin:20260929T172000
DTEND;TZID=Europe/Berlin:20260929T182000
UID:W33560722-20260929T172000@VHSBÖBLINGEN-SINDELFINGEN
SUMMARY: Rückenfit - Wirbelsäulengymnastik (W33560722) 
LOCATION:MA, Neues Schulhaus, Gymnastikraum, EG, Neue Stuttgarter Str. 1, 71106 Magstadt
END:VEVENT
BEGIN:VEVENT
DTSTAMP:20260421T022733
DTSTART;TZID=Europe/Berlin:20261006T172000
DTEND;TZID=Europe/Berlin:20261006T182000
UID:W33560722-20261006T172000@VHSBÖBLINGEN-SINDELFINGEN
SUMMARY: Rückenfit - Wirbelsäulengymnastik (W33560722) 
LOCATION:MA, Neues Schulhaus, Gymnastikraum, EG, Neue Stuttgarter Str. 1, 71106 Magstadt
END:VEVENT
BEGIN:VEVENT
DTSTAMP:20260421T022733
DTSTART;TZID=Europe/Berlin:20261013T172000
DTEND;TZID=Europe/Berlin:20261013T182000
UID:W33560722-20261013T172000@VHSBÖBLINGEN-SINDELFINGEN
SUMMARY: Rückenfit - Wirbelsäulengymnastik (W33560722) 
LOCATION:MA, Neues Schulhaus, Gymnastikraum, EG, Neue Stuttgarter Str. 1, 71106 Magstadt
END:VEVENT
BEGIN:VEVENT
DTSTAMP:20260421T022733
DTSTART;TZID=Europe/Berlin:20261020T172000
DTEND;TZID=Europe/Berlin:20261020T182000
UID:W33560722-20261020T172000@VHSBÖBLINGEN-SINDELFINGEN
SUMMARY: Rückenfit - Wirbelsäulengymnastik (W33560722) 
LOCATION:MA, Neues Schulhaus, Gymnastikraum, EG, Neue Stuttgarter Str. 1, 71106 Magstadt
END:VEVENT
BEGIN:VEVENT
DTSTAMP:20260421T022733
DTSTART;TZID=Europe/Berlin:20261103T172000
DTEND;TZID=Europe/Berlin:20261103T182000
UID:W33560722-20261103T172000@VHSBÖBLINGEN-SINDELFINGEN
SUMMARY: Rückenfit - Wirbelsäulengymnastik (W33560722) 
LOCATION:MA, Neues Schulhaus, Gymnastikraum, EG, Neue Stuttgarter Str. 1, 71106 Magstadt
END:VEVENT
BEGIN:VEVENT
DTSTAMP:20260421T022733
DTSTART;TZID=Europe/Berlin:20261110T172000
DTEND;TZID=Europe/Berlin:20261110T182000
UID:W33560722-20261110T172000@VHSBÖBLINGEN-SINDELFINGEN
SUMMARY: Rückenfit - Wirbelsäulengymnastik (W33560722) 
LOCATION:MA, Neues Schulhaus, Gymnastikraum, EG, Neue Stuttgarter Str. 1, 71106 Magstadt
END:VEVENT
BEGIN:VEVENT
DTSTAMP:20260421T022733
DTSTART;TZID=Europe/Berlin:20261117T172000
DTEND;TZID=Europe/Berlin:20261117T182000
UID:W33560722-20261117T172000@VHSBÖBLINGEN-SINDELFINGEN
SUMMARY: Rückenfit - Wirbelsäulengymnastik (W33560722) 
LOCATION:MA, Neues Schulhaus, Gymnastikraum, EG, Neue Stuttgarter Str. 1, 71106 Magstadt
END:VEVENT
BEGIN:VEVENT
DTSTAMP:20260421T022733
DTSTART;TZID=Europe/Berlin:20261124T172000
DTEND;TZID=Europe/Berlin:20261124T182000
UID:W33560722-20261124T172000@VHSBÖBLINGEN-SINDELFINGEN
SUMMARY: Rückenfit - Wirbelsäulengymnastik (W33560722) 
LOCATION:MA, Neues Schulhaus, Gymnastikraum, EG, Neue Stuttgarter Str. 1, 71106 Magstadt
END:VEVENT
BEGIN:VEVENT
DTSTAMP:20260421T022733
DTSTART;TZID=Europe/Berlin:20261201T172000
DTEND;TZID=Europe/Berlin:20261201T182000
UID:W33560722-20261201T172000@VHSBÖBLINGEN-SINDELFINGEN
SUMMARY: Rückenfit - Wirbelsäulengymnastik (W33560722) 
LOCATION:MA, Neues Schulhaus, Gymnastikraum, EG, Neue Stuttgarter Str. 1, 71106 Magstadt
END:VEVENT
BEGIN:VEVENT
DTSTAMP:20260421T022733
DTSTART;TZID=Europe/Berlin:20261208T172000
DTEND;TZID=Europe/Berlin:20261208T182000
UID:W33560722-20261208T172000@VHSBÖBLINGEN-SINDELFINGEN
SUMMARY: Rückenfit - Wirbelsäulengymnastik (W33560722) 
LOCATION:MA, Neues Schulhaus, Gymnastikraum, EG, Neue Stuttgarter Str. 1, 71106 Magstadt
END:VEVENT
BEGIN:VEVENT
DTSTAMP:20260421T022733
DTSTART;TZID=Europe/Berlin:20261215T172000
DTEND;TZID=Europe/Berlin:20261215T182000
UID:W33560722-20261215T172000@VHSBÖBLINGEN-SINDELFINGEN
SUMMARY: Rückenfit - Wirbelsäulengymnastik (W33560722) 
LOCATION:MA, Neues Schulhaus, Gymnastikraum, EG, Neue Stuttgarter Str. 1, 71106 Magstadt
END:VEVENT
BEGIN:VEVENT
DTSTAMP:20260421T022733
DTSTART;TZID=Europe/Berlin:20261222T172000
DTEND;TZID=Europe/Berlin:20261222T182000
UID:W33560722-20261222T172000@VHSBÖBLINGEN-SINDELFINGEN
SUMMARY: Rückenfit - Wirbelsäulengymnastik (W33560722) 
LOCATION:MA, Neues Schulhaus, Gymnastikraum, EG, Neue Stuttgarter Str. 1, 71106 Magstadt
END:VEVENT
BEGIN:VEVENT
DTSTAMP:20260421T022733
DTSTART;TZID=Europe/Berlin:20270112T172000
DTEND;TZID=Europe/Berlin:20270112T182000
UID:W33560722-20270112T172000@VHSBÖBLINGEN-SINDELFINGEN
SUMMARY: Rückenfit - Wirbelsäulengymnastik (W33560722) 
LOCATION:MA, Neues Schulhaus, Gymnastikraum, EG, Neue Stuttgarter Str. 1, 71106 Magstadt
END:VEVENT
BEGIN:VEVENT
DTSTAMP:20260421T022733
DTSTART;TZID=Europe/Berlin:20270119T172000
DTEND;TZID=Europe/Berlin:20270119T182000
UID:W33560722-20270119T172000@VHSBÖBLINGEN-SINDELFINGEN
SUMMARY: Rückenfit - Wirbelsäulengymnastik (W33560722) 
LOCATION:MA, Neues Schulhaus, Gymnastikraum, EG, Neue Stuttgarter Str. 1, 71106 Magstadt
END:VEVENT
END:VCALENDAR