BEGIN:VCALENDAR
VERSION:2.0
PRODID:https://www.kufer.de/kuferweb / DE
METHOD:PUBLISH
CALSCALE:GREGORIAN
X-WR-TIMEZONE:Europe/Berlin
BEGIN:VTIMEZONE
TZID:Europe/Berlin
X-LIC-LOCATION:Europe/Berlin
BEGIN:DAYLIGHT
TZOFFSETFROM:+0100
TZOFFSETTO:+0200
TZNAME:CEST
DTSTART:19700329T020000
RRULE:FREQ=YEARLY;INTERVAL=1;BYDAY=-1SU;BYMONTH=3
END:DAYLIGHT
BEGIN:STANDARD
TZOFFSETFROM:+0200
TZOFFSETTO:+0100
TZNAME:CET
DTSTART:19701025T030000
RRULE:FREQ=YEARLY;INTERVAL=1;BYDAY=-1SU;BYMONTH=10
END:STANDARD
END:VTIMEZONE
BEGIN:VEVENT
DTSTAMP:20260420T181555
DTSTART;TZID=Europe/Berlin:20260921T174500
DTEND;TZID=Europe/Berlin:20260921T184500
UID:W33560422-20260921T174500@VHSBÖBLINGEN-SINDELFINGEN
SUMMARY:Rückenfit - Wirbelsäulengymnastik (W33560422) 
LOCATION:MA, Neues Schulhaus, Gymnastikraum, EG, Neue Stuttgarter Str. 1, 71106 Magstadt
END:VEVENT
BEGIN:VEVENT
DTSTAMP:20260420T181555
DTSTART;TZID=Europe/Berlin:20260928T174500
DTEND;TZID=Europe/Berlin:20260928T184500
UID:W33560422-20260928T174500@VHSBÖBLINGEN-SINDELFINGEN
SUMMARY:Rückenfit - Wirbelsäulengymnastik (W33560422) 
LOCATION:MA, Neues Schulhaus, Gymnastikraum, EG, Neue Stuttgarter Str. 1, 71106 Magstadt
END:VEVENT
BEGIN:VEVENT
DTSTAMP:20260420T181555
DTSTART;TZID=Europe/Berlin:20261005T174500
DTEND;TZID=Europe/Berlin:20261005T184500
UID:W33560422-20261005T174500@VHSBÖBLINGEN-SINDELFINGEN
SUMMARY:Rückenfit - Wirbelsäulengymnastik (W33560422) 
LOCATION:MA, Neues Schulhaus, Gymnastikraum, EG, Neue Stuttgarter Str. 1, 71106 Magstadt
END:VEVENT
BEGIN:VEVENT
DTSTAMP:20260420T181555
DTSTART;TZID=Europe/Berlin:20261012T174500
DTEND;TZID=Europe/Berlin:20261012T184500
UID:W33560422-20261012T174500@VHSBÖBLINGEN-SINDELFINGEN
SUMMARY:Rückenfit - Wirbelsäulengymnastik (W33560422) 
LOCATION:MA, Neues Schulhaus, Gymnastikraum, EG, Neue Stuttgarter Str. 1, 71106 Magstadt
END:VEVENT
BEGIN:VEVENT
DTSTAMP:20260420T181555
DTSTART;TZID=Europe/Berlin:20261019T174500
DTEND;TZID=Europe/Berlin:20261019T184500
UID:W33560422-20261019T174500@VHSBÖBLINGEN-SINDELFINGEN
SUMMARY:Rückenfit - Wirbelsäulengymnastik (W33560422) 
LOCATION:MA, Neues Schulhaus, Gymnastikraum, EG, Neue Stuttgarter Str. 1, 71106 Magstadt
END:VEVENT
BEGIN:VEVENT
DTSTAMP:20260420T181555
DTSTART;TZID=Europe/Berlin:20261102T174500
DTEND;TZID=Europe/Berlin:20261102T184500
UID:W33560422-20261102T174500@VHSBÖBLINGEN-SINDELFINGEN
SUMMARY:Rückenfit - Wirbelsäulengymnastik (W33560422) 
LOCATION:MA, Neues Schulhaus, Gymnastikraum, EG, Neue Stuttgarter Str. 1, 71106 Magstadt
END:VEVENT
BEGIN:VEVENT
DTSTAMP:20260420T181555
DTSTART;TZID=Europe/Berlin:20261109T174500
DTEND;TZID=Europe/Berlin:20261109T184500
UID:W33560422-20261109T174500@VHSBÖBLINGEN-SINDELFINGEN
SUMMARY:Rückenfit - Wirbelsäulengymnastik (W33560422) 
LOCATION:MA, Neues Schulhaus, Gymnastikraum, EG, Neue Stuttgarter Str. 1, 71106 Magstadt
END:VEVENT
BEGIN:VEVENT
DTSTAMP:20260420T181555
DTSTART;TZID=Europe/Berlin:20261116T174500
DTEND;TZID=Europe/Berlin:20261116T184500
UID:W33560422-20261116T174500@VHSBÖBLINGEN-SINDELFINGEN
SUMMARY:Rückenfit - Wirbelsäulengymnastik (W33560422) 
LOCATION:MA, Neues Schulhaus, Gymnastikraum, EG, Neue Stuttgarter Str. 1, 71106 Magstadt
END:VEVENT
BEGIN:VEVENT
DTSTAMP:20260420T181555
DTSTART;TZID=Europe/Berlin:20261123T174500
DTEND;TZID=Europe/Berlin:20261123T184500
UID:W33560422-20261123T174500@VHSBÖBLINGEN-SINDELFINGEN
SUMMARY:Rückenfit - Wirbelsäulengymnastik (W33560422) 
LOCATION:MA, Neues Schulhaus, Gymnastikraum, EG, Neue Stuttgarter Str. 1, 71106 Magstadt
END:VEVENT
BEGIN:VEVENT
DTSTAMP:20260420T181555
DTSTART;TZID=Europe/Berlin:20261130T174500
DTEND;TZID=Europe/Berlin:20261130T184500
UID:W33560422-20261130T174500@VHSBÖBLINGEN-SINDELFINGEN
SUMMARY:Rückenfit - Wirbelsäulengymnastik (W33560422) 
LOCATION:MA, Neues Schulhaus, Gymnastikraum, EG, Neue Stuttgarter Str. 1, 71106 Magstadt
END:VEVENT
BEGIN:VEVENT
DTSTAMP:20260420T181555
DTSTART;TZID=Europe/Berlin:20261207T174500
DTEND;TZID=Europe/Berlin:20261207T184500
UID:W33560422-20261207T174500@VHSBÖBLINGEN-SINDELFINGEN
SUMMARY:Rückenfit - Wirbelsäulengymnastik (W33560422) 
LOCATION:MA, Neues Schulhaus, Gymnastikraum, EG, Neue Stuttgarter Str. 1, 71106 Magstadt
END:VEVENT
BEGIN:VEVENT
DTSTAMP:20260420T181555
DTSTART;TZID=Europe/Berlin:20261214T174500
DTEND;TZID=Europe/Berlin:20261214T184500
UID:W33560422-20261214T174500@VHSBÖBLINGEN-SINDELFINGEN
SUMMARY:Rückenfit - Wirbelsäulengymnastik (W33560422) 
LOCATION:MA, Neues Schulhaus, Gymnastikraum, EG, Neue Stuttgarter Str. 1, 71106 Magstadt
END:VEVENT
BEGIN:VEVENT
DTSTAMP:20260420T181555
DTSTART;TZID=Europe/Berlin:20261221T174500
DTEND;TZID=Europe/Berlin:20261221T184500
UID:W33560422-20261221T174500@VHSBÖBLINGEN-SINDELFINGEN
SUMMARY:Rückenfit - Wirbelsäulengymnastik (W33560422) 
LOCATION:MA, Neues Schulhaus, Gymnastikraum, EG, Neue Stuttgarter Str. 1, 71106 Magstadt
END:VEVENT
BEGIN:VEVENT
DTSTAMP:20260420T181555
DTSTART;TZID=Europe/Berlin:20270111T174500
DTEND;TZID=Europe/Berlin:20270111T184500
UID:W33560422-20270111T174500@VHSBÖBLINGEN-SINDELFINGEN
SUMMARY:Rückenfit - Wirbelsäulengymnastik (W33560422) 
LOCATION:MA, Neues Schulhaus, Gymnastikraum, EG, Neue Stuttgarter Str. 1, 71106 Magstadt
END:VEVENT
BEGIN:VEVENT
DTSTAMP:20260420T181555
DTSTART;TZID=Europe/Berlin:20270118T174500
DTEND;TZID=Europe/Berlin:20270118T184500
UID:W33560422-20270118T174500@VHSBÖBLINGEN-SINDELFINGEN
SUMMARY:Rückenfit - Wirbelsäulengymnastik (W33560422) 
LOCATION:MA, Neues Schulhaus, Gymnastikraum, EG, Neue Stuttgarter Str. 1, 71106 Magstadt
END:VEVENT
END:VCALENDAR