BEGIN:VCALENDAR
VERSION:2.0
PRODID:https://www.kufer.de/kuferweb / DE
METHOD:PUBLISH
CALSCALE:GREGORIAN
X-WR-TIMEZONE:Europe/Berlin
BEGIN:VTIMEZONE
TZID:Europe/Berlin
X-LIC-LOCATION:Europe/Berlin
BEGIN:DAYLIGHT
TZOFFSETFROM:+0100
TZOFFSETTO:+0200
TZNAME:CEST
DTSTART:19700329T020000
RRULE:FREQ=YEARLY;INTERVAL=1;BYDAY=-1SU;BYMONTH=3
END:DAYLIGHT
BEGIN:STANDARD
TZOFFSETFROM:+0200
TZOFFSETTO:+0100
TZNAME:CET
DTSTART:19701025T030000
RRULE:FREQ=YEARLY;INTERVAL=1;BYDAY=-1SU;BYMONTH=10
END:STANDARD
END:VTIMEZONE
BEGIN:VEVENT
DTSTAMP:20260421T055907
DTSTART;TZID=Europe/Berlin:20260921T090000
DTEND;TZID=Europe/Berlin:20260921T100000
UID:W33560222-20260921T090000@VHSBÖBLINGEN-SINDELFINGEN
SUMMARY:Rückenfit - Wirbelsäulengymnastik (W33560222) 
LOCATION:MA, Neues Schulhaus, Gymnastikraum, EG, Neue Stuttgarter Str. 1, 71106 Magstadt
END:VEVENT
BEGIN:VEVENT
DTSTAMP:20260421T055907
DTSTART;TZID=Europe/Berlin:20260928T090000
DTEND;TZID=Europe/Berlin:20260928T100000
UID:W33560222-20260928T090000@VHSBÖBLINGEN-SINDELFINGEN
SUMMARY:Rückenfit - Wirbelsäulengymnastik (W33560222) 
LOCATION:MA, Neues Schulhaus, Gymnastikraum, EG, Neue Stuttgarter Str. 1, 71106 Magstadt
END:VEVENT
BEGIN:VEVENT
DTSTAMP:20260421T055907
DTSTART;TZID=Europe/Berlin:20261005T090000
DTEND;TZID=Europe/Berlin:20261005T100000
UID:W33560222-20261005T090000@VHSBÖBLINGEN-SINDELFINGEN
SUMMARY:Rückenfit - Wirbelsäulengymnastik (W33560222) 
LOCATION:MA, Neues Schulhaus, Gymnastikraum, EG, Neue Stuttgarter Str. 1, 71106 Magstadt
END:VEVENT
BEGIN:VEVENT
DTSTAMP:20260421T055907
DTSTART;TZID=Europe/Berlin:20261012T090000
DTEND;TZID=Europe/Berlin:20261012T100000
UID:W33560222-20261012T090000@VHSBÖBLINGEN-SINDELFINGEN
SUMMARY:Rückenfit - Wirbelsäulengymnastik (W33560222) 
LOCATION:MA, Neues Schulhaus, Gymnastikraum, EG, Neue Stuttgarter Str. 1, 71106 Magstadt
END:VEVENT
BEGIN:VEVENT
DTSTAMP:20260421T055907
DTSTART;TZID=Europe/Berlin:20261019T090000
DTEND;TZID=Europe/Berlin:20261019T100000
UID:W33560222-20261019T090000@VHSBÖBLINGEN-SINDELFINGEN
SUMMARY:Rückenfit - Wirbelsäulengymnastik (W33560222) 
LOCATION:MA, Neues Schulhaus, Gymnastikraum, EG, Neue Stuttgarter Str. 1, 71106 Magstadt
END:VEVENT
BEGIN:VEVENT
DTSTAMP:20260421T055907
DTSTART;TZID=Europe/Berlin:20261102T090000
DTEND;TZID=Europe/Berlin:20261102T100000
UID:W33560222-20261102T090000@VHSBÖBLINGEN-SINDELFINGEN
SUMMARY:Rückenfit - Wirbelsäulengymnastik (W33560222) 
LOCATION:MA, Neues Schulhaus, Gymnastikraum, EG, Neue Stuttgarter Str. 1, 71106 Magstadt
END:VEVENT
BEGIN:VEVENT
DTSTAMP:20260421T055907
DTSTART;TZID=Europe/Berlin:20261109T090000
DTEND;TZID=Europe/Berlin:20261109T100000
UID:W33560222-20261109T090000@VHSBÖBLINGEN-SINDELFINGEN
SUMMARY:Rückenfit - Wirbelsäulengymnastik (W33560222) 
LOCATION:MA, Neues Schulhaus, Gymnastikraum, EG, Neue Stuttgarter Str. 1, 71106 Magstadt
END:VEVENT
BEGIN:VEVENT
DTSTAMP:20260421T055907
DTSTART;TZID=Europe/Berlin:20261116T090000
DTEND;TZID=Europe/Berlin:20261116T100000
UID:W33560222-20261116T090000@VHSBÖBLINGEN-SINDELFINGEN
SUMMARY:Rückenfit - Wirbelsäulengymnastik (W33560222) 
LOCATION:MA, Neues Schulhaus, Gymnastikraum, EG, Neue Stuttgarter Str. 1, 71106 Magstadt
END:VEVENT
BEGIN:VEVENT
DTSTAMP:20260421T055907
DTSTART;TZID=Europe/Berlin:20261123T090000
DTEND;TZID=Europe/Berlin:20261123T100000
UID:W33560222-20261123T090000@VHSBÖBLINGEN-SINDELFINGEN
SUMMARY:Rückenfit - Wirbelsäulengymnastik (W33560222) 
LOCATION:MA, Neues Schulhaus, Gymnastikraum, EG, Neue Stuttgarter Str. 1, 71106 Magstadt
END:VEVENT
BEGIN:VEVENT
DTSTAMP:20260421T055907
DTSTART;TZID=Europe/Berlin:20261130T090000
DTEND;TZID=Europe/Berlin:20261130T100000
UID:W33560222-20261130T090000@VHSBÖBLINGEN-SINDELFINGEN
SUMMARY:Rückenfit - Wirbelsäulengymnastik (W33560222) 
LOCATION:MA, Neues Schulhaus, Gymnastikraum, EG, Neue Stuttgarter Str. 1, 71106 Magstadt
END:VEVENT
BEGIN:VEVENT
DTSTAMP:20260421T055907
DTSTART;TZID=Europe/Berlin:20261207T090000
DTEND;TZID=Europe/Berlin:20261207T100000
UID:W33560222-20261207T090000@VHSBÖBLINGEN-SINDELFINGEN
SUMMARY:Rückenfit - Wirbelsäulengymnastik (W33560222) 
LOCATION:MA, Neues Schulhaus, Gymnastikraum, EG, Neue Stuttgarter Str. 1, 71106 Magstadt
END:VEVENT
BEGIN:VEVENT
DTSTAMP:20260421T055907
DTSTART;TZID=Europe/Berlin:20261214T090000
DTEND;TZID=Europe/Berlin:20261214T100000
UID:W33560222-20261214T090000@VHSBÖBLINGEN-SINDELFINGEN
SUMMARY:Rückenfit - Wirbelsäulengymnastik (W33560222) 
LOCATION:MA, Neues Schulhaus, Gymnastikraum, EG, Neue Stuttgarter Str. 1, 71106 Magstadt
END:VEVENT
BEGIN:VEVENT
DTSTAMP:20260421T055907
DTSTART;TZID=Europe/Berlin:20261221T090000
DTEND;TZID=Europe/Berlin:20261221T100000
UID:W33560222-20261221T090000@VHSBÖBLINGEN-SINDELFINGEN
SUMMARY:Rückenfit - Wirbelsäulengymnastik (W33560222) 
LOCATION:MA, Neues Schulhaus, Gymnastikraum, EG, Neue Stuttgarter Str. 1, 71106 Magstadt
END:VEVENT
BEGIN:VEVENT
DTSTAMP:20260421T055907
DTSTART;TZID=Europe/Berlin:20270111T090000
DTEND;TZID=Europe/Berlin:20270111T100000
UID:W33560222-20270111T090000@VHSBÖBLINGEN-SINDELFINGEN
SUMMARY:Rückenfit - Wirbelsäulengymnastik (W33560222) 
LOCATION:MA, Neues Schulhaus, Gymnastikraum, EG, Neue Stuttgarter Str. 1, 71106 Magstadt
END:VEVENT
BEGIN:VEVENT
DTSTAMP:20260421T055907
DTSTART;TZID=Europe/Berlin:20270118T090000
DTEND;TZID=Europe/Berlin:20270118T100000
UID:W33560222-20270118T090000@VHSBÖBLINGEN-SINDELFINGEN
SUMMARY:Rückenfit - Wirbelsäulengymnastik (W33560222) 
LOCATION:MA, Neues Schulhaus, Gymnastikraum, EG, Neue Stuttgarter Str. 1, 71106 Magstadt
END:VEVENT
END:VCALENDAR