BEGIN:VCALENDAR
VERSION:2.0
PRODID:https://www.kufer.de/kuferweb / DE
METHOD:PUBLISH
CALSCALE:GREGORIAN
X-WR-TIMEZONE:Europe/Berlin
BEGIN:VTIMEZONE
TZID:Europe/Berlin
X-LIC-LOCATION:Europe/Berlin
BEGIN:DAYLIGHT
TZOFFSETFROM:+0100
TZOFFSETTO:+0200
TZNAME:CEST
DTSTART:19700329T020000
RRULE:FREQ=YEARLY;INTERVAL=1;BYDAY=-1SU;BYMONTH=3
END:DAYLIGHT
BEGIN:STANDARD
TZOFFSETFROM:+0200
TZOFFSETTO:+0100
TZNAME:CET
DTSTART:19701025T030000
RRULE:FREQ=YEARLY;INTERVAL=1;BYDAY=-1SU;BYMONTH=10
END:STANDARD
END:VTIMEZONE
BEGIN:VEVENT
DTSTAMP:20260421T194212
DTSTART;TZID=Europe/Berlin:20260923T193000
DTEND;TZID=Europe/Berlin:20260923T203000
UID:W33560061-20260923T193000@VHSBÖBLINGEN-SINDELFINGEN
SUMMARY:Rückengymnastik (W33560061) 
LOCATION:WE, GMS, Aula, In der Röte 92, 71093 Weil im Schönbuch
END:VEVENT
BEGIN:VEVENT
DTSTAMP:20260421T194212
DTSTART;TZID=Europe/Berlin:20260930T193000
DTEND;TZID=Europe/Berlin:20260930T203000
UID:W33560061-20260930T193000@VHSBÖBLINGEN-SINDELFINGEN
SUMMARY:Rückengymnastik (W33560061) 
LOCATION:WE, GMS, Aula, In der Röte 92, 71093 Weil im Schönbuch
END:VEVENT
BEGIN:VEVENT
DTSTAMP:20260421T194212
DTSTART;TZID=Europe/Berlin:20261007T193000
DTEND;TZID=Europe/Berlin:20261007T203000
UID:W33560061-20261007T193000@VHSBÖBLINGEN-SINDELFINGEN
SUMMARY:Rückengymnastik (W33560061) 
LOCATION:WE, GMS, Aula, In der Röte 92, 71093 Weil im Schönbuch
END:VEVENT
BEGIN:VEVENT
DTSTAMP:20260421T194212
DTSTART;TZID=Europe/Berlin:20261014T193000
DTEND;TZID=Europe/Berlin:20261014T203000
UID:W33560061-20261014T193000@VHSBÖBLINGEN-SINDELFINGEN
SUMMARY:Rückengymnastik (W33560061) 
LOCATION:WE, GMS, Aula, In der Röte 92, 71093 Weil im Schönbuch
END:VEVENT
BEGIN:VEVENT
DTSTAMP:20260421T194212
DTSTART;TZID=Europe/Berlin:20261021T193000
DTEND;TZID=Europe/Berlin:20261021T203000
UID:W33560061-20261021T193000@VHSBÖBLINGEN-SINDELFINGEN
SUMMARY:Rückengymnastik (W33560061) 
LOCATION:WE, GMS, Aula, In der Röte 92, 71093 Weil im Schönbuch
END:VEVENT
BEGIN:VEVENT
DTSTAMP:20260421T194212
DTSTART;TZID=Europe/Berlin:20261104T193000
DTEND;TZID=Europe/Berlin:20261104T203000
UID:W33560061-20261104T193000@VHSBÖBLINGEN-SINDELFINGEN
SUMMARY:Rückengymnastik (W33560061) 
LOCATION:WE, GMS, Aula, In der Röte 92, 71093 Weil im Schönbuch
END:VEVENT
BEGIN:VEVENT
DTSTAMP:20260421T194212
DTSTART;TZID=Europe/Berlin:20261111T193000
DTEND;TZID=Europe/Berlin:20261111T203000
UID:W33560061-20261111T193000@VHSBÖBLINGEN-SINDELFINGEN
SUMMARY:Rückengymnastik (W33560061) 
LOCATION:WE, GMS, Aula, In der Röte 92, 71093 Weil im Schönbuch
END:VEVENT
BEGIN:VEVENT
DTSTAMP:20260421T194212
DTSTART;TZID=Europe/Berlin:20261118T193000
DTEND;TZID=Europe/Berlin:20261118T203000
UID:W33560061-20261118T193000@VHSBÖBLINGEN-SINDELFINGEN
SUMMARY:Rückengymnastik (W33560061) 
LOCATION:WE, GMS, Aula, In der Röte 92, 71093 Weil im Schönbuch
END:VEVENT
BEGIN:VEVENT
DTSTAMP:20260421T194212
DTSTART;TZID=Europe/Berlin:20261125T193000
DTEND;TZID=Europe/Berlin:20261125T203000
UID:W33560061-20261125T193000@VHSBÖBLINGEN-SINDELFINGEN
SUMMARY:Rückengymnastik (W33560061) 
LOCATION:WE, GMS, Aula, In der Röte 92, 71093 Weil im Schönbuch
END:VEVENT
BEGIN:VEVENT
DTSTAMP:20260421T194212
DTSTART;TZID=Europe/Berlin:20261202T193000
DTEND;TZID=Europe/Berlin:20261202T203000
UID:W33560061-20261202T193000@VHSBÖBLINGEN-SINDELFINGEN
SUMMARY:Rückengymnastik (W33560061) 
LOCATION:WE, GMS, Aula, In der Röte 92, 71093 Weil im Schönbuch
END:VEVENT
BEGIN:VEVENT
DTSTAMP:20260421T194212
DTSTART;TZID=Europe/Berlin:20261209T193000
DTEND;TZID=Europe/Berlin:20261209T203000
UID:W33560061-20261209T193000@VHSBÖBLINGEN-SINDELFINGEN
SUMMARY:Rückengymnastik (W33560061) 
LOCATION:WE, GMS, Aula, In der Röte 92, 71093 Weil im Schönbuch
END:VEVENT
BEGIN:VEVENT
DTSTAMP:20260421T194212
DTSTART;TZID=Europe/Berlin:20261216T193000
DTEND;TZID=Europe/Berlin:20261216T203000
UID:W33560061-20261216T193000@VHSBÖBLINGEN-SINDELFINGEN
SUMMARY:Rückengymnastik (W33560061) 
LOCATION:WE, GMS, Aula, In der Röte 92, 71093 Weil im Schönbuch
END:VEVENT
BEGIN:VEVENT
DTSTAMP:20260421T194212
DTSTART;TZID=Europe/Berlin:20270113T193000
DTEND;TZID=Europe/Berlin:20270113T203000
UID:W33560061-20270113T193000@VHSBÖBLINGEN-SINDELFINGEN
SUMMARY:Rückengymnastik (W33560061) 
LOCATION:WE, GMS, Aula, In der Röte 92, 71093 Weil im Schönbuch
END:VEVENT
BEGIN:VEVENT
DTSTAMP:20260421T194212
DTSTART;TZID=Europe/Berlin:20270120T193000
DTEND;TZID=Europe/Berlin:20270120T203000
UID:W33560061-20270120T193000@VHSBÖBLINGEN-SINDELFINGEN
SUMMARY:Rückengymnastik (W33560061) 
LOCATION:WE, GMS, Aula, In der Röte 92, 71093 Weil im Schönbuch
END:VEVENT
BEGIN:VEVENT
DTSTAMP:20260421T194212
DTSTART;TZID=Europe/Berlin:20270127T193000
DTEND;TZID=Europe/Berlin:20270127T203000
UID:W33560061-20270127T193000@VHSBÖBLINGEN-SINDELFINGEN
SUMMARY:Rückengymnastik (W33560061) 
LOCATION:WE, GMS, Aula, In der Röte 92, 71093 Weil im Schönbuch
END:VEVENT
BEGIN:VEVENT
DTSTAMP:20260421T194212
DTSTART;TZID=Europe/Berlin:20270203T193000
DTEND;TZID=Europe/Berlin:20270203T203000
UID:W33560061-20270203T193000@VHSBÖBLINGEN-SINDELFINGEN
SUMMARY:Rückengymnastik (W33560061) 
LOCATION:WE, GMS, Aula, In der Röte 92, 71093 Weil im Schönbuch
END:VEVENT
END:VCALENDAR